BEGIN:VCALENDAR
VERSION:2.0
BEGIN:VEVENT
CATEGORIES:HOCKEY GAME
SUMMARY:Pylons vs Other Team
LOCATION:OLY
DESCRIPTION;ENCODING=QUOTED-PRINTABLE:Easy Street Area=0D=0A2014 Summer=0D=0ADivision 6=0D=0APylons vs Other Team
DTEND:20140316T193000
DTSTAMP:20260422T124900
DTSTART:20140316T180000
END:VEVENT
BEGIN:VEVENT
CATEGORIES:HOCKEY GAME
SUMMARY:Pylons at Lightning
LOCATION:OLY
DESCRIPTION;ENCODING=QUOTED-PRINTABLE:Easy Street Area=0D=0A2014 Summer=0D=0ADivision 6=0D=0APylons at Lightning
DTEND:20140323T210000
DTSTAMP:20260422T124900
DTSTART:20140323T193000
END:VEVENT
BEGIN:VEVENT
CATEGORIES:HOCKEY GAME
SUMMARY:Pylons at South Puck Two
LOCATION:OLY
DESCRIPTION;ENCODING=QUOTED-PRINTABLE:Easy Street Area=0D=0A2014 Summer=0D=0ADivision 6=0D=0APylons at South Puck Two
DTEND:20140330T180000
DTSTAMP:20260422T124900
DTSTART:20140330T163000
END:VEVENT
BEGIN:VEVENT
CATEGORIES:HOCKEY GAME
SUMMARY:Pylons vs Puck Buddies
LOCATION:NHL
DESCRIPTION;ENCODING=QUOTED-PRINTABLE:Easy Street Area=0D=0A2014 Summer=0D=0ADivision 6=0D=0APylons vs Puck Buddies
DTEND:20140406T233000
DTSTAMP:20260422T124900
DTSTART:20140406T220000
END:VEVENT
BEGIN:VEVENT
CATEGORIES:HOCKEY GAME
SUMMARY:Pylons vs Benders
LOCATION:NHL
DESCRIPTION;ENCODING=QUOTED-PRINTABLE:Easy Street Area=0D=0A2014 Summer=0D=0ADivision 6=0D=0APylons vs Benders
DTEND:20140413T220000
DTSTAMP:20260422T124900
DTSTART:20140413T203000
END:VEVENT
BEGIN:VEVENT
CATEGORIES:HOCKEY GAME
SUMMARY:Pylons vs Lightning
LOCATION:NHL
DESCRIPTION;ENCODING=QUOTED-PRINTABLE:Easy Street Area=0D=0A2014 Summer=0D=0ADivision 6=0D=0APylons vs Lightning
DTEND:20140420T173000
DTSTAMP:20260422T124900
DTSTART:20140420T160000
END:VEVENT
BEGIN:VEVENT
CATEGORIES:HOCKEY GAME
SUMMARY:Pylons at Acme Warriors
LOCATION:OLY
DESCRIPTION;ENCODING=QUOTED-PRINTABLE:Easy Street Area=0D=0A2014 Summer=0D=0ADivision 6=0D=0APylons at Acme Warriors
DTEND:20140427T210000
DTSTAMP:20260422T124900
DTSTART:20140427T193000
END:VEVENT
BEGIN:VEVENT
CATEGORIES:HOCKEY GAME
SUMMARY:Pylons at South Puck Two
LOCATION:OLY
DESCRIPTION;ENCODING=QUOTED-PRINTABLE:Easy Street Area=0D=0A2014 Summer=0D=0ADivision 6=0D=0APylons at South Puck Two
DTEND:20140504T223000
DTSTAMP:20260422T124900
DTSTART:20140504T210000
END:VEVENT
BEGIN:VEVENT
CATEGORIES:HOCKEY GAME
SUMMARY:Pylons at Puck Buddies
LOCATION:NHL
DESCRIPTION;ENCODING=QUOTED-PRINTABLE:Easy Street Area=0D=0A2014 Summer=0D=0ADivision 6=0D=0APylons at Puck Buddies
DTEND:20140518T173000
DTSTAMP:20260422T124900
DTSTART:20140518T160000
END:VEVENT
BEGIN:VEVENT
CATEGORIES:HOCKEY GAME
SUMMARY:Pylons at Lightning
LOCATION:OLY
DESCRIPTION;ENCODING=QUOTED-PRINTABLE:Easy Street Area=0D=0A2014 Summer=0D=0ADivision 6=0D=0APylons at Lightning
DTEND:20140601T193000
DTSTAMP:20260422T124900
DTSTART:20140601T180000
END:VEVENT
BEGIN:VEVENT
CATEGORIES:HOCKEY GAME
SUMMARY:Pylons vs Acme Warriors
LOCATION:OLY
DESCRIPTION;ENCODING=QUOTED-PRINTABLE:Easy Street Area=0D=0A2014 Summer=0D=0ADivision 6=0D=0APylons vs Acme Warriors
DTEND:20140608T180000
DTSTAMP:20260422T124900
DTSTART:20140608T163000
END:VEVENT
BEGIN:VEVENT
CATEGORIES:HOCKEY GAME
SUMMARY:Pylons at South Puck Two
LOCATION:NHL
DESCRIPTION;ENCODING=QUOTED-PRINTABLE:Easy Street Area=0D=0A2014 Summer=0D=0ADivision 6=0D=0APylons at South Puck Two
DTEND:20140615T233000
DTSTAMP:20260422T124900
DTSTART:20140615T220000
END:VEVENT
BEGIN:VEVENT
CATEGORIES:HOCKEY GAME
SUMMARY:Pylons vs Puck Buddies
LOCATION:NHL
DESCRIPTION;ENCODING=QUOTED-PRINTABLE:Easy Street Area=0D=0A2014 Summer=0D=0ADivision 6=0D=0APylons vs Puck Buddies
DTEND:20140622T220000
DTSTAMP:20260422T124900
DTSTART:20140622T203000
END:VEVENT
BEGIN:VEVENT
CATEGORIES:HOCKEY GAME
SUMMARY:Pylons vs Benders
LOCATION:NHL
DESCRIPTION;ENCODING=QUOTED-PRINTABLE:Easy Street Area=0D=0A2014 Summer=0D=0ADivision 6=0D=0APylons vs Benders
DTEND:20140629T173000
DTSTAMP:20260422T124900
DTSTART:20140629T160000
END:VEVENT
BEGIN:VEVENT
CATEGORIES:HOCKEY GAME
SUMMARY:Pylons at Benders
LOCATION:NHL
DESCRIPTION;ENCODING=QUOTED-PRINTABLE:Easy Street Area=0D=0A2014 Summer=0D=0ADivision 6=0D=0APylons at Benders
DTEND:20140712T181500
DTSTAMP:20260422T124900
DTSTART:20140712T164500
END:VEVENT
BEGIN:VEVENT
CATEGORIES:HOCKEY GAME
SUMMARY:Pylons at Acme Warriors
LOCATION:OLY
DESCRIPTION;ENCODING=QUOTED-PRINTABLE:Easy Street Area=0D=0A2014 Summer=0D=0ADivision 6=0D=0APylons at Acme Warriors
DTEND:20140713T180000
DTSTAMP:20260422T124900
DTSTART:20140713T163000
END:VEVENT
BEGIN:VEVENT
CATEGORIES:HOCKEY GAME
SUMMARY:Pylons vs South Puck Two
LOCATION:NHL
DESCRIPTION;ENCODING=QUOTED-PRINTABLE:Easy Street Area=0D=0A2014 Summer=0D=0ADivision 6=0D=0APylons vs South Puck Two
DTEND:20140720T233000
DTSTAMP:20260422T124900
DTSTART:20140720T220000
END:VEVENT
BEGIN:VEVENT
CATEGORIES:HOCKEY GAME
SUMMARY:Pylons vs Puck Buddies
LOCATION:NHL
DESCRIPTION;ENCODING=QUOTED-PRINTABLE:Easy Street Area=0D=0A2014 Summer=0D=0ADivision 6=0D=0APylons vs Puck Buddies
DTEND:20140727T220000
DTSTAMP:20260422T124900
DTSTART:20140727T203000
END:VEVENT
BEGIN:VEVENT
CATEGORIES:HOCKEY GAME
SUMMARY:Pylons vs Benders
LOCATION:OLY
DESCRIPTION;ENCODING=QUOTED-PRINTABLE:Easy Street Area=0D=0A2014 Summer=0D=0ADivision 6=0D=0APylons vs Benders
DTEND:20140803T123000
DTSTAMP:20260422T124900
DTSTART:20140803T110000
END:VEVENT
BEGIN:VEVENT
CATEGORIES:HOCKEY GAME
SUMMARY:Pylons vs Lightning
LOCATION:OLY
DESCRIPTION;ENCODING=QUOTED-PRINTABLE:Easy Street Area=0D=0A2014 Summer=0D=0ADivision 6=0D=0APylons vs Lightning
DTEND:20140810T223000
DTSTAMP:20260422T124900
DTSTART:20140810T210000
END:VEVENT
END:VCALENDAR
