BEGIN:VCALENDAR
VERSION:2.0
BEGIN:VEVENT
CATEGORIES:HOCKEY GAME
SUMMARY:Benders vs Puck Buddies
LOCATION:NHL
DESCRIPTION;ENCODING=QUOTED-PRINTABLE:Easy Street Area=0D=0A2014 Summer=0D=0ADivision 6=0D=0ABenders vs Puck Buddies
DTEND:20140316T143000
DTSTAMP:20260422T111200
DTSTART:20140316T130000
END:VEVENT
BEGIN:VEVENT
CATEGORIES:HOCKEY GAME
SUMMARY:Benders at Acme Warriors
LOCATION:OLY
DESCRIPTION;ENCODING=QUOTED-PRINTABLE:Easy Street Area=0D=0A2014 Summer=0D=0ADivision 6=0D=0ABenders at Acme Warriors
DTEND:20140323T180000
DTSTAMP:20260422T111200
DTSTART:20140323T163000
END:VEVENT
BEGIN:VEVENT
CATEGORIES:HOCKEY GAME
SUMMARY:Benders at Lightning
LOCATION:OLY
DESCRIPTION;ENCODING=QUOTED-PRINTABLE:Easy Street Area=0D=0A2014 Summer=0D=0ADivision 5=0D=0ABenders at Lightning
DTEND:20140330T140000
DTSTAMP:20260422T111200
DTSTART:20140330T123000
END:VEVENT
BEGIN:VEVENT
CATEGORIES:HOCKEY GAME
SUMMARY:Benders vs Acme Warriors
LOCATION:NHL
DESCRIPTION;ENCODING=QUOTED-PRINTABLE:Easy Street Area=0D=0A2014 Summer=0D=0ADivision 6=0D=0ABenders vs Acme Warriors
DTEND:20140406T220000
DTSTAMP:20260422T111200
DTSTART:20140406T203000
END:VEVENT
BEGIN:VEVENT
CATEGORIES:HOCKEY GAME
SUMMARY:Benders at Pylons
LOCATION:NHL
DESCRIPTION;ENCODING=QUOTED-PRINTABLE:Easy Street Area=0D=0A2014 Summer=0D=0ADivision 6=0D=0ABenders at Pylons
DTEND:20140413T220000
DTSTAMP:20260422T111200
DTSTART:20140413T203000
END:VEVENT
BEGIN:VEVENT
CATEGORIES:HOCKEY GAME
SUMMARY:Benders vs Puck Buddies
LOCATION:OLY
DESCRIPTION;ENCODING=QUOTED-PRINTABLE:Easy Street Area=0D=0A2014 Summer=0D=0ADivision 6=0D=0ABenders vs Puck Buddies
DTEND:20140420T210000
DTSTAMP:20260422T111200
DTSTART:20140420T193000
END:VEVENT
BEGIN:VEVENT
CATEGORIES:HOCKEY GAME
SUMMARY:Benders at South Puck Two
LOCATION:OLY
DESCRIPTION;ENCODING=QUOTED-PRINTABLE:Easy Street Area=0D=0A2014 Summer=0D=0ADivision 6=0D=0ABenders at South Puck Two
DTEND:20140427T223000
DTSTAMP:20260422T111200
DTSTART:20140427T210000
END:VEVENT
BEGIN:VEVENT
CATEGORIES:HOCKEY GAME
SUMMARY:Benders vs Lightning
LOCATION:OLY
DESCRIPTION;ENCODING=QUOTED-PRINTABLE:Easy Street Area=0D=0A2014 Summer=0D=0ADivision 6=0D=0ABenders vs Lightning
DTEND:20140504T140000
DTSTAMP:20260422T111200
DTSTART:20140504T123000
END:VEVENT
BEGIN:VEVENT
CATEGORIES:HOCKEY GAME
SUMMARY:Benders at Acme Warriors
LOCATION:NHL
DESCRIPTION;ENCODING=QUOTED-PRINTABLE:Easy Street Area=0D=0A2014 Summer=0D=0ADivision 6=0D=0ABenders at Acme Warriors
DTEND:20140518T220000
DTSTAMP:20260422T111200
DTSTART:20140518T203000
END:VEVENT
BEGIN:VEVENT
CATEGORIES:HOCKEY GAME
SUMMARY:Benders at Puck Buddies
LOCATION:OLY
DESCRIPTION;ENCODING=QUOTED-PRINTABLE:Easy Street Area=0D=0A2014 Summer=0D=0ADivision 6=0D=0ABenders at Puck Buddies
DTEND:20140601T180000
DTSTAMP:20260422T111200
DTSTART:20140601T163000
END:VEVENT
BEGIN:VEVENT
CATEGORIES:HOCKEY GAME
SUMMARY:Benders vs South Puck Two
LOCATION:NHL
DESCRIPTION;ENCODING=QUOTED-PRINTABLE:Easy Street Area=0D=0A2014 Summer=0D=0ADivision 6=0D=0ABenders vs South Puck Two
DTEND:20140608T203000
DTSTAMP:20260422T111200
DTSTART:20140608T190000
END:VEVENT
BEGIN:VEVENT
CATEGORIES:HOCKEY GAME
SUMMARY:Benders at Lightning
LOCATION:OLY
DESCRIPTION;ENCODING=QUOTED-PRINTABLE:Easy Street Area=0D=0A2014 Summer=0D=0ADivision 6=0D=0ABenders at Lightning
DTEND:20140615T123000
DTSTAMP:20260422T111200
DTSTART:20140615T110000
END:VEVENT
BEGIN:VEVENT
CATEGORIES:HOCKEY GAME
SUMMARY:Benders vs Acme Warriors
LOCATION:NHL
DESCRIPTION;ENCODING=QUOTED-PRINTABLE:Easy Street Area=0D=0A2014 Summer=0D=0ADivision 6=0D=0ABenders vs Acme Warriors
DTEND:20140622T190000
DTSTAMP:20260422T111200
DTSTART:20140622T173000
END:VEVENT
BEGIN:VEVENT
CATEGORIES:HOCKEY GAME
SUMMARY:Benders at Pylons
LOCATION:NHL
DESCRIPTION;ENCODING=QUOTED-PRINTABLE:Easy Street Area=0D=0A2014 Summer=0D=0ADivision 6=0D=0ABenders at Pylons
DTEND:20140629T173000
DTSTAMP:20260422T111200
DTSTART:20140629T160000
END:VEVENT
BEGIN:VEVENT
CATEGORIES:HOCKEY GAME
SUMMARY:Benders vs Pylons
LOCATION:NHL
DESCRIPTION;ENCODING=QUOTED-PRINTABLE:Easy Street Area=0D=0A2014 Summer=0D=0ADivision 6=0D=0ABenders vs Pylons
DTEND:20140712T181500
DTSTAMP:20260422T111200
DTSTART:20140712T164500
END:VEVENT
BEGIN:VEVENT
CATEGORIES:HOCKEY GAME
SUMMARY:Benders at South Puck Two
LOCATION:NHL
DESCRIPTION;ENCODING=QUOTED-PRINTABLE:Easy Street Area=0D=0A2014 Summer=0D=0ADivision 6=0D=0ABenders at South Puck Two
DTEND:20140713T220000
DTSTAMP:20260422T111200
DTSTART:20140713T203000
END:VEVENT
BEGIN:VEVENT
CATEGORIES:HOCKEY GAME
SUMMARY:Benders vs Lightning
LOCATION:NHL
DESCRIPTION;ENCODING=QUOTED-PRINTABLE:Easy Street Area=0D=0A2014 Summer=0D=0ADivision 6=0D=0ABenders vs Lightning
DTEND:20140720T220000
DTSTAMP:20260422T111200
DTSTART:20140720T203000
END:VEVENT
BEGIN:VEVENT
CATEGORIES:HOCKEY GAME
SUMMARY:Benders vs Acme Warriors
LOCATION:NHL
DESCRIPTION;ENCODING=QUOTED-PRINTABLE:Easy Street Area=0D=0A2014 Summer=0D=0ADivision 6=0D=0ABenders vs Acme Warriors
DTEND:20140727T190000
DTSTAMP:20260422T111200
DTSTART:20140727T173000
END:VEVENT
BEGIN:VEVENT
CATEGORIES:HOCKEY GAME
SUMMARY:Benders at Pylons
LOCATION:OLY
DESCRIPTION;ENCODING=QUOTED-PRINTABLE:Easy Street Area=0D=0A2014 Summer=0D=0ADivision 6=0D=0ABenders at Pylons
DTEND:20140803T123000
DTSTAMP:20260422T111200
DTSTART:20140803T110000
END:VEVENT
BEGIN:VEVENT
CATEGORIES:HOCKEY GAME
SUMMARY:Benders vs Puck Buddies
LOCATION:OLY
DESCRIPTION;ENCODING=QUOTED-PRINTABLE:Easy Street Area=0D=0A2014 Summer=0D=0ADivision 6=0D=0ABenders vs Puck Buddies
DTEND:20140810T210000
DTSTAMP:20260422T111200
DTSTART:20140810T193000
END:VEVENT
END:VCALENDAR
