BEGIN:VCALENDAR
VERSION:2.0
BEGIN:VEVENT
CATEGORIES:HOCKEY GAME
SUMMARY:South Puck One at Hawks
LOCATION:NHL
DESCRIPTION;ENCODING=QUOTED-PRINTABLE:Easy Street Area=0D=0A2014 Summer=0D=0ADivision 5=0D=0ASouth Puck One at Hawks
DTEND:20140316T190000
DTSTAMP:20260422T151800
DTSTART:20140316T173000
END:VEVENT
BEGIN:VEVENT
CATEGORIES:HOCKEY GAME
SUMMARY:South Puck One at Last Call
LOCATION:NHL
DESCRIPTION;ENCODING=QUOTED-PRINTABLE:Easy Street Area=0D=0A2014 Summer=0D=0ADivision 5=0D=0ASouth Puck One at Last Call
DTEND:20140323T233000
DTSTAMP:20260422T151800
DTSTART:20140323T220000
END:VEVENT
BEGIN:VEVENT
CATEGORIES:HOCKEY GAME
SUMMARY:South Puck One vs Savages
LOCATION:OLY
DESCRIPTION;ENCODING=QUOTED-PRINTABLE:Easy Street Area=0D=0A2014 Summer=0D=0ADivision 5=0D=0ASouth Puck One vs Savages
DTEND:20140330T123000
DTSTAMP:20260422T151800
DTSTART:20140330T110000
END:VEVENT
BEGIN:VEVENT
CATEGORIES:HOCKEY GAME
SUMMARY:South Puck One at Puck Monkeys
LOCATION:NHL
DESCRIPTION;ENCODING=QUOTED-PRINTABLE:Easy Street Area=0D=0A2014 Summer=0D=0ADivision 5=0D=0ASouth Puck One at Puck Monkeys
DTEND:20140406T173000
DTSTAMP:20260422T151800
DTSTART:20140406T160000
END:VEVENT
BEGIN:VEVENT
CATEGORIES:HOCKEY GAME
SUMMARY:South Puck One vs Dodos
LOCATION:NHL
DESCRIPTION;ENCODING=QUOTED-PRINTABLE:Easy Street Area=0D=0A2014 Summer=0D=0ADivision 5=0D=0ASouth Puck One vs Dodos
DTEND:20140413T160000
DTSTAMP:20260422T151800
DTSTART:20140413T143000
END:VEVENT
BEGIN:VEVENT
CATEGORIES:HOCKEY GAME
SUMMARY:South Puck One vs Other Team
LOCATION:NHL
DESCRIPTION;ENCODING=QUOTED-PRINTABLE:Easy Street Area=0D=0A2014 Summer=0D=0ADivision 5=0D=0ASouth Puck One vs Other Team
DTEND:20140420T160000
DTSTAMP:20260422T151800
DTSTART:20140420T143000
END:VEVENT
BEGIN:VEVENT
CATEGORIES:HOCKEY GAME
SUMMARY:South Puck One vs Last Call
LOCATION:OLY
DESCRIPTION;ENCODING=QUOTED-PRINTABLE:Easy Street Area=0D=0A2014 Summer=0D=0ADivision 5=0D=0ASouth Puck One vs Last Call
DTEND:20140427T193000
DTSTAMP:20260422T151800
DTSTART:20140427T180000
END:VEVENT
BEGIN:VEVENT
CATEGORIES:HOCKEY GAME
SUMMARY:South Puck One at Savages
LOCATION:NHL
DESCRIPTION;ENCODING=QUOTED-PRINTABLE:Easy Street Area=0D=0A2014 Summer=0D=0ADivision 5=0D=0ASouth Puck One at Savages
DTEND:20140504T233000
DTSTAMP:20260422T151800
DTSTART:20140504T220000
END:VEVENT
BEGIN:VEVENT
CATEGORIES:HOCKEY GAME
SUMMARY:South Puck One vs Puck Monkeys
LOCATION:NHL
DESCRIPTION;ENCODING=QUOTED-PRINTABLE:Easy Street Area=0D=0A2014 Summer=0D=0ADivision 5=0D=0ASouth Puck One vs Puck Monkeys
DTEND:20140518T190000
DTSTAMP:20260422T151800
DTSTART:20140518T173000
END:VEVENT
BEGIN:VEVENT
CATEGORIES:HOCKEY GAME
SUMMARY:South Puck One at Other Team
LOCATION:OLY
DESCRIPTION;ENCODING=QUOTED-PRINTABLE:Easy Street Area=0D=0A2014 Summer=0D=0ADivision 5=0D=0ASouth Puck One at Other Team
DTEND:20140601T210000
DTSTAMP:20260422T151800
DTSTART:20140601T193000
END:VEVENT
BEGIN:VEVENT
CATEGORIES:HOCKEY GAME
SUMMARY:South Puck One at Last Call
LOCATION:NHL
DESCRIPTION;ENCODING=QUOTED-PRINTABLE:Easy Street Area=0D=0A2014 Summer=0D=0ADivision 5=0D=0ASouth Puck One at Last Call
DTEND:20140608T233000
DTSTAMP:20260422T151800
DTSTART:20140608T220000
END:VEVENT
BEGIN:VEVENT
CATEGORIES:HOCKEY GAME
SUMMARY:South Puck One vs Savages
LOCATION:NHL
DESCRIPTION;ENCODING=QUOTED-PRINTABLE:Easy Street Area=0D=0A2014 Summer=0D=0ADivision 5=0D=0ASouth Puck One vs Savages
DTEND:20140615T220000
DTSTAMP:20260422T151800
DTSTART:20140615T203000
END:VEVENT
BEGIN:VEVENT
CATEGORIES:HOCKEY GAME
SUMMARY:South Puck One at Puck Monkeys
LOCATION:NHL
DESCRIPTION;ENCODING=QUOTED-PRINTABLE:Easy Street Area=0D=0A2014 Summer=0D=0ADivision 5=0D=0ASouth Puck One at Puck Monkeys
DTEND:20140622T143000
DTSTAMP:20260422T151800
DTSTART:20140622T130000
END:VEVENT
BEGIN:VEVENT
CATEGORIES:HOCKEY GAME
SUMMARY:South Puck One vs Dodos
LOCATION:NHL
DESCRIPTION;ENCODING=QUOTED-PRINTABLE:Easy Street Area=0D=0A2014 Summer=0D=0ADivision 5=0D=0ASouth Puck One vs Dodos
DTEND:20140629T160000
DTSTAMP:20260422T151800
DTSTART:20140629T143000
END:VEVENT
BEGIN:VEVENT
CATEGORIES:HOCKEY GAME
SUMMARY:South Puck One at Dodos
LOCATION:NHL
DESCRIPTION;ENCODING=QUOTED-PRINTABLE:Easy Street Area=0D=0A2014 Summer=0D=0ADivision 5=0D=0ASouth Puck One at Dodos
DTEND:20140712T211500
DTSTAMP:20260422T151800
DTSTART:20140712T194500
END:VEVENT
BEGIN:VEVENT
CATEGORIES:HOCKEY GAME
SUMMARY:South Puck One vs Last Call
LOCATION:NHL
DESCRIPTION;ENCODING=QUOTED-PRINTABLE:Easy Street Area=0D=0A2014 Summer=0D=0ADivision 5=0D=0ASouth Puck One vs Last Call
DTEND:20140713T233000
DTSTAMP:20260422T151800
DTSTART:20140713T220000
END:VEVENT
BEGIN:VEVENT
CATEGORIES:HOCKEY GAME
SUMMARY:South Puck One at Savages
LOCATION:NHL
DESCRIPTION;ENCODING=QUOTED-PRINTABLE:Easy Street Area=0D=0A2014 Summer=0D=0ADivision 5=0D=0ASouth Puck One at Savages
DTEND:20140720T203000
DTSTAMP:20260422T151800
DTSTART:20140720T190000
END:VEVENT
BEGIN:VEVENT
CATEGORIES:HOCKEY GAME
SUMMARY:South Puck One at Puck Monkeys
LOCATION:NHL
DESCRIPTION;ENCODING=QUOTED-PRINTABLE:Easy Street Area=0D=0A2014 Summer=0D=0ADivision 5=0D=0ASouth Puck One at Puck Monkeys
DTEND:20140727T143000
DTSTAMP:20260422T151800
DTSTART:20140727T130000
END:VEVENT
BEGIN:VEVENT
CATEGORIES:HOCKEY GAME
SUMMARY:South Puck One vs Dodos
LOCATION:NHL
DESCRIPTION;ENCODING=QUOTED-PRINTABLE:Easy Street Area=0D=0A2014 Summer=0D=0ADivision 5=0D=0ASouth Puck One vs Dodos
DTEND:20140803T190000
DTSTAMP:20260422T151800
DTSTART:20140803T173000
END:VEVENT
BEGIN:VEVENT
CATEGORIES:HOCKEY GAME
SUMMARY:South Puck One vs Other Team
LOCATION:OLY
DESCRIPTION;ENCODING=QUOTED-PRINTABLE:Easy Street Area=0D=0A2014 Summer=0D=0ADivision 5=0D=0ASouth Puck One vs Other Team
DTEND:20140810T123000
DTSTAMP:20260422T151800
DTSTART:20140810T110000
END:VEVENT
END:VCALENDAR
