BEGIN:VCALENDAR
VERSION:2.0
BEGIN:VEVENT
CATEGORIES:HOCKEY GAME
SUMMARY:Last Call at Dodos
LOCATION:NHL
DESCRIPTION;ENCODING=QUOTED-PRINTABLE:Easy Street Area=0D=0A2014 Summer=0D=0ADivision 5=0D=0ALast Call at Dodos
DTEND:20140316T160000
DTSTAMP:20260422T151800
DTSTART:20140316T143000
END:VEVENT
BEGIN:VEVENT
CATEGORIES:HOCKEY GAME
SUMMARY:Last Call vs South Puck One
LOCATION:NHL
DESCRIPTION;ENCODING=QUOTED-PRINTABLE:Easy Street Area=0D=0A2014 Summer=0D=0ADivision 5=0D=0ALast Call vs South Puck One
DTEND:20140323T233000
DTSTAMP:20260422T151800
DTSTART:20140323T220000
END:VEVENT
BEGIN:VEVENT
CATEGORIES:HOCKEY GAME
SUMMARY:Last Call at Other Team
LOCATION:NHL
DESCRIPTION;ENCODING=QUOTED-PRINTABLE:Easy Street Area=0D=0A2014 Summer=0D=0ADivision 5=0D=0ALast Call at Other Team
DTEND:20140330T220000
DTSTAMP:20260422T151800
DTSTART:20140330T203000
END:VEVENT
BEGIN:VEVENT
CATEGORIES:HOCKEY GAME
SUMMARY:Last Call vs Savages
LOCATION:NHL
DESCRIPTION;ENCODING=QUOTED-PRINTABLE:Easy Street Area=0D=0A2014 Summer=0D=0ADivision 5=0D=0ALast Call vs Savages
DTEND:20140406T190000
DTSTAMP:20260422T151800
DTSTART:20140406T173000
END:VEVENT
BEGIN:VEVENT
CATEGORIES:HOCKEY GAME
SUMMARY:Last Call vs Puck Monkeys
LOCATION:NHL
DESCRIPTION;ENCODING=QUOTED-PRINTABLE:Easy Street Area=0D=0A2014 Summer=0D=0ADivision 5=0D=0ALast Call vs Puck Monkeys
DTEND:20140413T190000
DTSTAMP:20260422T151800
DTSTART:20140413T173000
END:VEVENT
BEGIN:VEVENT
CATEGORIES:HOCKEY GAME
SUMMARY:Last Call vs Dodos
LOCATION:NHL
DESCRIPTION;ENCODING=QUOTED-PRINTABLE:Easy Street Area=0D=0A2014 Summer=0D=0ADivision 5=0D=0ALast Call vs Dodos
DTEND:20140420T130000
DTSTAMP:20260422T151800
DTSTART:20140420T113000
END:VEVENT
BEGIN:VEVENT
CATEGORIES:HOCKEY GAME
SUMMARY:Last Call at South Puck One
LOCATION:OLY
DESCRIPTION;ENCODING=QUOTED-PRINTABLE:Easy Street Area=0D=0A2014 Summer=0D=0ADivision 5=0D=0ALast Call at South Puck One
DTEND:20140427T193000
DTSTAMP:20260422T151800
DTSTART:20140427T180000
END:VEVENT
BEGIN:VEVENT
CATEGORIES:HOCKEY GAME
SUMMARY:Last Call at Other Team
LOCATION:OLY
DESCRIPTION;ENCODING=QUOTED-PRINTABLE:Easy Street Area=0D=0A2014 Summer=0D=0ADivision 5=0D=0ALast Call at Other Team
DTEND:20140504T123000
DTSTAMP:20260422T151800
DTSTART:20140504T110000
END:VEVENT
BEGIN:VEVENT
CATEGORIES:HOCKEY GAME
SUMMARY:Last Call at Savages
LOCATION:NHL
DESCRIPTION;ENCODING=QUOTED-PRINTABLE:Easy Street Area=0D=0A2014 Summer=0D=0ADivision 5=0D=0ALast Call at Savages
DTEND:20140518T143000
DTSTAMP:20260422T151800
DTSTART:20140518T130000
END:VEVENT
BEGIN:VEVENT
CATEGORIES:HOCKEY GAME
SUMMARY:Last Call at Puck Monkeys
LOCATION:NHL
DESCRIPTION;ENCODING=QUOTED-PRINTABLE:Easy Street Area=0D=0A2014 Summer=0D=0ADivision 5=0D=0ALast Call at Puck Monkeys
DTEND:20140531T164500
DTSTAMP:20260422T151800
DTSTART:20140531T151500
END:VEVENT
BEGIN:VEVENT
CATEGORIES:HOCKEY GAME
SUMMARY:Last Call at Dodos
LOCATION:OLY
DESCRIPTION;ENCODING=QUOTED-PRINTABLE:Easy Street Area=0D=0A2014 Summer=0D=0ADivision 5=0D=0ALast Call at Dodos
DTEND:20140601T123000
DTSTAMP:20260422T151800
DTSTART:20140601T110000
END:VEVENT
BEGIN:VEVENT
CATEGORIES:HOCKEY GAME
SUMMARY:Last Call vs South Puck One
LOCATION:NHL
DESCRIPTION;ENCODING=QUOTED-PRINTABLE:Easy Street Area=0D=0A2014 Summer=0D=0ADivision 5=0D=0ALast Call vs South Puck One
DTEND:20140608T233000
DTSTAMP:20260422T151800
DTSTART:20140608T220000
END:VEVENT
BEGIN:VEVENT
CATEGORIES:HOCKEY GAME
SUMMARY:Last Call at Other Team
LOCATION:NHL
DESCRIPTION;ENCODING=QUOTED-PRINTABLE:Easy Street Area=0D=0A2014 Summer=0D=0ADivision 5=0D=0ALast Call at Other Team
DTEND:20140615T190000
DTSTAMP:20260422T151800
DTSTART:20140615T173000
END:VEVENT
BEGIN:VEVENT
CATEGORIES:HOCKEY GAME
SUMMARY:Last Call vs Savages
LOCATION:NHL
DESCRIPTION;ENCODING=QUOTED-PRINTABLE:Easy Street Area=0D=0A2014 Summer=0D=0ADivision 5=0D=0ALast Call vs Savages
DTEND:20140622T203000
DTSTAMP:20260422T151800
DTSTART:20140622T190000
END:VEVENT
BEGIN:VEVENT
CATEGORIES:HOCKEY GAME
SUMMARY:Last Call vs Puck Monkeys
LOCATION:NHL
DESCRIPTION;ENCODING=QUOTED-PRINTABLE:Easy Street Area=0D=0A2014 Summer=0D=0ADivision 5=0D=0ALast Call vs Puck Monkeys
DTEND:20140629T130000
DTSTAMP:20260422T151800
DTSTART:20140629T113000
END:VEVENT
BEGIN:VEVENT
CATEGORIES:HOCKEY GAME
SUMMARY:Last Call at South Puck One
LOCATION:NHL
DESCRIPTION;ENCODING=QUOTED-PRINTABLE:Easy Street Area=0D=0A2014 Summer=0D=0ADivision 5=0D=0ALast Call at South Puck One
DTEND:20140713T233000
DTSTAMP:20260422T151800
DTSTART:20140713T220000
END:VEVENT
BEGIN:VEVENT
CATEGORIES:HOCKEY GAME
SUMMARY:Last Call vs Other Team
LOCATION:NHL
DESCRIPTION;ENCODING=QUOTED-PRINTABLE:Easy Street Area=0D=0A2014 Summer=0D=0ADivision 5=0D=0ALast Call vs Other Team
DTEND:20140720T190000
DTSTAMP:20260422T151800
DTSTART:20140720T173000
END:VEVENT
BEGIN:VEVENT
CATEGORIES:HOCKEY GAME
SUMMARY:Last Call vs Savages
LOCATION:NHL
DESCRIPTION;ENCODING=QUOTED-PRINTABLE:Easy Street Area=0D=0A2014 Summer=0D=0ADivision 5=0D=0ALast Call vs Savages
DTEND:20140727T160000
DTSTAMP:20260422T151800
DTSTART:20140727T143000
END:VEVENT
BEGIN:VEVENT
CATEGORIES:HOCKEY GAME
SUMMARY:Last Call vs Puck Monkeys
LOCATION:NHL
DESCRIPTION;ENCODING=QUOTED-PRINTABLE:Easy Street Area=0D=0A2014 Summer=0D=0ADivision 5=0D=0ALast Call vs Puck Monkeys
DTEND:20140803T220000
DTSTAMP:20260422T151800
DTSTART:20140803T203000
END:VEVENT
BEGIN:VEVENT
CATEGORIES:HOCKEY GAME
SUMMARY:Last Call vs Dodos
LOCATION:OLY
DESCRIPTION;ENCODING=QUOTED-PRINTABLE:Easy Street Area=0D=0A2014 Summer=0D=0ADivision 5=0D=0ALast Call vs Dodos
DTEND:20140810T180000
DTSTAMP:20260422T151800
DTSTART:20140810T163000
END:VEVENT
END:VCALENDAR
