BEGIN:VCALENDAR
VERSION:2.0
BEGIN:VEVENT
CATEGORIES:HOCKEY GAME
SUMMARY:Hawks vs South Puck One
LOCATION:NHL
DESCRIPTION;ENCODING=QUOTED-PRINTABLE:Easy Street Area=0D=0A2014 Summer=0D=0ADivision 5=0D=0AHawks vs South Puck One
DTEND:20140316T190000
DTSTAMP:20260422T165500
DTSTART:20140316T173000
END:VEVENT
BEGIN:VEVENT
CATEGORIES:HOCKEY GAME
SUMMARY:Hawks at Puck Monkeys
LOCATION:OLY
DESCRIPTION;ENCODING=QUOTED-PRINTABLE:Easy Street Area=0D=0A2014 Summer=0D=0ADivision 5=0D=0AHawks at Puck Monkeys
DTEND:20140323T110000
DTSTAMP:20260422T165500
DTSTART:20140323T093000
END:VEVENT
BEGIN:VEVENT
CATEGORIES:HOCKEY GAME
SUMMARY:Hawks vs Wolfpack
LOCATION:NHL
DESCRIPTION;ENCODING=QUOTED-PRINTABLE:Easy Street Area=0D=0A2014 Summer=0D=0ADivision 4=0D=0AHawks vs Wolfpack
DTEND:20140330T203000
DTSTAMP:20260422T165500
DTSTART:20140330T190000
END:VEVENT
BEGIN:VEVENT
CATEGORIES:HOCKEY GAME
SUMMARY:Hawks at Rangers
LOCATION:NHL
DESCRIPTION;ENCODING=QUOTED-PRINTABLE:Easy Street Area=0D=0A2014 Summer=0D=0ADivision 4=0D=0AHawks at Rangers
DTEND:20140406T130000
DTSTAMP:20260422T165500
DTSTART:20140406T113000
END:VEVENT
BEGIN:VEVENT
CATEGORIES:HOCKEY GAME
SUMMARY:Hawks vs Pogue Mahone
LOCATION:OLY
DESCRIPTION;ENCODING=QUOTED-PRINTABLE:Easy Street Area=0D=0A2014 Summer=0D=0ADivision 4=0D=0AHawks vs Pogue Mahone
DTEND:20140413T223000
DTSTAMP:20260422T165500
DTSTART:20140413T210000
END:VEVENT
BEGIN:VEVENT
CATEGORIES:HOCKEY GAME
SUMMARY:Hawks vs Red Scare
LOCATION:OLY
DESCRIPTION;ENCODING=QUOTED-PRINTABLE:Easy Street Area=0D=0A2014 Summer=0D=0ADivision 4=0D=0AHawks vs Red Scare
DTEND:20140420T140000
DTSTAMP:20260422T165500
DTSTART:20140420T123000
END:VEVENT
BEGIN:VEVENT
CATEGORIES:HOCKEY GAME
SUMMARY:Hawks at Pogue Mahone
LOCATION:NHL
DESCRIPTION;ENCODING=QUOTED-PRINTABLE:Easy Street Area=0D=0A2014 Summer=0D=0ADivision 4=0D=0AHawks at Pogue Mahone
DTEND:20140426T181500
DTSTAMP:20260422T165500
DTSTART:20140426T164500
END:VEVENT
BEGIN:VEVENT
CATEGORIES:HOCKEY GAME
SUMMARY:Hawks vs Ruination
LOCATION:NHL
DESCRIPTION;ENCODING=QUOTED-PRINTABLE:Easy Street Area=0D=0A2014 Summer=0D=0ADivision 4=0D=0AHawks vs Ruination
DTEND:20140427T220000
DTSTAMP:20260422T165500
DTSTART:20140427T203000
END:VEVENT
BEGIN:VEVENT
CATEGORIES:HOCKEY GAME
SUMMARY:Hawks at Wolfpack
LOCATION:NHL
DESCRIPTION;ENCODING=QUOTED-PRINTABLE:Easy Street Area=0D=0A2014 Summer=0D=0ADivision 4=0D=0AHawks at Wolfpack
DTEND:20140504T190000
DTSTAMP:20260422T165500
DTSTART:20140504T173000
END:VEVENT
BEGIN:VEVENT
CATEGORIES:HOCKEY GAME
SUMMARY:Hawks vs Rangers
LOCATION:NHL
DESCRIPTION;ENCODING=QUOTED-PRINTABLE:Easy Street Area=0D=0A2014 Summer=0D=0ADivision 4=0D=0AHawks vs Rangers
DTEND:20140518T130000
DTSTAMP:20260422T165500
DTSTART:20140518T113000
END:VEVENT
BEGIN:VEVENT
CATEGORIES:HOCKEY GAME
SUMMARY:Hawks at Red Scare
LOCATION:NHL
DESCRIPTION;ENCODING=QUOTED-PRINTABLE:Easy Street Area=0D=0A2014 Summer=0D=0ADivision 4=0D=0AHawks at Red Scare
DTEND:20140601T233000
DTSTAMP:20260422T165500
DTSTART:20140601T220000
END:VEVENT
BEGIN:VEVENT
CATEGORIES:HOCKEY GAME
SUMMARY:Hawks at Ruination
LOCATION:NHL
DESCRIPTION;ENCODING=QUOTED-PRINTABLE:Easy Street Area=0D=0A2014 Summer=0D=0ADivision 4=0D=0AHawks at Ruination
DTEND:20140608T190000
DTSTAMP:20260422T165500
DTSTART:20140608T173000
END:VEVENT
BEGIN:VEVENT
CATEGORIES:HOCKEY GAME
SUMMARY:Hawks vs Wolfpack
LOCATION:NHL
DESCRIPTION;ENCODING=QUOTED-PRINTABLE:Easy Street Area=0D=0A2014 Summer=0D=0ADivision 4=0D=0AHawks vs Wolfpack
DTEND:20140615T130000
DTSTAMP:20260422T165500
DTSTART:20140615T113000
END:VEVENT
BEGIN:VEVENT
CATEGORIES:HOCKEY GAME
SUMMARY:Hawks at Rangers
LOCATION:OLY
DESCRIPTION;ENCODING=QUOTED-PRINTABLE:Easy Street Area=0D=0A2014 Summer=0D=0ADivision 4=0D=0AHawks at Rangers
DTEND:20140622T210000
DTSTAMP:20260422T165500
DTSTART:20140622T193000
END:VEVENT
BEGIN:VEVENT
CATEGORIES:HOCKEY GAME
SUMMARY:Hawks vs Pogue Mahone
LOCATION:OLY
DESCRIPTION;ENCODING=QUOTED-PRINTABLE:Easy Street Area=0D=0A2014 Summer=0D=0ADivision 4=0D=0AHawks vs Pogue Mahone
DTEND:20140629T180000
DTSTAMP:20260422T165500
DTSTART:20140629T163000
END:VEVENT
BEGIN:VEVENT
CATEGORIES:HOCKEY GAME
SUMMARY:Hawks vs Ruination
LOCATION:NHL
DESCRIPTION;ENCODING=QUOTED-PRINTABLE:Easy Street Area=0D=0A2014 Summer=0D=0ADivision 4=0D=0AHawks vs Ruination
DTEND:20140713T190000
DTSTAMP:20260422T165500
DTSTART:20140713T173000
END:VEVENT
BEGIN:VEVENT
CATEGORIES:HOCKEY GAME
SUMMARY:Hawks at Wolfpack
LOCATION:NHL
DESCRIPTION;ENCODING=QUOTED-PRINTABLE:Easy Street Area=0D=0A2014 Summer=0D=0ADivision 4=0D=0AHawks at Wolfpack
DTEND:20140720T160000
DTSTAMP:20260422T165500
DTSTART:20140720T143000
END:VEVENT
BEGIN:VEVENT
CATEGORIES:HOCKEY GAME
SUMMARY:Hawks at Rangers
LOCATION:OLY
DESCRIPTION;ENCODING=QUOTED-PRINTABLE:Easy Street Area=0D=0A2014 Summer=0D=0ADivision 4=0D=0AHawks at Rangers
DTEND:20140727T210000
DTSTAMP:20260422T165500
DTSTART:20140727T193000
END:VEVENT
BEGIN:VEVENT
CATEGORIES:HOCKEY GAME
SUMMARY:Hawks vs Pogue Mahone
LOCATION:NHL
DESCRIPTION;ENCODING=QUOTED-PRINTABLE:Easy Street Area=0D=0A2014 Summer=0D=0ADivision 4=0D=0AHawks vs Pogue Mahone
DTEND:20140803T143000
DTSTAMP:20260422T165500
DTSTART:20140803T130000
END:VEVENT
BEGIN:VEVENT
CATEGORIES:HOCKEY GAME
SUMMARY:Hawks vs Red Scare
LOCATION:NHL
DESCRIPTION;ENCODING=QUOTED-PRINTABLE:Easy Street Area=0D=0A2014 Summer=0D=0ADivision 4=0D=0AHawks vs Red Scare
DTEND:20140810T203000
DTSTAMP:20260422T165500
DTSTART:20140810T190000
END:VEVENT
END:VCALENDAR
