BEGIN:VCALENDAR
VERSION:2.0
BEGIN:VEVENT
CATEGORIES:HOCKEY GAME
SUMMARY:Wings vs Puck Monkeys
LOCATION:NHL
DESCRIPTION;ENCODING=QUOTED-PRINTABLE:Easy Street Area=0D=0A2014 Summer=0D=0ADivision 5=0D=0AWings vs Puck Monkeys
DTEND:20140316T130000
DTSTAMP:20260422T165400
DTSTART:20140316T113000
END:VEVENT
BEGIN:VEVENT
CATEGORIES:HOCKEY GAME
SUMMARY:Wings vs Dodos
LOCATION:OLY
DESCRIPTION;ENCODING=QUOTED-PRINTABLE:Easy Street Area=0D=0A2014 Summer=0D=0ADivision 5=0D=0AWings vs Dodos
DTEND:20140323T123000
DTSTAMP:20260422T165400
DTSTART:20140323T110000
END:VEVENT
END:VCALENDAR
