BEGIN:VCALENDAR
VERSION:2.0
BEGIN:VEVENT
CATEGORIES:HOCKEY GAME
SUMMARY:Ruination at Pogue Mahone
LOCATION:NHL
DESCRIPTION;ENCODING=QUOTED-PRINTABLE:Easy Street Area=0D=0A2014 Summer=0D=0ADivision 4=0D=0ARuination at Pogue Mahone
DTEND:20140316T203000
DTSTAMP:20260422T182600
DTSTART:20140316T190000
END:VEVENT
BEGIN:VEVENT
CATEGORIES:HOCKEY GAME
SUMMARY:Ruination vs Red Scare
LOCATION:NHL
DESCRIPTION;ENCODING=QUOTED-PRINTABLE:Easy Street Area=0D=0A2014 Summer=0D=0ADivision 4=0D=0ARuination vs Red Scare
DTEND:20140323T203000
DTSTAMP:20260422T182600
DTSTART:20140323T190000
END:VEVENT
BEGIN:VEVENT
CATEGORIES:HOCKEY GAME
SUMMARY:Ruination at Red Scare
LOCATION:NHL
DESCRIPTION;ENCODING=QUOTED-PRINTABLE:Easy Street Area=0D=0A2014 Summer=0D=0ADivision 4=0D=0ARuination at Red Scare
DTEND:20140330T173000
DTSTAMP:20260422T182600
DTSTART:20140330T160000
END:VEVENT
BEGIN:VEVENT
CATEGORIES:HOCKEY GAME
SUMMARY:Ruination vs Wolfpack
LOCATION:OLY
DESCRIPTION;ENCODING=QUOTED-PRINTABLE:Easy Street Area=0D=0A2014 Summer=0D=0ADivision 4=0D=0ARuination vs Wolfpack
DTEND:20140406T123000
DTSTAMP:20260422T182600
DTSTART:20140406T110000
END:VEVENT
BEGIN:VEVENT
CATEGORIES:HOCKEY GAME
SUMMARY:Ruination vs Rangers
LOCATION:NHL
DESCRIPTION;ENCODING=QUOTED-PRINTABLE:Easy Street Area=0D=0A2014 Summer=0D=0ADivision 4=0D=0ARuination vs Rangers
DTEND:20140413T130000
DTSTAMP:20260422T182600
DTSTART:20140413T113000
END:VEVENT
BEGIN:VEVENT
CATEGORIES:HOCKEY GAME
SUMMARY:Ruination vs Pogue Mahone
LOCATION:OLY
DESCRIPTION;ENCODING=QUOTED-PRINTABLE:Easy Street Area=0D=0A2014 Summer=0D=0ADivision 4=0D=0ARuination vs Pogue Mahone
DTEND:20140420T193000
DTSTAMP:20260422T182600
DTSTART:20140420T180000
END:VEVENT
BEGIN:VEVENT
CATEGORIES:HOCKEY GAME
SUMMARY:Ruination at Rangers
LOCATION:NHL
DESCRIPTION;ENCODING=QUOTED-PRINTABLE:Easy Street Area=0D=0A2014 Summer=0D=0ADivision 4=0D=0ARuination at Rangers
DTEND:20140426T164500
DTSTAMP:20260422T182600
DTSTART:20140426T151500
END:VEVENT
BEGIN:VEVENT
CATEGORIES:HOCKEY GAME
SUMMARY:Ruination at Hawks
LOCATION:NHL
DESCRIPTION;ENCODING=QUOTED-PRINTABLE:Easy Street Area=0D=0A2014 Summer=0D=0ADivision 4=0D=0ARuination at Hawks
DTEND:20140427T220000
DTSTAMP:20260422T182600
DTSTART:20140427T203000
END:VEVENT
BEGIN:VEVENT
CATEGORIES:HOCKEY GAME
SUMMARY:Ruination at Red Scare
LOCATION:NHL
DESCRIPTION;ENCODING=QUOTED-PRINTABLE:Easy Street Area=0D=0A2014 Summer=0D=0ADivision 4=0D=0ARuination at Red Scare
DTEND:20140504T203000
DTSTAMP:20260422T182600
DTSTART:20140504T190000
END:VEVENT
BEGIN:VEVENT
CATEGORIES:HOCKEY GAME
SUMMARY:Ruination at Wolfpack
LOCATION:OLY
DESCRIPTION;ENCODING=QUOTED-PRINTABLE:Easy Street Area=0D=0A2014 Summer=0D=0ADivision 4=0D=0ARuination at Wolfpack
DTEND:20140518T210000
DTSTAMP:20260422T182600
DTSTART:20140518T193000
END:VEVENT
BEGIN:VEVENT
CATEGORIES:HOCKEY GAME
SUMMARY:Ruination at Pogue Mahone
LOCATION:NHL
DESCRIPTION;ENCODING=QUOTED-PRINTABLE:Easy Street Area=0D=0A2014 Summer=0D=0ADivision 4=0D=0ARuination at Pogue Mahone
DTEND:20140601T203000
DTSTAMP:20260422T182600
DTSTART:20140601T190000
END:VEVENT
BEGIN:VEVENT
CATEGORIES:HOCKEY GAME
SUMMARY:Ruination vs Hawks
LOCATION:NHL
DESCRIPTION;ENCODING=QUOTED-PRINTABLE:Easy Street Area=0D=0A2014 Summer=0D=0ADivision 4=0D=0ARuination vs Hawks
DTEND:20140608T190000
DTSTAMP:20260422T182600
DTSTART:20140608T173000
END:VEVENT
BEGIN:VEVENT
CATEGORIES:HOCKEY GAME
SUMMARY:Ruination at Red Scare
LOCATION:NHL
DESCRIPTION;ENCODING=QUOTED-PRINTABLE:Easy Street Area=0D=0A2014 Summer=0D=0ADivision 4=0D=0ARuination at Red Scare
DTEND:20140615T143000
DTSTAMP:20260422T182600
DTSTART:20140615T130000
END:VEVENT
BEGIN:VEVENT
CATEGORIES:HOCKEY GAME
SUMMARY:Ruination vs Wolfpack
LOCATION:NHL
DESCRIPTION;ENCODING=QUOTED-PRINTABLE:Easy Street Area=0D=0A2014 Summer=0D=0ADivision 4=0D=0ARuination vs Wolfpack
DTEND:20140622T130000
DTSTAMP:20260422T182600
DTSTART:20140622T113000
END:VEVENT
BEGIN:VEVENT
CATEGORIES:HOCKEY GAME
SUMMARY:Ruination vs Rangers
LOCATION:OLY
DESCRIPTION;ENCODING=QUOTED-PRINTABLE:Easy Street Area=0D=0A2014 Summer=0D=0ADivision 4=0D=0ARuination vs Rangers
DTEND:20140629T193000
DTSTAMP:20260422T182600
DTSTART:20140629T180000
END:VEVENT
BEGIN:VEVENT
CATEGORIES:HOCKEY GAME
SUMMARY:Ruination at Hawks
LOCATION:NHL
DESCRIPTION;ENCODING=QUOTED-PRINTABLE:Easy Street Area=0D=0A2014 Summer=0D=0ADivision 4=0D=0ARuination at Hawks
DTEND:20140713T190000
DTSTAMP:20260422T182600
DTSTART:20140713T173000
END:VEVENT
BEGIN:VEVENT
CATEGORIES:HOCKEY GAME
SUMMARY:Ruination vs Red Scare
LOCATION:NHL
DESCRIPTION;ENCODING=QUOTED-PRINTABLE:Easy Street Area=0D=0A2014 Summer=0D=0ADivision 4=0D=0ARuination vs Red Scare
DTEND:20140720T143000
DTSTAMP:20260422T182600
DTSTART:20140720T130000
END:VEVENT
BEGIN:VEVENT
CATEGORIES:HOCKEY GAME
SUMMARY:Ruination vs Wolfpack
LOCATION:OLY
DESCRIPTION;ENCODING=QUOTED-PRINTABLE:Easy Street Area=0D=0A2014 Summer=0D=0ADivision 4=0D=0ARuination vs Wolfpack
DTEND:20140727T223000
DTSTAMP:20260422T182600
DTSTART:20140727T210000
END:VEVENT
BEGIN:VEVENT
CATEGORIES:HOCKEY GAME
SUMMARY:Ruination vs Rangers
LOCATION:NHL
DESCRIPTION;ENCODING=QUOTED-PRINTABLE:Easy Street Area=0D=0A2014 Summer=0D=0ADivision 4=0D=0ARuination vs Rangers
DTEND:20140803T160000
DTSTAMP:20260422T182600
DTSTART:20140803T143000
END:VEVENT
BEGIN:VEVENT
CATEGORIES:HOCKEY GAME
SUMMARY:Ruination vs Pogue Mahone
LOCATION:NHL
DESCRIPTION;ENCODING=QUOTED-PRINTABLE:Easy Street Area=0D=0A2014 Summer=0D=0ADivision 4=0D=0ARuination vs Pogue Mahone
DTEND:20140810T233000
DTSTAMP:20260422T182600
DTSTART:20140810T220000
END:VEVENT
END:VCALENDAR
