BEGIN:VCALENDAR
VERSION:2.0
BEGIN:VEVENT
CATEGORIES:HOCKEY GAME
SUMMARY:Pogue Mahone vs Ruination
LOCATION:NHL
DESCRIPTION;ENCODING=QUOTED-PRINTABLE:Easy Street Area=0D=0A2014 Summer=0D=0ADivision 4=0D=0APogue Mahone vs Ruination
DTEND:20140316T203000
DTSTAMP:20260422T182500
DTSTART:20140316T190000
END:VEVENT
BEGIN:VEVENT
CATEGORIES:HOCKEY GAME
SUMMARY:Pogue Mahone at Wolfpack
LOCATION:NHL
DESCRIPTION;ENCODING=QUOTED-PRINTABLE:Easy Street Area=0D=0A2014 Summer=0D=0ADivision 4=0D=0APogue Mahone at Wolfpack
DTEND:20140323T220000
DTSTAMP:20260422T182500
DTSTART:20140323T203000
END:VEVENT
BEGIN:VEVENT
CATEGORIES:HOCKEY GAME
SUMMARY:Pogue Mahone vs Rangers
LOCATION:NHL
DESCRIPTION;ENCODING=QUOTED-PRINTABLE:Easy Street Area=0D=0A2014 Summer=0D=0ADivision 4=0D=0APogue Mahone vs Rangers
DTEND:20140330T190000
DTSTAMP:20260422T182500
DTSTART:20140330T173000
END:VEVENT
BEGIN:VEVENT
CATEGORIES:HOCKEY GAME
SUMMARY:Pogue Mahone vs Red Scare
LOCATION:NHL
DESCRIPTION;ENCODING=QUOTED-PRINTABLE:Easy Street Area=0D=0A2014 Summer=0D=0ADivision 4=0D=0APogue Mahone vs Red Scare
DTEND:20140406T160000
DTSTAMP:20260422T182500
DTSTART:20140406T143000
END:VEVENT
BEGIN:VEVENT
CATEGORIES:HOCKEY GAME
SUMMARY:Pogue Mahone at Hawks
LOCATION:OLY
DESCRIPTION;ENCODING=QUOTED-PRINTABLE:Easy Street Area=0D=0A2014 Summer=0D=0ADivision 4=0D=0APogue Mahone at Hawks
DTEND:20140413T223000
DTSTAMP:20260422T182500
DTSTART:20140413T210000
END:VEVENT
BEGIN:VEVENT
CATEGORIES:HOCKEY GAME
SUMMARY:Pogue Mahone at Ruination
LOCATION:OLY
DESCRIPTION;ENCODING=QUOTED-PRINTABLE:Easy Street Area=0D=0A2014 Summer=0D=0ADivision 4=0D=0APogue Mahone at Ruination
DTEND:20140420T193000
DTSTAMP:20260422T182500
DTSTART:20140420T180000
END:VEVENT
BEGIN:VEVENT
CATEGORIES:HOCKEY GAME
SUMMARY:Pogue Mahone vs Hawks
LOCATION:NHL
DESCRIPTION;ENCODING=QUOTED-PRINTABLE:Easy Street Area=0D=0A2014 Summer=0D=0ADivision 4=0D=0APogue Mahone vs Hawks
DTEND:20140426T181500
DTSTAMP:20260422T182500
DTSTART:20140426T164500
END:VEVENT
BEGIN:VEVENT
CATEGORIES:HOCKEY GAME
SUMMARY:Pogue Mahone vs Wolfpack
LOCATION:NHL
DESCRIPTION;ENCODING=QUOTED-PRINTABLE:Easy Street Area=0D=0A2014 Summer=0D=0ADivision 4=0D=0APogue Mahone vs Wolfpack
DTEND:20140427T203000
DTSTAMP:20260422T182500
DTSTART:20140427T190000
END:VEVENT
BEGIN:VEVENT
CATEGORIES:HOCKEY GAME
SUMMARY:Pogue Mahone at Rangers
LOCATION:NHL
DESCRIPTION;ENCODING=QUOTED-PRINTABLE:Easy Street Area=0D=0A2014 Summer=0D=0ADivision 4=0D=0APogue Mahone at Rangers
DTEND:20140504T173000
DTSTAMP:20260422T182500
DTSTART:20140504T160000
END:VEVENT
BEGIN:VEVENT
CATEGORIES:HOCKEY GAME
SUMMARY:Pogue Mahone at Red Scare
LOCATION:OLY
DESCRIPTION;ENCODING=QUOTED-PRINTABLE:Easy Street Area=0D=0A2014 Summer=0D=0ADivision 4=0D=0APogue Mahone at Red Scare
DTEND:20140518T223000
DTSTAMP:20260422T182500
DTSTART:20140518T210000
END:VEVENT
BEGIN:VEVENT
CATEGORIES:HOCKEY GAME
SUMMARY:Pogue Mahone vs Ruination
LOCATION:NHL
DESCRIPTION;ENCODING=QUOTED-PRINTABLE:Easy Street Area=0D=0A2014 Summer=0D=0ADivision 4=0D=0APogue Mahone vs Ruination
DTEND:20140601T203000
DTSTAMP:20260422T182500
DTSTART:20140601T190000
END:VEVENT
BEGIN:VEVENT
CATEGORIES:HOCKEY GAME
SUMMARY:Pogue Mahone at Wolfpack
LOCATION:OLY
DESCRIPTION;ENCODING=QUOTED-PRINTABLE:Easy Street Area=0D=0A2014 Summer=0D=0ADivision 4=0D=0APogue Mahone at Wolfpack
DTEND:20140608T140000
DTSTAMP:20260422T182500
DTSTART:20140608T123000
END:VEVENT
BEGIN:VEVENT
CATEGORIES:HOCKEY GAME
SUMMARY:Pogue Mahone vs Rangers
LOCATION:NHL
DESCRIPTION;ENCODING=QUOTED-PRINTABLE:Easy Street Area=0D=0A2014 Summer=0D=0ADivision 4=0D=0APogue Mahone vs Rangers
DTEND:20140615T160000
DTSTAMP:20260422T182500
DTSTART:20140615T143000
END:VEVENT
BEGIN:VEVENT
CATEGORIES:HOCKEY GAME
SUMMARY:Pogue Mahone vs Red Scare
LOCATION:OLY
DESCRIPTION;ENCODING=QUOTED-PRINTABLE:Easy Street Area=0D=0A2014 Summer=0D=0ADivision 4=0D=0APogue Mahone vs Red Scare
DTEND:20140622T223000
DTSTAMP:20260422T182500
DTSTART:20140622T210000
END:VEVENT
BEGIN:VEVENT
CATEGORIES:HOCKEY GAME
SUMMARY:Pogue Mahone at Hawks
LOCATION:OLY
DESCRIPTION;ENCODING=QUOTED-PRINTABLE:Easy Street Area=0D=0A2014 Summer=0D=0ADivision 4=0D=0APogue Mahone at Hawks
DTEND:20140629T180000
DTSTAMP:20260422T182500
DTSTART:20140629T163000
END:VEVENT
BEGIN:VEVENT
CATEGORIES:HOCKEY GAME
SUMMARY:Pogue Mahone vs Wolfpack
LOCATION:NHL
DESCRIPTION;ENCODING=QUOTED-PRINTABLE:Easy Street Area=0D=0A2014 Summer=0D=0ADivision 4=0D=0APogue Mahone vs Wolfpack
DTEND:20140713T173000
DTSTAMP:20260422T182500
DTSTART:20140713T160000
END:VEVENT
BEGIN:VEVENT
CATEGORIES:HOCKEY GAME
SUMMARY:Pogue Mahone at Rangers
LOCATION:NHL
DESCRIPTION;ENCODING=QUOTED-PRINTABLE:Easy Street Area=0D=0A2014 Summer=0D=0ADivision 4=0D=0APogue Mahone at Rangers
DTEND:20140720T130000
DTSTAMP:20260422T182500
DTSTART:20140720T113000
END:VEVENT
BEGIN:VEVENT
CATEGORIES:HOCKEY GAME
SUMMARY:Pogue Mahone vs Red Scare
LOCATION:NHL
DESCRIPTION;ENCODING=QUOTED-PRINTABLE:Easy Street Area=0D=0A2014 Summer=0D=0ADivision 4=0D=0APogue Mahone vs Red Scare
DTEND:20140727T203000
DTSTAMP:20260422T182500
DTSTART:20140727T190000
END:VEVENT
BEGIN:VEVENT
CATEGORIES:HOCKEY GAME
SUMMARY:Pogue Mahone at Hawks
LOCATION:NHL
DESCRIPTION;ENCODING=QUOTED-PRINTABLE:Easy Street Area=0D=0A2014 Summer=0D=0ADivision 4=0D=0APogue Mahone at Hawks
DTEND:20140803T143000
DTSTAMP:20260422T182500
DTSTART:20140803T130000
END:VEVENT
BEGIN:VEVENT
CATEGORIES:HOCKEY GAME
SUMMARY:Pogue Mahone at Ruination
LOCATION:NHL
DESCRIPTION;ENCODING=QUOTED-PRINTABLE:Easy Street Area=0D=0A2014 Summer=0D=0ADivision 4=0D=0APogue Mahone at Ruination
DTEND:20140810T233000
DTSTAMP:20260422T182500
DTSTART:20140810T220000
END:VEVENT
END:VCALENDAR
