BEGIN:VCALENDAR
VERSION:2.0
BEGIN:VEVENT
CATEGORIES:HOCKEY GAME
SUMMARY:Crossbar at Brewins
LOCATION:NHL
DESCRIPTION;ENCODING=QUOTED-PRINTABLE:Easy Street Area=0D=0A2013 Summer=0D=0ADivision 1=0D=0ACrossbar at Brewins
DTEND:20130408T221500
DTSTAMP:20260420T073900
DTSTART:20130408T204500
END:VEVENT
BEGIN:VEVENT
CATEGORIES:HOCKEY GAME
SUMMARY:Crossbar vs Tan LA
LOCATION:NHL
DESCRIPTION;ENCODING=QUOTED-PRINTABLE:Easy Street Area=0D=0A2013 Summer=0D=0ADivision 1=0D=0ACrossbar vs Tan LA
DTEND:20130415T221500
DTSTAMP:20260420T073900
DTSTART:20130415T204500
END:VEVENT
BEGIN:VEVENT
CATEGORIES:HOCKEY GAME
SUMMARY:Crossbar at Chetter
LOCATION:NHL
DESCRIPTION;ENCODING=QUOTED-PRINTABLE:Easy Street Area=0D=0A2013 Summer=0D=0ADivision 1=0D=0ACrossbar at Chetter
DTEND:20130422T204500
DTSTAMP:20260420T073900
DTSTART:20130422T191500
END:VEVENT
BEGIN:VEVENT
CATEGORIES:HOCKEY GAME
SUMMARY:Crossbar vs C-Land
LOCATION:NHL
DESCRIPTION;ENCODING=QUOTED-PRINTABLE:Easy Street Area=0D=0A2013 Summer=0D=0ADivision 1=0D=0ACrossbar vs C-Land
DTEND:20130429T204500
DTSTAMP:20260420T073900
DTSTART:20130429T191500
END:VEVENT
BEGIN:VEVENT
CATEGORIES:HOCKEY GAME
SUMMARY:Crossbar at VCCD
LOCATION:NHL
DESCRIPTION;ENCODING=QUOTED-PRINTABLE:Easy Street Area=0D=0A2013 Summer=0D=0ADivision 1=0D=0ACrossbar at VCCD
DTEND:20130506T234500
DTSTAMP:20260420T073900
DTSTART:20130506T221500
END:VEVENT
BEGIN:VEVENT
CATEGORIES:HOCKEY GAME
SUMMARY:Crossbar vs Brewins
LOCATION:NHL
DESCRIPTION;ENCODING=QUOTED-PRINTABLE:Easy Street Area=0D=0A2013 Summer=0D=0ADivision 1=0D=0ACrossbar vs Brewins
DTEND:20130513T204500
DTSTAMP:20260420T073900
DTSTART:20130513T191500
END:VEVENT
BEGIN:VEVENT
CATEGORIES:HOCKEY GAME
SUMMARY:Crossbar at Tan LA
LOCATION:NHL
DESCRIPTION;ENCODING=QUOTED-PRINTABLE:Easy Street Area=0D=0A2013 Summer=0D=0ADivision 1=0D=0ACrossbar at Tan LA
DTEND:20130520T234500
DTSTAMP:20260420T073900
DTSTART:20130520T221500
END:VEVENT
BEGIN:VEVENT
CATEGORIES:HOCKEY GAME
SUMMARY:Crossbar at C-Land
LOCATION:NHL
DESCRIPTION;ENCODING=QUOTED-PRINTABLE:Easy Street Area=0D=0A2013 Summer=0D=0ADivision 1=0D=0ACrossbar at C-Land
DTEND:20130603T234500
DTSTAMP:20260420T073900
DTSTART:20130603T221500
END:VEVENT
BEGIN:VEVENT
CATEGORIES:HOCKEY GAME
SUMMARY:Crossbar vs VCCD
LOCATION:NHL
DESCRIPTION;ENCODING=QUOTED-PRINTABLE:Easy Street Area=0D=0A2013 Summer=0D=0ADivision 1=0D=0ACrossbar vs VCCD
DTEND:20130610T204500
DTSTAMP:20260420T073900
DTSTART:20130610T191500
END:VEVENT
BEGIN:VEVENT
CATEGORIES:HOCKEY GAME
SUMMARY:Crossbar at Brewins
LOCATION:NHL
DESCRIPTION;ENCODING=QUOTED-PRINTABLE:Easy Street Area=0D=0A2013 Summer=0D=0ADivision 1=0D=0ACrossbar at Brewins
DTEND:20130617T221500
DTSTAMP:20260420T073900
DTSTART:20130617T204500
END:VEVENT
BEGIN:VEVENT
CATEGORIES:HOCKEY GAME
SUMMARY:Crossbar vs Tan LA
LOCATION:OLY
DESCRIPTION;ENCODING=QUOTED-PRINTABLE:Easy Street Area=0D=0A2013 Summer=0D=0ADivision 1=0D=0ACrossbar vs Tan LA
DTEND:20130624T200000
DTSTAMP:20260420T073900
DTSTART:20130624T183000
END:VEVENT
BEGIN:VEVENT
CATEGORIES:HOCKEY GAME
SUMMARY:Crossbar at Chetter
LOCATION:NHL
DESCRIPTION;ENCODING=QUOTED-PRINTABLE:Easy Street Area=0D=0A2013 Summer=0D=0ADivision 1=0D=0ACrossbar at Chetter
DTEND:20130701T234500
DTSTAMP:20260420T073900
DTSTART:20130701T221500
END:VEVENT
BEGIN:VEVENT
CATEGORIES:HOCKEY GAME
SUMMARY:Crossbar vs C-Land
LOCATION:OLY
DESCRIPTION;ENCODING=QUOTED-PRINTABLE:Easy Street Area=0D=0A2013 Summer=0D=0ADivision 1=0D=0ACrossbar vs C-Land
DTEND:20130708T200000
DTSTAMP:20260420T073900
DTSTART:20130708T183000
END:VEVENT
BEGIN:VEVENT
CATEGORIES:HOCKEY GAME
SUMMARY:Crossbar at VCCD
LOCATION:NHL
DESCRIPTION;ENCODING=QUOTED-PRINTABLE:Easy Street Area=0D=0A2013 Summer=0D=0ADivision 1=0D=0ACrossbar at VCCD
DTEND:20130715T234500
DTSTAMP:20260420T073900
DTSTART:20130715T221500
END:VEVENT
BEGIN:VEVENT
CATEGORIES:HOCKEY GAME
SUMMARY:Crossbar vs Brewins
LOCATION:NHL
DESCRIPTION;ENCODING=QUOTED-PRINTABLE:Easy Street Area=0D=0A2013 Summer=0D=0ADivision 1=0D=0ACrossbar vs Brewins
DTEND:20130722T221500
DTSTAMP:20260420T073900
DTSTART:20130722T204500
END:VEVENT
BEGIN:VEVENT
CATEGORIES:HOCKEY GAME
SUMMARY:Crossbar at Tan LA
LOCATION:OLY
DESCRIPTION;ENCODING=QUOTED-PRINTABLE:Easy Street Area=0D=0A2013 Summer=0D=0ADivision 1=0D=0ACrossbar at Tan LA
DTEND:20130729T200000
DTSTAMP:20260420T073900
DTSTART:20130729T183000
END:VEVENT
BEGIN:VEVENT
CATEGORIES:HOCKEY GAME
SUMMARY:Crossbar vs Chetter
LOCATION:OLY
DESCRIPTION;ENCODING=QUOTED-PRINTABLE:Easy Street Area=0D=0A2013 Summer=0D=0ADivision 1=0D=0ACrossbar vs Chetter
DTEND:20130805T200000
DTSTAMP:20260420T073900
DTSTART:20130805T183000
END:VEVENT
BEGIN:VEVENT
CATEGORIES:HOCKEY GAME
SUMMARY:Crossbar vs Chetter
LOCATION:OLY
DESCRIPTION;ENCODING=QUOTED-PRINTABLE:Easy Street Area=0D=0A2013 Summer=0D=0ADivision 1=0D=0ACrossbar vs Chetter
DTEND:20130812T200000
DTSTAMP:20260420T073900
DTSTART:20130812T183000
END:VEVENT
END:VCALENDAR
