BEGIN:VCALENDAR
VERSION:2.0
BEGIN:VEVENT
CATEGORIES:HOCKEY GAME
SUMMARY:Labatt Blue Liners at 805-Holes
LOCATION:OLY
DESCRIPTION;ENCODING=QUOTED-PRINTABLE:Easy Street Area=0D=0A2025 Winter=0D=0ATTDBL=0D=0ALabatt Blue Liners at 805-Holes
DTEND:20250911T233000
DTSTAMP:20260420T074800
DTSTART:20250911T220000
END:VEVENT
BEGIN:VEVENT
CATEGORIES:HOCKEY GAME
SUMMARY:Labatt Blue Liners vs Don 5 Holios
LOCATION:OLY
DESCRIPTION;ENCODING=QUOTED-PRINTABLE:Easy Street Area=0D=0A2025 Winter=0D=0ATTDBL=0D=0ALabatt Blue Liners vs Don 5 Holios
DTEND:20250918T233000
DTSTAMP:20260420T074800
DTSTART:20250918T220000
END:VEVENT
BEGIN:VEVENT
CATEGORIES:HOCKEY GAME
SUMMARY:Labatt Blue Liners at 805-Holes
LOCATION:OLY
DESCRIPTION;ENCODING=QUOTED-PRINTABLE:Easy Street Area=0D=0A2025 Winter=0D=0ATTDBL=0D=0ALabatt Blue Liners at 805-Holes
DTEND:20250925T233000
DTSTAMP:20260420T074800
DTSTART:20250925T220000
END:VEVENT
BEGIN:VEVENT
CATEGORIES:HOCKEY GAME
SUMMARY:Labatt Blue Liners at Vodka Celly
LOCATION:OLY
DESCRIPTION;ENCODING=QUOTED-PRINTABLE:Easy Street Area=0D=0A2025 Winter=0D=0ATTDBL=0D=0ALabatt Blue Liners at Vodka Celly
DTEND:20251002T220000
DTSTAMP:20260420T074800
DTSTART:20251002T203000
END:VEVENT
BEGIN:VEVENT
CATEGORIES:HOCKEY GAME
SUMMARY:Labatt Blue Liners vs Don 5 Holios
LOCATION:OLY
DESCRIPTION;ENCODING=QUOTED-PRINTABLE:Easy Street Area=0D=0A2025 Winter=0D=0ATTDBL=0D=0ALabatt Blue Liners vs Don 5 Holios
DTEND:20251009T220000
DTSTAMP:20260420T074800
DTSTART:20251009T203000
END:VEVENT
BEGIN:VEVENT
CATEGORIES:HOCKEY GAME
SUMMARY:Labatt Blue Liners vs 805-Holes
LOCATION:OLY
DESCRIPTION;ENCODING=QUOTED-PRINTABLE:Easy Street Area=0D=0A2025 Winter=0D=0ATTDBL=0D=0ALabatt Blue Liners vs 805-Holes
DTEND:20251016T220000
DTSTAMP:20260420T074800
DTSTART:20251016T203000
END:VEVENT
BEGIN:VEVENT
CATEGORIES:HOCKEY GAME
SUMMARY:Labatt Blue Liners at Vodka Celly
LOCATION:OLY
DESCRIPTION;ENCODING=QUOTED-PRINTABLE:Easy Street Area=0D=0A2025 Winter=0D=0ATTDBL=0D=0ALabatt Blue Liners at Vodka Celly
DTEND:20251023T233000
DTSTAMP:20260420T074800
DTSTART:20251023T220000
END:VEVENT
BEGIN:VEVENT
CATEGORIES:HOCKEY GAME
SUMMARY:Labatt Blue Liners vs Don 5 Holios
LOCATION:OLY
DESCRIPTION;ENCODING=QUOTED-PRINTABLE:Easy Street Area=0D=0A2025 Winter=0D=0ATTDBL=0D=0ALabatt Blue Liners vs Don 5 Holios
DTEND:20251030T233000
DTSTAMP:20260420T074800
DTSTART:20251030T220000
END:VEVENT
BEGIN:VEVENT
CATEGORIES:HOCKEY GAME
SUMMARY:Labatt Blue Liners vs 805-Holes
LOCATION:OLY
DESCRIPTION;ENCODING=QUOTED-PRINTABLE:Easy Street Area=0D=0A2025 Winter=0D=0ATTDBL=0D=0ALabatt Blue Liners vs 805-Holes
DTEND:20251106T233000
DTSTAMP:20260420T074800
DTSTART:20251106T220000
END:VEVENT
BEGIN:VEVENT
CATEGORIES:HOCKEY GAME
SUMMARY:Labatt Blue Liners at Vodka Celly
LOCATION:OLY
DESCRIPTION;ENCODING=QUOTED-PRINTABLE:Easy Street Area=0D=0A2025 Winter=0D=0ATTDBL=0D=0ALabatt Blue Liners at Vodka Celly
DTEND:20251113T220000
DTSTAMP:20260420T074800
DTSTART:20251113T203000
END:VEVENT
BEGIN:VEVENT
CATEGORIES:HOCKEY GAME
SUMMARY:Labatt Blue Liners vs Don 5 Holios
LOCATION:OLY
DESCRIPTION;ENCODING=QUOTED-PRINTABLE:Easy Street Area=0D=0A2025 Winter=0D=0ATTDBL=0D=0ALabatt Blue Liners vs Don 5 Holios
DTEND:20251120T220000
DTSTAMP:20260420T074800
DTSTART:20251120T203000
END:VEVENT
BEGIN:VEVENT
CATEGORIES:HOCKEY GAME
SUMMARY:Labatt Blue Liners vs 805-Holes
LOCATION:OLY
DESCRIPTION;ENCODING=QUOTED-PRINTABLE:Easy Street Area=0D=0A2025 Winter=0D=0ATTDBL=0D=0ALabatt Blue Liners vs 805-Holes
DTEND:20251204T220000
DTSTAMP:20260420T074800
DTSTART:20251204T203000
END:VEVENT
BEGIN:VEVENT
CATEGORIES:HOCKEY GAME
SUMMARY:Labatt Blue Liners at Vodka Celly
LOCATION:OLY
DESCRIPTION;ENCODING=QUOTED-PRINTABLE:Easy Street Area=0D=0A2025 Winter=0D=0ATTDBL=0D=0ALabatt Blue Liners at Vodka Celly
DTEND:20251211T233000
DTSTAMP:20260420T074800
DTSTART:20251211T220000
END:VEVENT
BEGIN:VEVENT
CATEGORIES:HOCKEY GAME
SUMMARY:Labatt Blue Liners vs Don 5 Holios
LOCATION:OLY
DESCRIPTION;ENCODING=QUOTED-PRINTABLE:Easy Street Area=0D=0A2025 Winter=0D=0ATTDBL=0D=0ALabatt Blue Liners vs Don 5 Holios
DTEND:20251218T233000
DTSTAMP:20260420T074800
DTSTART:20251218T220000
END:VEVENT
BEGIN:VEVENT
CATEGORIES:HOCKEY GAME
SUMMARY:Labatt Blue Liners at 805-Holes
LOCATION:OLY
DESCRIPTION;ENCODING=QUOTED-PRINTABLE:Easy Street Area=0D=0A2025 Winter=0D=0ATTDBL=0D=0ALabatt Blue Liners at 805-Holes
DTEND:20260108T233000
DTSTAMP:20260420T074800
DTSTART:20260108T220000
END:VEVENT
BEGIN:VEVENT
CATEGORIES:HOCKEY GAME
SUMMARY:Labatt Blue Liners at Vodka Celly
LOCATION:OLY
DESCRIPTION;ENCODING=QUOTED-PRINTABLE:Easy Street Area=0D=0A2025 Winter=0D=0ATTDBL=0D=0ALabatt Blue Liners at Vodka Celly
DTEND:20260122T220000
DTSTAMP:20260420T074800
DTSTART:20260122T203000
END:VEVENT
BEGIN:VEVENT
CATEGORIES:HOCKEY GAME
SUMMARY:Labatt Blue Liners vs Don 5 Holios
LOCATION:OLY
DESCRIPTION;ENCODING=QUOTED-PRINTABLE:Easy Street Area=0D=0A2025 Winter=0D=0ATTDBL=0D=0ALabatt Blue Liners vs Don 5 Holios
DTEND:20260129T220000
DTSTAMP:20260420T074800
DTSTART:20260129T203000
END:VEVENT
BEGIN:VEVENT
CATEGORIES:HOCKEY GAME
SUMMARY:Labatt Blue Liners at 805-Holes
LOCATION:OLY
DESCRIPTION;ENCODING=QUOTED-PRINTABLE:Easy Street Area=0D=0A2025 Winter=0D=0ATTDBL=0D=0ALabatt Blue Liners at 805-Holes
DTEND:20260205T220000
DTSTAMP:20260420T074800
DTSTART:20260205T203000
END:VEVENT
BEGIN:VEVENT
CATEGORIES:HOCKEY GAME
SUMMARY:Labatt Blue Liners at Vodka Celly
LOCATION:OLY
DESCRIPTION;ENCODING=QUOTED-PRINTABLE:Easy Street Area=0D=0A2025 Winter=0D=0ATTDBL=0D=0ALabatt Blue Liners at Vodka Celly
DTEND:20260219T233000
DTSTAMP:20260420T074800
DTSTART:20260219T220000
END:VEVENT
BEGIN:VEVENT
CATEGORIES:HOCKEY GAME
SUMMARY:Labatt Blue Liners vs Don 5 Holios
LOCATION:OLY
DESCRIPTION;ENCODING=QUOTED-PRINTABLE:Easy Street Area=0D=0A2025 Winter=0D=0ATTDBL=0D=0ALabatt Blue Liners vs Don 5 Holios
DTEND:20260226T233000
DTSTAMP:20260420T074800
DTSTART:20260226T220000
END:VEVENT
BEGIN:VEVENT
CATEGORIES:HOCKEY GAME
SUMMARY:Labatt Blue Liners at 805-Holes
LOCATION:OLY
DESCRIPTION;ENCODING=QUOTED-PRINTABLE:Easy Street Area=0D=0A2025 Winter=0D=0ATTDBL=0D=0ALabatt Blue Liners at 805-Holes
DTEND:20260305T220000
DTSTAMP:20260420T074800
DTSTART:20260305T203000
END:VEVENT
END:VCALENDAR
