BEGIN:VCALENDAR
VERSION:2.0
BEGIN:VEVENT
CATEGORIES:HOCKEY GAME
SUMMARY:805-Holes vs Labatt Blue Liners
LOCATION:OLY
DESCRIPTION;ENCODING=QUOTED-PRINTABLE:Easy Street Area=0D=0A2025 Winter=0D=0ATTDBL=0D=0A805-Holes vs Labatt Blue Liners
DTEND:20250911T233000
DTSTAMP:20260420T074600
DTSTART:20250911T220000
END:VEVENT
BEGIN:VEVENT
CATEGORIES:HOCKEY GAME
SUMMARY:805-Holes at Vodka Celly
LOCATION:OLY
DESCRIPTION;ENCODING=QUOTED-PRINTABLE:Easy Street Area=0D=0A2025 Winter=0D=0ATTDBL=0D=0A805-Holes at Vodka Celly
DTEND:20250918T220000
DTSTAMP:20260420T074600
DTSTART:20250918T203000
END:VEVENT
BEGIN:VEVENT
CATEGORIES:HOCKEY GAME
SUMMARY:805-Holes vs Labatt Blue Liners
LOCATION:OLY
DESCRIPTION;ENCODING=QUOTED-PRINTABLE:Easy Street Area=0D=0A2025 Winter=0D=0ATTDBL=0D=0A805-Holes vs Labatt Blue Liners
DTEND:20250925T233000
DTSTAMP:20260420T074600
DTSTART:20250925T220000
END:VEVENT
BEGIN:VEVENT
CATEGORIES:HOCKEY GAME
SUMMARY:805-Holes at Don 5 Holios
LOCATION:OLY
DESCRIPTION;ENCODING=QUOTED-PRINTABLE:Easy Street Area=0D=0A2025 Winter=0D=0ATTDBL=0D=0A805-Holes at Don 5 Holios
DTEND:20251002T233000
DTSTAMP:20260420T074600
DTSTART:20251002T220000
END:VEVENT
BEGIN:VEVENT
CATEGORIES:HOCKEY GAME
SUMMARY:805-Holes at Vodka Celly
LOCATION:OLY
DESCRIPTION;ENCODING=QUOTED-PRINTABLE:Easy Street Area=0D=0A2025 Winter=0D=0ATTDBL=0D=0A805-Holes at Vodka Celly
DTEND:20251009T233000
DTSTAMP:20260420T074600
DTSTART:20251009T220000
END:VEVENT
BEGIN:VEVENT
CATEGORIES:HOCKEY GAME
SUMMARY:805-Holes at Labatt Blue Liners
LOCATION:OLY
DESCRIPTION;ENCODING=QUOTED-PRINTABLE:Easy Street Area=0D=0A2025 Winter=0D=0ATTDBL=0D=0A805-Holes at Labatt Blue Liners
DTEND:20251016T220000
DTSTAMP:20260420T074600
DTSTART:20251016T203000
END:VEVENT
BEGIN:VEVENT
CATEGORIES:HOCKEY GAME
SUMMARY:805-Holes vs Don 5 Holios
LOCATION:OLY
DESCRIPTION;ENCODING=QUOTED-PRINTABLE:Easy Street Area=0D=0A2025 Winter=0D=0ATTDBL=0D=0A805-Holes vs Don 5 Holios
DTEND:20251023T220000
DTSTAMP:20260420T074600
DTSTART:20251023T203000
END:VEVENT
BEGIN:VEVENT
CATEGORIES:HOCKEY GAME
SUMMARY:805-Holes vs Vodka Celly
LOCATION:OLY
DESCRIPTION;ENCODING=QUOTED-PRINTABLE:Easy Street Area=0D=0A2025 Winter=0D=0ATTDBL=0D=0A805-Holes vs Vodka Celly
DTEND:20251030T220000
DTSTAMP:20260420T074600
DTSTART:20251030T203000
END:VEVENT
BEGIN:VEVENT
CATEGORIES:HOCKEY GAME
SUMMARY:805-Holes at Labatt Blue Liners
LOCATION:OLY
DESCRIPTION;ENCODING=QUOTED-PRINTABLE:Easy Street Area=0D=0A2025 Winter=0D=0ATTDBL=0D=0A805-Holes at Labatt Blue Liners
DTEND:20251106T233000
DTSTAMP:20260420T074600
DTSTART:20251106T220000
END:VEVENT
BEGIN:VEVENT
CATEGORIES:HOCKEY GAME
SUMMARY:805-Holes at Don 5 Holios
LOCATION:OLY
DESCRIPTION;ENCODING=QUOTED-PRINTABLE:Easy Street Area=0D=0A2025 Winter=0D=0ATTDBL=0D=0A805-Holes at Don 5 Holios
DTEND:20251113T233000
DTSTAMP:20260420T074600
DTSTART:20251113T220000
END:VEVENT
BEGIN:VEVENT
CATEGORIES:HOCKEY GAME
SUMMARY:805-Holes vs Vodka Celly
LOCATION:OLY
DESCRIPTION;ENCODING=QUOTED-PRINTABLE:Easy Street Area=0D=0A2025 Winter=0D=0ATTDBL=0D=0A805-Holes vs Vodka Celly
DTEND:20251120T233000
DTSTAMP:20260420T074600
DTSTART:20251120T220000
END:VEVENT
BEGIN:VEVENT
CATEGORIES:HOCKEY GAME
SUMMARY:805-Holes at Labatt Blue Liners
LOCATION:OLY
DESCRIPTION;ENCODING=QUOTED-PRINTABLE:Easy Street Area=0D=0A2025 Winter=0D=0ATTDBL=0D=0A805-Holes at Labatt Blue Liners
DTEND:20251204T220000
DTSTAMP:20260420T074600
DTSTART:20251204T203000
END:VEVENT
BEGIN:VEVENT
CATEGORIES:HOCKEY GAME
SUMMARY:805-Holes at Don 5 Holios
LOCATION:OLY
DESCRIPTION;ENCODING=QUOTED-PRINTABLE:Easy Street Area=0D=0A2025 Winter=0D=0ATTDBL=0D=0A805-Holes at Don 5 Holios
DTEND:20251211T220000
DTSTAMP:20260420T074600
DTSTART:20251211T203000
END:VEVENT
BEGIN:VEVENT
CATEGORIES:HOCKEY GAME
SUMMARY:805-Holes vs Vodka Celly
LOCATION:OLY
DESCRIPTION;ENCODING=QUOTED-PRINTABLE:Easy Street Area=0D=0A2025 Winter=0D=0ATTDBL=0D=0A805-Holes vs Vodka Celly
DTEND:20251218T220000
DTSTAMP:20260420T074600
DTSTART:20251218T203000
END:VEVENT
BEGIN:VEVENT
CATEGORIES:HOCKEY GAME
SUMMARY:805-Holes vs Labatt Blue Liners
LOCATION:OLY
DESCRIPTION;ENCODING=QUOTED-PRINTABLE:Easy Street Area=0D=0A2025 Winter=0D=0ATTDBL=0D=0A805-Holes vs Labatt Blue Liners
DTEND:20260108T233000
DTSTAMP:20260420T074600
DTSTART:20260108T220000
END:VEVENT
BEGIN:VEVENT
CATEGORIES:HOCKEY GAME
SUMMARY:805-Holes at Don 5 Holios
LOCATION:OLY
DESCRIPTION;ENCODING=QUOTED-PRINTABLE:Easy Street Area=0D=0A2025 Winter=0D=0ATTDBL=0D=0A805-Holes at Don 5 Holios
DTEND:20260122T233000
DTSTAMP:20260420T074600
DTSTART:20260122T220000
END:VEVENT
BEGIN:VEVENT
CATEGORIES:HOCKEY GAME
SUMMARY:805-Holes vs Vodka Celly
LOCATION:OLY
DESCRIPTION;ENCODING=QUOTED-PRINTABLE:Easy Street Area=0D=0A2025 Winter=0D=0ATTDBL=0D=0A805-Holes vs Vodka Celly
DTEND:20260129T233000
DTSTAMP:20260420T074600
DTSTART:20260129T220000
END:VEVENT
BEGIN:VEVENT
CATEGORIES:HOCKEY GAME
SUMMARY:805-Holes vs Labatt Blue Liners
LOCATION:OLY
DESCRIPTION;ENCODING=QUOTED-PRINTABLE:Easy Street Area=0D=0A2025 Winter=0D=0ATTDBL=0D=0A805-Holes vs Labatt Blue Liners
DTEND:20260205T220000
DTSTAMP:20260420T074600
DTSTART:20260205T203000
END:VEVENT
BEGIN:VEVENT
CATEGORIES:HOCKEY GAME
SUMMARY:805-Holes at Don 5 Holios
LOCATION:OLY
DESCRIPTION;ENCODING=QUOTED-PRINTABLE:Easy Street Area=0D=0A2025 Winter=0D=0ATTDBL=0D=0A805-Holes at Don 5 Holios
DTEND:20260219T220000
DTSTAMP:20260420T074600
DTSTART:20260219T203000
END:VEVENT
BEGIN:VEVENT
CATEGORIES:HOCKEY GAME
SUMMARY:805-Holes vs Vodka Celly
LOCATION:OLY
DESCRIPTION;ENCODING=QUOTED-PRINTABLE:Easy Street Area=0D=0A2025 Winter=0D=0ATTDBL=0D=0A805-Holes vs Vodka Celly
DTEND:20260226T220000
DTSTAMP:20260420T074600
DTSTART:20260226T203000
END:VEVENT
BEGIN:VEVENT
CATEGORIES:HOCKEY GAME
SUMMARY:805-Holes vs Labatt Blue Liners
LOCATION:OLY
DESCRIPTION;ENCODING=QUOTED-PRINTABLE:Easy Street Area=0D=0A2025 Winter=0D=0ATTDBL=0D=0A805-Holes vs Labatt Blue Liners
DTEND:20260305T220000
DTSTAMP:20260420T074600
DTSTART:20260305T203000
END:VEVENT
END:VCALENDAR
