BEGIN:VCALENDAR
VERSION:2.0
BEGIN:VEVENT
CATEGORIES:HOCKEY GAME
SUMMARY:South Puck Two vs Acme Warriors
LOCATION:OLY
DESCRIPTION;ENCODING=QUOTED-PRINTABLE:Easy Street Area=0D=0A2014 Summer=0D=0ADivision 6=0D=0ASouth Puck Two vs Acme Warriors
DTEND:20140316T210000
DTSTAMP:20260422T125000
DTSTART:20140316T193000
END:VEVENT
BEGIN:VEVENT
CATEGORIES:HOCKEY GAME
SUMMARY:South Puck Two vs Puck Buddies
LOCATION:OLY
DESCRIPTION;ENCODING=QUOTED-PRINTABLE:Easy Street Area=0D=0A2014 Summer=0D=0ADivision 6=0D=0ASouth Puck Two vs Puck Buddies
DTEND:20140323T193000
DTSTAMP:20260422T125000
DTSTART:20140323T180000
END:VEVENT
BEGIN:VEVENT
CATEGORIES:HOCKEY GAME
SUMMARY:South Puck Two vs Pylons
LOCATION:OLY
DESCRIPTION;ENCODING=QUOTED-PRINTABLE:Easy Street Area=0D=0A2014 Summer=0D=0ADivision 6=0D=0ASouth Puck Two vs Pylons
DTEND:20140330T180000
DTSTAMP:20260422T125000
DTSTART:20140330T163000
END:VEVENT
BEGIN:VEVENT
CATEGORIES:HOCKEY GAME
SUMMARY:South Puck Two at Lightning
LOCATION:NHL
DESCRIPTION;ENCODING=QUOTED-PRINTABLE:Easy Street Area=0D=0A2014 Summer=0D=0ADivision 6=0D=0ASouth Puck Two at Lightning
DTEND:20140406T143000
DTSTAMP:20260422T125000
DTSTART:20140406T130000
END:VEVENT
BEGIN:VEVENT
CATEGORIES:HOCKEY GAME
SUMMARY:South Puck Two at Puck Buddies
LOCATION:NHL
DESCRIPTION;ENCODING=QUOTED-PRINTABLE:Easy Street Area=0D=0A2014 Summer=0D=0ADivision 6=0D=0ASouth Puck Two at Puck Buddies
DTEND:20140413T173000
DTSTAMP:20260422T125000
DTSTART:20140413T160000
END:VEVENT
BEGIN:VEVENT
CATEGORIES:HOCKEY GAME
SUMMARY:South Puck Two at Acme Warriors
LOCATION:NHL
DESCRIPTION;ENCODING=QUOTED-PRINTABLE:Easy Street Area=0D=0A2014 Summer=0D=0ADivision 6=0D=0ASouth Puck Two at Acme Warriors
DTEND:20140420T143000
DTSTAMP:20260422T125000
DTSTART:20140420T130000
END:VEVENT
BEGIN:VEVENT
CATEGORIES:HOCKEY GAME
SUMMARY:South Puck Two vs Benders
LOCATION:OLY
DESCRIPTION;ENCODING=QUOTED-PRINTABLE:Easy Street Area=0D=0A2014 Summer=0D=0ADivision 6=0D=0ASouth Puck Two vs Benders
DTEND:20140427T223000
DTSTAMP:20260422T125000
DTSTART:20140427T210000
END:VEVENT
BEGIN:VEVENT
CATEGORIES:HOCKEY GAME
SUMMARY:South Puck Two vs Pylons
LOCATION:OLY
DESCRIPTION;ENCODING=QUOTED-PRINTABLE:Easy Street Area=0D=0A2014 Summer=0D=0ADivision 6=0D=0ASouth Puck Two vs Pylons
DTEND:20140504T223000
DTSTAMP:20260422T125000
DTSTART:20140504T210000
END:VEVENT
BEGIN:VEVENT
CATEGORIES:HOCKEY GAME
SUMMARY:South Puck Two vs Lightning
LOCATION:NHL
DESCRIPTION;ENCODING=QUOTED-PRINTABLE:Easy Street Area=0D=0A2014 Summer=0D=0ADivision 6=0D=0ASouth Puck Two vs Lightning
DTEND:20140518T203000
DTSTAMP:20260422T125000
DTSTART:20140518T190000
END:VEVENT
BEGIN:VEVENT
CATEGORIES:HOCKEY GAME
SUMMARY:South Puck Two vs Puck Buddies
LOCATION:NHL
DESCRIPTION;ENCODING=QUOTED-PRINTABLE:Easy Street Area=0D=0A2014 Summer=0D=0ADivision 6=0D=0ASouth Puck Two vs Puck Buddies
DTEND:20140531T181500
DTSTAMP:20260422T125000
DTSTART:20140531T164500
END:VEVENT
BEGIN:VEVENT
CATEGORIES:HOCKEY GAME
SUMMARY:South Puck Two vs Acme Warriors
LOCATION:OLY
DESCRIPTION;ENCODING=QUOTED-PRINTABLE:Easy Street Area=0D=0A2014 Summer=0D=0ADivision 6=0D=0ASouth Puck Two vs Acme Warriors
DTEND:20140601T223000
DTSTAMP:20260422T125000
DTSTART:20140601T210000
END:VEVENT
BEGIN:VEVENT
CATEGORIES:HOCKEY GAME
SUMMARY:South Puck Two at Benders
LOCATION:NHL
DESCRIPTION;ENCODING=QUOTED-PRINTABLE:Easy Street Area=0D=0A2014 Summer=0D=0ADivision 6=0D=0ASouth Puck Two at Benders
DTEND:20140608T203000
DTSTAMP:20260422T125000
DTSTART:20140608T190000
END:VEVENT
BEGIN:VEVENT
CATEGORIES:HOCKEY GAME
SUMMARY:South Puck Two vs Pylons
LOCATION:NHL
DESCRIPTION;ENCODING=QUOTED-PRINTABLE:Easy Street Area=0D=0A2014 Summer=0D=0ADivision 6=0D=0ASouth Puck Two vs Pylons
DTEND:20140615T233000
DTSTAMP:20260422T125000
DTSTART:20140615T220000
END:VEVENT
BEGIN:VEVENT
CATEGORIES:HOCKEY GAME
SUMMARY:South Puck Two at Lightning
LOCATION:NHL
DESCRIPTION;ENCODING=QUOTED-PRINTABLE:Easy Street Area=0D=0A2014 Summer=0D=0ADivision 6=0D=0ASouth Puck Two at Lightning
DTEND:20140622T173000
DTSTAMP:20260422T125000
DTSTART:20140622T160000
END:VEVENT
BEGIN:VEVENT
CATEGORIES:HOCKEY GAME
SUMMARY:South Puck Two at Puck Buddies
LOCATION:NHL
DESCRIPTION;ENCODING=QUOTED-PRINTABLE:Easy Street Area=0D=0A2014 Summer=0D=0ADivision 6=0D=0ASouth Puck Two at Puck Buddies
DTEND:20140629T143000
DTSTAMP:20260422T125000
DTSTART:20140629T130000
END:VEVENT
BEGIN:VEVENT
CATEGORIES:HOCKEY GAME
SUMMARY:South Puck Two vs Benders
LOCATION:NHL
DESCRIPTION;ENCODING=QUOTED-PRINTABLE:Easy Street Area=0D=0A2014 Summer=0D=0ADivision 6=0D=0ASouth Puck Two vs Benders
DTEND:20140713T220000
DTSTAMP:20260422T125000
DTSTART:20140713T203000
END:VEVENT
BEGIN:VEVENT
CATEGORIES:HOCKEY GAME
SUMMARY:South Puck Two at Pylons
LOCATION:NHL
DESCRIPTION;ENCODING=QUOTED-PRINTABLE:Easy Street Area=0D=0A2014 Summer=0D=0ADivision 6=0D=0ASouth Puck Two at Pylons
DTEND:20140720T233000
DTSTAMP:20260422T125000
DTSTART:20140720T220000
END:VEVENT
BEGIN:VEVENT
CATEGORIES:HOCKEY GAME
SUMMARY:South Puck Two at Lightning
LOCATION:NHL
DESCRIPTION;ENCODING=QUOTED-PRINTABLE:Easy Street Area=0D=0A2014 Summer=0D=0ADivision 6=0D=0ASouth Puck Two at Lightning
DTEND:20140727T130000
DTSTAMP:20260422T125000
DTSTART:20140727T113000
END:VEVENT
BEGIN:VEVENT
CATEGORIES:HOCKEY GAME
SUMMARY:South Puck Two at Puck Buddies
LOCATION:NHL
DESCRIPTION;ENCODING=QUOTED-PRINTABLE:Easy Street Area=0D=0A2014 Summer=0D=0ADivision 6=0D=0ASouth Puck Two at Puck Buddies
DTEND:20140803T203000
DTSTAMP:20260422T125000
DTSTART:20140803T190000
END:VEVENT
BEGIN:VEVENT
CATEGORIES:HOCKEY GAME
SUMMARY:South Puck Two at Acme Warriors
LOCATION:OLY
DESCRIPTION;ENCODING=QUOTED-PRINTABLE:Easy Street Area=0D=0A2014 Summer=0D=0ADivision 6=0D=0ASouth Puck Two at Acme Warriors
DTEND:20140810T140000
DTSTAMP:20260422T125000
DTSTART:20140810T123000
END:VEVENT
END:VCALENDAR
