BEGIN:VCALENDAR
VERSION:2.0
BEGIN:VEVENT
CATEGORIES:HOCKEY GAME
SUMMARY:Savages vs Lightning
LOCATION:OLY
DESCRIPTION;ENCODING=QUOTED-PRINTABLE:Easy Street Area=0D=0A2014 Summer=0D=0ADivision 6=0D=0ASavages vs Lightning
DTEND:20140316T223000
DTSTAMP:20260422T140500
DTSTART:20140316T210000
END:VEVENT
BEGIN:VEVENT
CATEGORIES:HOCKEY GAME
SUMMARY:Savages at Other Team
LOCATION:OLY
DESCRIPTION;ENCODING=QUOTED-PRINTABLE:Easy Street Area=0D=0A2014 Summer=0D=0ADivision 6=0D=0ASavages at Other Team
DTEND:20140323T223000
DTSTAMP:20260422T140500
DTSTART:20140323T210000
END:VEVENT
BEGIN:VEVENT
CATEGORIES:HOCKEY GAME
SUMMARY:Savages at South Puck One
LOCATION:OLY
DESCRIPTION;ENCODING=QUOTED-PRINTABLE:Easy Street Area=0D=0A2014 Summer=0D=0ADivision 5=0D=0ASavages at South Puck One
DTEND:20140330T123000
DTSTAMP:20260422T140500
DTSTART:20140330T110000
END:VEVENT
BEGIN:VEVENT
CATEGORIES:HOCKEY GAME
SUMMARY:Savages at Last Call
LOCATION:NHL
DESCRIPTION;ENCODING=QUOTED-PRINTABLE:Easy Street Area=0D=0A2014 Summer=0D=0ADivision 5=0D=0ASavages at Last Call
DTEND:20140406T190000
DTSTAMP:20260422T140500
DTSTART:20140406T173000
END:VEVENT
BEGIN:VEVENT
CATEGORIES:HOCKEY GAME
SUMMARY:Savages vs Other Team
LOCATION:NHL
DESCRIPTION;ENCODING=QUOTED-PRINTABLE:Easy Street Area=0D=0A2014 Summer=0D=0ADivision 5=0D=0ASavages vs Other Team
DTEND:20140413T143000
DTSTAMP:20260422T140500
DTSTART:20140413T130000
END:VEVENT
BEGIN:VEVENT
CATEGORIES:HOCKEY GAME
SUMMARY:Savages at Puck Monkeys
LOCATION:OLY
DESCRIPTION;ENCODING=QUOTED-PRINTABLE:Easy Street Area=0D=0A2014 Summer=0D=0ADivision 5=0D=0ASavages at Puck Monkeys
DTEND:20140420T223000
DTSTAMP:20260422T140500
DTSTART:20140420T210000
END:VEVENT
BEGIN:VEVENT
CATEGORIES:HOCKEY GAME
SUMMARY:Savages at Other Team
LOCATION:NHL
DESCRIPTION;ENCODING=QUOTED-PRINTABLE:Easy Street Area=0D=0A2014 Summer=0D=0ADivision 5=0D=0ASavages at Other Team
DTEND:20140426T211500
DTSTAMP:20260422T140500
DTSTART:20140426T194500
END:VEVENT
BEGIN:VEVENT
CATEGORIES:HOCKEY GAME
SUMMARY:Savages at Dodos
LOCATION:OLY
DESCRIPTION;ENCODING=QUOTED-PRINTABLE:Easy Street Area=0D=0A2014 Summer=0D=0ADivision 5=0D=0ASavages at Dodos
DTEND:20140427T123000
DTSTAMP:20260422T140500
DTSTART:20140427T110000
END:VEVENT
BEGIN:VEVENT
CATEGORIES:HOCKEY GAME
SUMMARY:Savages vs South Puck One
LOCATION:NHL
DESCRIPTION;ENCODING=QUOTED-PRINTABLE:Easy Street Area=0D=0A2014 Summer=0D=0ADivision 5=0D=0ASavages vs South Puck One
DTEND:20140504T233000
DTSTAMP:20260422T140500
DTSTART:20140504T220000
END:VEVENT
BEGIN:VEVENT
CATEGORIES:HOCKEY GAME
SUMMARY:Savages vs Last Call
LOCATION:NHL
DESCRIPTION;ENCODING=QUOTED-PRINTABLE:Easy Street Area=0D=0A2014 Summer=0D=0ADivision 5=0D=0ASavages vs Last Call
DTEND:20140518T143000
DTSTAMP:20260422T140500
DTSTART:20140518T130000
END:VEVENT
BEGIN:VEVENT
CATEGORIES:HOCKEY GAME
SUMMARY:Savages vs Puck Monkeys
LOCATION:OLY
DESCRIPTION;ENCODING=QUOTED-PRINTABLE:Easy Street Area=0D=0A2014 Summer=0D=0ADivision 5=0D=0ASavages vs Puck Monkeys
DTEND:20140601T140000
DTSTAMP:20260422T140500
DTSTART:20140601T123000
END:VEVENT
BEGIN:VEVENT
CATEGORIES:HOCKEY GAME
SUMMARY:Savages vs Dodos
LOCATION:OLY
DESCRIPTION;ENCODING=QUOTED-PRINTABLE:Easy Street Area=0D=0A2014 Summer=0D=0ADivision 5=0D=0ASavages vs Dodos
DTEND:20140608T123000
DTSTAMP:20260422T140500
DTSTART:20140608T110000
END:VEVENT
BEGIN:VEVENT
CATEGORIES:HOCKEY GAME
SUMMARY:Savages at South Puck One
LOCATION:NHL
DESCRIPTION;ENCODING=QUOTED-PRINTABLE:Easy Street Area=0D=0A2014 Summer=0D=0ADivision 5=0D=0ASavages at South Puck One
DTEND:20140615T220000
DTSTAMP:20260422T140500
DTSTART:20140615T203000
END:VEVENT
BEGIN:VEVENT
CATEGORIES:HOCKEY GAME
SUMMARY:Savages at Last Call
LOCATION:NHL
DESCRIPTION;ENCODING=QUOTED-PRINTABLE:Easy Street Area=0D=0A2014 Summer=0D=0ADivision 5=0D=0ASavages at Last Call
DTEND:20140622T203000
DTSTAMP:20260422T140500
DTSTART:20140622T190000
END:VEVENT
BEGIN:VEVENT
CATEGORIES:HOCKEY GAME
SUMMARY:Savages vs Other Team
LOCATION:OLY
DESCRIPTION;ENCODING=QUOTED-PRINTABLE:Easy Street Area=0D=0A2014 Summer=0D=0ADivision 5=0D=0ASavages vs Other Team
DTEND:20140629T210000
DTSTAMP:20260422T140500
DTSTART:20140629T193000
END:VEVENT
BEGIN:VEVENT
CATEGORIES:HOCKEY GAME
SUMMARY:Savages at Dodos
LOCATION:OLY
DESCRIPTION;ENCODING=QUOTED-PRINTABLE:Easy Street Area=0D=0A2014 Summer=0D=0ADivision 5=0D=0ASavages at Dodos
DTEND:20140713T193000
DTSTAMP:20260422T140500
DTSTART:20140713T180000
END:VEVENT
BEGIN:VEVENT
CATEGORIES:HOCKEY GAME
SUMMARY:Savages vs South Puck One
LOCATION:NHL
DESCRIPTION;ENCODING=QUOTED-PRINTABLE:Easy Street Area=0D=0A2014 Summer=0D=0ADivision 5=0D=0ASavages vs South Puck One
DTEND:20140720T203000
DTSTAMP:20260422T140500
DTSTART:20140720T190000
END:VEVENT
BEGIN:VEVENT
CATEGORIES:HOCKEY GAME
SUMMARY:Savages at Last Call
LOCATION:NHL
DESCRIPTION;ENCODING=QUOTED-PRINTABLE:Easy Street Area=0D=0A2014 Summer=0D=0ADivision 5=0D=0ASavages at Last Call
DTEND:20140727T160000
DTSTAMP:20260422T140500
DTSTART:20140727T143000
END:VEVENT
BEGIN:VEVENT
CATEGORIES:HOCKEY GAME
SUMMARY:Savages vs Other Team
LOCATION:NHL
DESCRIPTION;ENCODING=QUOTED-PRINTABLE:Easy Street Area=0D=0A2014 Summer=0D=0ADivision 5=0D=0ASavages vs Other Team
DTEND:20140803T173000
DTSTAMP:20260422T140500
DTSTART:20140803T160000
END:VEVENT
BEGIN:VEVENT
CATEGORIES:HOCKEY GAME
SUMMARY:Savages at Puck Monkeys
LOCATION:OLY
DESCRIPTION;ENCODING=QUOTED-PRINTABLE:Easy Street Area=0D=0A2014 Summer=0D=0ADivision 5=0D=0ASavages at Puck Monkeys
DTEND:20140810T193000
DTSTAMP:20260422T140500
DTSTART:20140810T180000
END:VEVENT
END:VCALENDAR
