BEGIN:VCALENDAR
VERSION:2.0
BEGIN:VEVENT
CATEGORIES:HOCKEY GAME
SUMMARY:Puck Buddies at Benders
LOCATION:NHL
DESCRIPTION;ENCODING=QUOTED-PRINTABLE:Easy Street Area=0D=0A2014 Summer=0D=0ADivision 6=0D=0APuck Buddies at Benders
DTEND:20140316T143000
DTSTAMP:20260422T124800
DTSTART:20140316T130000
END:VEVENT
BEGIN:VEVENT
CATEGORIES:HOCKEY GAME
SUMMARY:Puck Buddies at South Puck Two
LOCATION:OLY
DESCRIPTION;ENCODING=QUOTED-PRINTABLE:Easy Street Area=0D=0A2014 Summer=0D=0ADivision 6=0D=0APuck Buddies at South Puck Two
DTEND:20140323T193000
DTSTAMP:20260422T124800
DTSTART:20140323T180000
END:VEVENT
BEGIN:VEVENT
CATEGORIES:HOCKEY GAME
SUMMARY:Puck Buddies at Acme Warriors
LOCATION:OLY
DESCRIPTION;ENCODING=QUOTED-PRINTABLE:Easy Street Area=0D=0A2014 Summer=0D=0ADivision 6=0D=0APuck Buddies at Acme Warriors
DTEND:20140330T193000
DTSTAMP:20260422T124800
DTSTART:20140330T180000
END:VEVENT
BEGIN:VEVENT
CATEGORIES:HOCKEY GAME
SUMMARY:Puck Buddies at Pylons
LOCATION:NHL
DESCRIPTION;ENCODING=QUOTED-PRINTABLE:Easy Street Area=0D=0A2014 Summer=0D=0ADivision 6=0D=0APuck Buddies at Pylons
DTEND:20140406T233000
DTSTAMP:20260422T124800
DTSTART:20140406T220000
END:VEVENT
BEGIN:VEVENT
CATEGORIES:HOCKEY GAME
SUMMARY:Puck Buddies vs South Puck Two
LOCATION:NHL
DESCRIPTION;ENCODING=QUOTED-PRINTABLE:Easy Street Area=0D=0A2014 Summer=0D=0ADivision 6=0D=0APuck Buddies vs South Puck Two
DTEND:20140413T173000
DTSTAMP:20260422T124800
DTSTART:20140413T160000
END:VEVENT
BEGIN:VEVENT
CATEGORIES:HOCKEY GAME
SUMMARY:Puck Buddies at Benders
LOCATION:OLY
DESCRIPTION;ENCODING=QUOTED-PRINTABLE:Easy Street Area=0D=0A2014 Summer=0D=0ADivision 6=0D=0APuck Buddies at Benders
DTEND:20140420T210000
DTSTAMP:20260422T124800
DTSTART:20140420T193000
END:VEVENT
BEGIN:VEVENT
CATEGORIES:HOCKEY GAME
SUMMARY:Puck Buddies at Lightning
LOCATION:OLY
DESCRIPTION;ENCODING=QUOTED-PRINTABLE:Easy Street Area=0D=0A2014 Summer=0D=0ADivision 6=0D=0APuck Buddies at Lightning
DTEND:20140427T140000
DTSTAMP:20260422T124800
DTSTART:20140427T123000
END:VEVENT
BEGIN:VEVENT
CATEGORIES:HOCKEY GAME
SUMMARY:Puck Buddies vs Acme Warriors
LOCATION:OLY
DESCRIPTION;ENCODING=QUOTED-PRINTABLE:Easy Street Area=0D=0A2014 Summer=0D=0ADivision 6=0D=0APuck Buddies vs Acme Warriors
DTEND:20140504T180000
DTSTAMP:20260422T124800
DTSTART:20140504T163000
END:VEVENT
BEGIN:VEVENT
CATEGORIES:HOCKEY GAME
SUMMARY:Puck Buddies vs Pylons
LOCATION:NHL
DESCRIPTION;ENCODING=QUOTED-PRINTABLE:Easy Street Area=0D=0A2014 Summer=0D=0ADivision 6=0D=0APuck Buddies vs Pylons
DTEND:20140518T173000
DTSTAMP:20260422T124800
DTSTART:20140518T160000
END:VEVENT
BEGIN:VEVENT
CATEGORIES:HOCKEY GAME
SUMMARY:Puck Buddies at South Puck Two
LOCATION:NHL
DESCRIPTION;ENCODING=QUOTED-PRINTABLE:Easy Street Area=0D=0A2014 Summer=0D=0ADivision 6=0D=0APuck Buddies at South Puck Two
DTEND:20140531T181500
DTSTAMP:20260422T124800
DTSTART:20140531T164500
END:VEVENT
BEGIN:VEVENT
CATEGORIES:HOCKEY GAME
SUMMARY:Puck Buddies vs Benders
LOCATION:OLY
DESCRIPTION;ENCODING=QUOTED-PRINTABLE:Easy Street Area=0D=0A2014 Summer=0D=0ADivision 6=0D=0APuck Buddies vs Benders
DTEND:20140601T180000
DTSTAMP:20260422T124800
DTSTART:20140601T163000
END:VEVENT
BEGIN:VEVENT
CATEGORIES:HOCKEY GAME
SUMMARY:Puck Buddies vs Lightning
LOCATION:OLY
DESCRIPTION;ENCODING=QUOTED-PRINTABLE:Easy Street Area=0D=0A2014 Summer=0D=0ADivision 6=0D=0APuck Buddies vs Lightning
DTEND:20140608T193000
DTSTAMP:20260422T124800
DTSTART:20140608T180000
END:VEVENT
BEGIN:VEVENT
CATEGORIES:HOCKEY GAME
SUMMARY:Puck Buddies at Acme Warriors
LOCATION:OLY
DESCRIPTION;ENCODING=QUOTED-PRINTABLE:Easy Street Area=0D=0A2014 Summer=0D=0ADivision 6=0D=0APuck Buddies at Acme Warriors
DTEND:20140615T223000
DTSTAMP:20260422T124800
DTSTART:20140615T210000
END:VEVENT
BEGIN:VEVENT
CATEGORIES:HOCKEY GAME
SUMMARY:Puck Buddies at Pylons
LOCATION:NHL
DESCRIPTION;ENCODING=QUOTED-PRINTABLE:Easy Street Area=0D=0A2014 Summer=0D=0ADivision 6=0D=0APuck Buddies at Pylons
DTEND:20140622T220000
DTSTAMP:20260422T124800
DTSTART:20140622T203000
END:VEVENT
BEGIN:VEVENT
CATEGORIES:HOCKEY GAME
SUMMARY:Puck Buddies vs South Puck Two
LOCATION:NHL
DESCRIPTION;ENCODING=QUOTED-PRINTABLE:Easy Street Area=0D=0A2014 Summer=0D=0ADivision 6=0D=0APuck Buddies vs South Puck Two
DTEND:20140629T143000
DTSTAMP:20260422T124800
DTSTART:20140629T130000
END:VEVENT
BEGIN:VEVENT
CATEGORIES:HOCKEY GAME
SUMMARY:Puck Buddies at Lightning
LOCATION:OLY
DESCRIPTION;ENCODING=QUOTED-PRINTABLE:Easy Street Area=0D=0A2014 Summer=0D=0ADivision 6=0D=0APuck Buddies at Lightning
DTEND:20140713T140000
DTSTAMP:20260422T124800
DTSTART:20140713T123000
END:VEVENT
BEGIN:VEVENT
CATEGORIES:HOCKEY GAME
SUMMARY:Puck Buddies vs Acme Warriors
LOCATION:OLY
DESCRIPTION;ENCODING=QUOTED-PRINTABLE:Easy Street Area=0D=0A2014 Summer=0D=0ADivision 6=0D=0APuck Buddies vs Acme Warriors
DTEND:20140720T123000
DTSTAMP:20260422T124800
DTSTART:20140720T110000
END:VEVENT
BEGIN:VEVENT
CATEGORIES:HOCKEY GAME
SUMMARY:Puck Buddies at Pylons
LOCATION:NHL
DESCRIPTION;ENCODING=QUOTED-PRINTABLE:Easy Street Area=0D=0A2014 Summer=0D=0ADivision 6=0D=0APuck Buddies at Pylons
DTEND:20140727T220000
DTSTAMP:20260422T124800
DTSTART:20140727T203000
END:VEVENT
BEGIN:VEVENT
CATEGORIES:HOCKEY GAME
SUMMARY:Puck Buddies vs South Puck Two
LOCATION:NHL
DESCRIPTION;ENCODING=QUOTED-PRINTABLE:Easy Street Area=0D=0A2014 Summer=0D=0ADivision 6=0D=0APuck Buddies vs South Puck Two
DTEND:20140803T203000
DTSTAMP:20260422T124800
DTSTART:20140803T190000
END:VEVENT
BEGIN:VEVENT
CATEGORIES:HOCKEY GAME
SUMMARY:Puck Buddies at Benders
LOCATION:OLY
DESCRIPTION;ENCODING=QUOTED-PRINTABLE:Easy Street Area=0D=0A2014 Summer=0D=0ADivision 6=0D=0APuck Buddies at Benders
DTEND:20140810T210000
DTSTAMP:20260422T124800
DTSTART:20140810T193000
END:VEVENT
END:VCALENDAR
