BEGIN:VCALENDAR
VERSION:2.0
BEGIN:VEVENT
CATEGORIES:HOCKEY GAME
SUMMARY:Lightning at Savages
LOCATION:OLY
DESCRIPTION;ENCODING=QUOTED-PRINTABLE:Easy Street Area=0D=0A2014 Summer=0D=0ADivision 6=0D=0ALightning at Savages
DTEND:20140316T223000
DTSTAMP:20260422T125000
DTSTART:20140316T210000
END:VEVENT
BEGIN:VEVENT
CATEGORIES:HOCKEY GAME
SUMMARY:Lightning vs Pylons
LOCATION:OLY
DESCRIPTION;ENCODING=QUOTED-PRINTABLE:Easy Street Area=0D=0A2014 Summer=0D=0ADivision 6=0D=0ALightning vs Pylons
DTEND:20140323T210000
DTSTAMP:20260422T125000
DTSTART:20140323T193000
END:VEVENT
BEGIN:VEVENT
CATEGORIES:HOCKEY GAME
SUMMARY:Lightning vs Benders
LOCATION:OLY
DESCRIPTION;ENCODING=QUOTED-PRINTABLE:Easy Street Area=0D=0A2014 Summer=0D=0ADivision 5=0D=0ALightning vs Benders
DTEND:20140330T140000
DTSTAMP:20260422T125000
DTSTART:20140330T123000
END:VEVENT
BEGIN:VEVENT
CATEGORIES:HOCKEY GAME
SUMMARY:Lightning vs South Puck Two
LOCATION:NHL
DESCRIPTION;ENCODING=QUOTED-PRINTABLE:Easy Street Area=0D=0A2014 Summer=0D=0ADivision 6=0D=0ALightning vs South Puck Two
DTEND:20140406T143000
DTSTAMP:20260422T125000
DTSTART:20140406T130000
END:VEVENT
BEGIN:VEVENT
CATEGORIES:HOCKEY GAME
SUMMARY:Lightning at Acme Warriors
LOCATION:NHL
DESCRIPTION;ENCODING=QUOTED-PRINTABLE:Easy Street Area=0D=0A2014 Summer=0D=0ADivision 6=0D=0ALightning at Acme Warriors
DTEND:20140413T203000
DTSTAMP:20260422T125000
DTSTART:20140413T190000
END:VEVENT
BEGIN:VEVENT
CATEGORIES:HOCKEY GAME
SUMMARY:Lightning at Pylons
LOCATION:NHL
DESCRIPTION;ENCODING=QUOTED-PRINTABLE:Easy Street Area=0D=0A2014 Summer=0D=0ADivision 6=0D=0ALightning at Pylons
DTEND:20140420T173000
DTSTAMP:20260422T125000
DTSTART:20140420T160000
END:VEVENT
BEGIN:VEVENT
CATEGORIES:HOCKEY GAME
SUMMARY:Lightning vs Puck Buddies
LOCATION:OLY
DESCRIPTION;ENCODING=QUOTED-PRINTABLE:Easy Street Area=0D=0A2014 Summer=0D=0ADivision 6=0D=0ALightning vs Puck Buddies
DTEND:20140427T140000
DTSTAMP:20260422T125000
DTSTART:20140427T123000
END:VEVENT
BEGIN:VEVENT
CATEGORIES:HOCKEY GAME
SUMMARY:Lightning at Benders
LOCATION:OLY
DESCRIPTION;ENCODING=QUOTED-PRINTABLE:Easy Street Area=0D=0A2014 Summer=0D=0ADivision 6=0D=0ALightning at Benders
DTEND:20140504T140000
DTSTAMP:20260422T125000
DTSTART:20140504T123000
END:VEVENT
BEGIN:VEVENT
CATEGORIES:HOCKEY GAME
SUMMARY:Lightning at South Puck Two
LOCATION:NHL
DESCRIPTION;ENCODING=QUOTED-PRINTABLE:Easy Street Area=0D=0A2014 Summer=0D=0ADivision 6=0D=0ALightning at South Puck Two
DTEND:20140518T203000
DTSTAMP:20260422T125000
DTSTART:20140518T190000
END:VEVENT
BEGIN:VEVENT
CATEGORIES:HOCKEY GAME
SUMMARY:Lightning vs Pylons
LOCATION:OLY
DESCRIPTION;ENCODING=QUOTED-PRINTABLE:Easy Street Area=0D=0A2014 Summer=0D=0ADivision 6=0D=0ALightning vs Pylons
DTEND:20140601T193000
DTSTAMP:20260422T125000
DTSTART:20140601T180000
END:VEVENT
BEGIN:VEVENT
CATEGORIES:HOCKEY GAME
SUMMARY:Lightning at Puck Buddies
LOCATION:OLY
DESCRIPTION;ENCODING=QUOTED-PRINTABLE:Easy Street Area=0D=0A2014 Summer=0D=0ADivision 6=0D=0ALightning at Puck Buddies
DTEND:20140608T193000
DTSTAMP:20260422T125000
DTSTART:20140608T180000
END:VEVENT
BEGIN:VEVENT
CATEGORIES:HOCKEY GAME
SUMMARY:Lightning vs Benders
LOCATION:OLY
DESCRIPTION;ENCODING=QUOTED-PRINTABLE:Easy Street Area=0D=0A2014 Summer=0D=0ADivision 6=0D=0ALightning vs Benders
DTEND:20140615T123000
DTSTAMP:20260422T125000
DTSTART:20140615T110000
END:VEVENT
BEGIN:VEVENT
CATEGORIES:HOCKEY GAME
SUMMARY:Lightning vs South Puck Two
LOCATION:NHL
DESCRIPTION;ENCODING=QUOTED-PRINTABLE:Easy Street Area=0D=0A2014 Summer=0D=0ADivision 6=0D=0ALightning vs South Puck Two
DTEND:20140622T173000
DTSTAMP:20260422T125000
DTSTART:20140622T160000
END:VEVENT
BEGIN:VEVENT
CATEGORIES:HOCKEY GAME
SUMMARY:Lightning at Acme Warriors
LOCATION:OLY
DESCRIPTION;ENCODING=QUOTED-PRINTABLE:Easy Street Area=0D=0A2014 Summer=0D=0ADivision 6=0D=0ALightning at Acme Warriors
DTEND:20140629T223000
DTSTAMP:20260422T125000
DTSTART:20140629T210000
END:VEVENT
BEGIN:VEVENT
CATEGORIES:HOCKEY GAME
SUMMARY:Lightning vs Acme Warriors
LOCATION:NHL
DESCRIPTION;ENCODING=QUOTED-PRINTABLE:Easy Street Area=0D=0A2014 Summer=0D=0ADivision 6=0D=0ALightning vs Acme Warriors
DTEND:20140712T194500
DTSTAMP:20260422T125000
DTSTART:20140712T181500
END:VEVENT
BEGIN:VEVENT
CATEGORIES:HOCKEY GAME
SUMMARY:Lightning vs Puck Buddies
LOCATION:OLY
DESCRIPTION;ENCODING=QUOTED-PRINTABLE:Easy Street Area=0D=0A2014 Summer=0D=0ADivision 6=0D=0ALightning vs Puck Buddies
DTEND:20140713T140000
DTSTAMP:20260422T125000
DTSTART:20140713T123000
END:VEVENT
BEGIN:VEVENT
CATEGORIES:HOCKEY GAME
SUMMARY:Lightning at Benders
LOCATION:NHL
DESCRIPTION;ENCODING=QUOTED-PRINTABLE:Easy Street Area=0D=0A2014 Summer=0D=0ADivision 6=0D=0ALightning at Benders
DTEND:20140720T220000
DTSTAMP:20260422T125000
DTSTART:20140720T203000
END:VEVENT
BEGIN:VEVENT
CATEGORIES:HOCKEY GAME
SUMMARY:Lightning vs South Puck Two
LOCATION:NHL
DESCRIPTION;ENCODING=QUOTED-PRINTABLE:Easy Street Area=0D=0A2014 Summer=0D=0ADivision 6=0D=0ALightning vs South Puck Two
DTEND:20140727T130000
DTSTAMP:20260422T125000
DTSTART:20140727T113000
END:VEVENT
BEGIN:VEVENT
CATEGORIES:HOCKEY GAME
SUMMARY:Lightning at Acme Warriors
LOCATION:NHL
DESCRIPTION;ENCODING=QUOTED-PRINTABLE:Easy Street Area=0D=0A2014 Summer=0D=0ADivision 6=0D=0ALightning at Acme Warriors
DTEND:20140803T233000
DTSTAMP:20260422T125000
DTSTART:20140803T220000
END:VEVENT
BEGIN:VEVENT
CATEGORIES:HOCKEY GAME
SUMMARY:Lightning at Pylons
LOCATION:OLY
DESCRIPTION;ENCODING=QUOTED-PRINTABLE:Easy Street Area=0D=0A2014 Summer=0D=0ADivision 6=0D=0ALightning at Pylons
DTEND:20140810T223000
DTSTAMP:20260422T125000
DTSTART:20140810T210000
END:VEVENT
END:VCALENDAR
