BEGIN:VCALENDAR
VERSION:2.0
BEGIN:VEVENT
CATEGORIES:HOCKEY GAME
SUMMARY:Other Team at Pylons
LOCATION:OLY
DESCRIPTION;ENCODING=QUOTED-PRINTABLE:Easy Street Area=0D=0A2014 Summer=0D=0ADivision 6=0D=0AOther Team at Pylons
DTEND:20140316T193000
DTSTAMP:20260422T141200
DTSTART:20140316T180000
END:VEVENT
BEGIN:VEVENT
CATEGORIES:HOCKEY GAME
SUMMARY:Other Team vs Savages
LOCATION:OLY
DESCRIPTION;ENCODING=QUOTED-PRINTABLE:Easy Street Area=0D=0A2014 Summer=0D=0ADivision 6=0D=0AOther Team vs Savages
DTEND:20140323T223000
DTSTAMP:20260422T141200
DTSTART:20140323T210000
END:VEVENT
BEGIN:VEVENT
CATEGORIES:HOCKEY GAME
SUMMARY:Other Team vs Last Call
LOCATION:NHL
DESCRIPTION;ENCODING=QUOTED-PRINTABLE:Easy Street Area=0D=0A2014 Summer=0D=0ADivision 5=0D=0AOther Team vs Last Call
DTEND:20140330T220000
DTSTAMP:20260422T141200
DTSTART:20140330T203000
END:VEVENT
BEGIN:VEVENT
CATEGORIES:HOCKEY GAME
SUMMARY:Other Team at Dodos
LOCATION:NHL
DESCRIPTION;ENCODING=QUOTED-PRINTABLE:Easy Street Area=0D=0A2014 Summer=0D=0ADivision 5=0D=0AOther Team at Dodos
DTEND:20140406T203000
DTSTAMP:20260422T141200
DTSTART:20140406T190000
END:VEVENT
BEGIN:VEVENT
CATEGORIES:HOCKEY GAME
SUMMARY:Other Team at Savages
LOCATION:NHL
DESCRIPTION;ENCODING=QUOTED-PRINTABLE:Easy Street Area=0D=0A2014 Summer=0D=0ADivision 5=0D=0AOther Team at Savages
DTEND:20140413T143000
DTSTAMP:20260422T141200
DTSTART:20140413T130000
END:VEVENT
BEGIN:VEVENT
CATEGORIES:HOCKEY GAME
SUMMARY:Other Team at South Puck One
LOCATION:NHL
DESCRIPTION;ENCODING=QUOTED-PRINTABLE:Easy Street Area=0D=0A2014 Summer=0D=0ADivision 5=0D=0AOther Team at South Puck One
DTEND:20140420T160000
DTSTAMP:20260422T141200
DTSTART:20140420T143000
END:VEVENT
BEGIN:VEVENT
CATEGORIES:HOCKEY GAME
SUMMARY:Other Team vs Savages
LOCATION:NHL
DESCRIPTION;ENCODING=QUOTED-PRINTABLE:Easy Street Area=0D=0A2014 Summer=0D=0ADivision 5=0D=0AOther Team vs Savages
DTEND:20140426T211500
DTSTAMP:20260422T141200
DTSTART:20140426T194500
END:VEVENT
BEGIN:VEVENT
CATEGORIES:HOCKEY GAME
SUMMARY:Other Team vs Puck Monkeys
LOCATION:OLY
DESCRIPTION;ENCODING=QUOTED-PRINTABLE:Easy Street Area=0D=0A2014 Summer=0D=0ADivision 5=0D=0AOther Team vs Puck Monkeys
DTEND:20140427T180000
DTSTAMP:20260422T141200
DTSTART:20140427T163000
END:VEVENT
BEGIN:VEVENT
CATEGORIES:HOCKEY GAME
SUMMARY:Other Team vs Last Call
LOCATION:OLY
DESCRIPTION;ENCODING=QUOTED-PRINTABLE:Easy Street Area=0D=0A2014 Summer=0D=0ADivision 5=0D=0AOther Team vs Last Call
DTEND:20140504T123000
DTSTAMP:20260422T141200
DTSTART:20140504T110000
END:VEVENT
BEGIN:VEVENT
CATEGORIES:HOCKEY GAME
SUMMARY:Other Team vs Dodos
LOCATION:OLY
DESCRIPTION;ENCODING=QUOTED-PRINTABLE:Easy Street Area=0D=0A2014 Summer=0D=0ADivision 5=0D=0AOther Team vs Dodos
DTEND:20140519T000000
DTSTAMP:20260422T141200
DTSTART:20140518T223000
END:VEVENT
BEGIN:VEVENT
CATEGORIES:HOCKEY GAME
SUMMARY:Other Team vs South Puck One
LOCATION:OLY
DESCRIPTION;ENCODING=QUOTED-PRINTABLE:Easy Street Area=0D=0A2014 Summer=0D=0ADivision 5=0D=0AOther Team vs South Puck One
DTEND:20140601T210000
DTSTAMP:20260422T141200
DTSTART:20140601T193000
END:VEVENT
BEGIN:VEVENT
CATEGORIES:HOCKEY GAME
SUMMARY:Other Team at Puck Monkeys
LOCATION:NHL
DESCRIPTION;ENCODING=QUOTED-PRINTABLE:Easy Street Area=0D=0A2014 Summer=0D=0ADivision 5=0D=0AOther Team at Puck Monkeys
DTEND:20140608T220000
DTSTAMP:20260422T141200
DTSTART:20140608T203000
END:VEVENT
BEGIN:VEVENT
CATEGORIES:HOCKEY GAME
SUMMARY:Other Team vs Last Call
LOCATION:NHL
DESCRIPTION;ENCODING=QUOTED-PRINTABLE:Easy Street Area=0D=0A2014 Summer=0D=0ADivision 5=0D=0AOther Team vs Last Call
DTEND:20140615T190000
DTSTAMP:20260422T141200
DTSTART:20140615T173000
END:VEVENT
BEGIN:VEVENT
CATEGORIES:HOCKEY GAME
SUMMARY:Other Team at Dodos
LOCATION:NHL
DESCRIPTION;ENCODING=QUOTED-PRINTABLE:Easy Street Area=0D=0A2014 Summer=0D=0ADivision 5=0D=0AOther Team at Dodos
DTEND:20140622T160000
DTSTAMP:20260422T141200
DTSTART:20140622T143000
END:VEVENT
BEGIN:VEVENT
CATEGORIES:HOCKEY GAME
SUMMARY:Other Team at Savages
LOCATION:OLY
DESCRIPTION;ENCODING=QUOTED-PRINTABLE:Easy Street Area=0D=0A2014 Summer=0D=0ADivision 5=0D=0AOther Team at Savages
DTEND:20140629T210000
DTSTAMP:20260422T141200
DTSTART:20140629T193000
END:VEVENT
BEGIN:VEVENT
CATEGORIES:HOCKEY GAME
SUMMARY:Other Team vs Puck Monkeys
LOCATION:OLY
DESCRIPTION;ENCODING=QUOTED-PRINTABLE:Easy Street Area=0D=0A2014 Summer=0D=0ADivision 5=0D=0AOther Team vs Puck Monkeys
DTEND:20140713T123000
DTSTAMP:20260422T141200
DTSTART:20140713T110000
END:VEVENT
BEGIN:VEVENT
CATEGORIES:HOCKEY GAME
SUMMARY:Other Team at Last Call
LOCATION:NHL
DESCRIPTION;ENCODING=QUOTED-PRINTABLE:Easy Street Area=0D=0A2014 Summer=0D=0ADivision 5=0D=0AOther Team at Last Call
DTEND:20140720T190000
DTSTAMP:20260422T141200
DTSTART:20140720T173000
END:VEVENT
BEGIN:VEVENT
CATEGORIES:HOCKEY GAME
SUMMARY:Other Team at Dodos
LOCATION:NHL
DESCRIPTION;ENCODING=QUOTED-PRINTABLE:Easy Street Area=0D=0A2014 Summer=0D=0ADivision 5=0D=0AOther Team at Dodos
DTEND:20140727T173000
DTSTAMP:20260422T141200
DTSTART:20140727T160000
END:VEVENT
BEGIN:VEVENT
CATEGORIES:HOCKEY GAME
SUMMARY:Other Team at Savages
LOCATION:NHL
DESCRIPTION;ENCODING=QUOTED-PRINTABLE:Easy Street Area=0D=0A2014 Summer=0D=0ADivision 5=0D=0AOther Team at Savages
DTEND:20140803T173000
DTSTAMP:20260422T141200
DTSTART:20140803T160000
END:VEVENT
BEGIN:VEVENT
CATEGORIES:HOCKEY GAME
SUMMARY:Other Team at South Puck One
LOCATION:OLY
DESCRIPTION;ENCODING=QUOTED-PRINTABLE:Easy Street Area=0D=0A2014 Summer=0D=0ADivision 5=0D=0AOther Team at South Puck One
DTEND:20140810T123000
DTSTAMP:20260422T141200
DTSTART:20140810T110000
END:VEVENT
END:VCALENDAR
