BEGIN:VCALENDAR
VERSION:2.0
BEGIN:VEVENT
CATEGORIES:HOCKEY GAME
SUMMARY:Acme Warriors at South Puck Two
LOCATION:OLY
DESCRIPTION;ENCODING=QUOTED-PRINTABLE:Easy Street Area=0D=0A2014 Summer=0D=0ADivision 6=0D=0AAcme Warriors at South Puck Two
DTEND:20140316T210000
DTSTAMP:20260422T125000
DTSTART:20140316T193000
END:VEVENT
BEGIN:VEVENT
CATEGORIES:HOCKEY GAME
SUMMARY:Acme Warriors vs Benders
LOCATION:OLY
DESCRIPTION;ENCODING=QUOTED-PRINTABLE:Easy Street Area=0D=0A2014 Summer=0D=0ADivision 6=0D=0AAcme Warriors vs Benders
DTEND:20140323T180000
DTSTAMP:20260422T125000
DTSTART:20140323T163000
END:VEVENT
BEGIN:VEVENT
CATEGORIES:HOCKEY GAME
SUMMARY:Acme Warriors vs Puck Buddies
LOCATION:OLY
DESCRIPTION;ENCODING=QUOTED-PRINTABLE:Easy Street Area=0D=0A2014 Summer=0D=0ADivision 6=0D=0AAcme Warriors vs Puck Buddies
DTEND:20140330T193000
DTSTAMP:20260422T125000
DTSTART:20140330T180000
END:VEVENT
BEGIN:VEVENT
CATEGORIES:HOCKEY GAME
SUMMARY:Acme Warriors at Benders
LOCATION:NHL
DESCRIPTION;ENCODING=QUOTED-PRINTABLE:Easy Street Area=0D=0A2014 Summer=0D=0ADivision 6=0D=0AAcme Warriors at Benders
DTEND:20140406T220000
DTSTAMP:20260422T125000
DTSTART:20140406T203000
END:VEVENT
BEGIN:VEVENT
CATEGORIES:HOCKEY GAME
SUMMARY:Acme Warriors vs Lightning
LOCATION:NHL
DESCRIPTION;ENCODING=QUOTED-PRINTABLE:Easy Street Area=0D=0A2014 Summer=0D=0ADivision 6=0D=0AAcme Warriors vs Lightning
DTEND:20140413T203000
DTSTAMP:20260422T125000
DTSTART:20140413T190000
END:VEVENT
BEGIN:VEVENT
CATEGORIES:HOCKEY GAME
SUMMARY:Acme Warriors vs South Puck Two
LOCATION:NHL
DESCRIPTION;ENCODING=QUOTED-PRINTABLE:Easy Street Area=0D=0A2014 Summer=0D=0ADivision 6=0D=0AAcme Warriors vs South Puck Two
DTEND:20140420T143000
DTSTAMP:20260422T125000
DTSTART:20140420T130000
END:VEVENT
BEGIN:VEVENT
CATEGORIES:HOCKEY GAME
SUMMARY:Acme Warriors vs Pylons
LOCATION:OLY
DESCRIPTION;ENCODING=QUOTED-PRINTABLE:Easy Street Area=0D=0A2014 Summer=0D=0ADivision 6=0D=0AAcme Warriors vs Pylons
DTEND:20140427T210000
DTSTAMP:20260422T125000
DTSTART:20140427T193000
END:VEVENT
BEGIN:VEVENT
CATEGORIES:HOCKEY GAME
SUMMARY:Acme Warriors at Puck Buddies
LOCATION:OLY
DESCRIPTION;ENCODING=QUOTED-PRINTABLE:Easy Street Area=0D=0A2014 Summer=0D=0ADivision 6=0D=0AAcme Warriors at Puck Buddies
DTEND:20140504T180000
DTSTAMP:20260422T125000
DTSTART:20140504T163000
END:VEVENT
BEGIN:VEVENT
CATEGORIES:HOCKEY GAME
SUMMARY:Acme Warriors vs Benders
LOCATION:NHL
DESCRIPTION;ENCODING=QUOTED-PRINTABLE:Easy Street Area=0D=0A2014 Summer=0D=0ADivision 6=0D=0AAcme Warriors vs Benders
DTEND:20140518T220000
DTSTAMP:20260422T125000
DTSTART:20140518T203000
END:VEVENT
BEGIN:VEVENT
CATEGORIES:HOCKEY GAME
SUMMARY:Acme Warriors at South Puck Two
LOCATION:OLY
DESCRIPTION;ENCODING=QUOTED-PRINTABLE:Easy Street Area=0D=0A2014 Summer=0D=0ADivision 6=0D=0AAcme Warriors at South Puck Two
DTEND:20140601T223000
DTSTAMP:20260422T125000
DTSTART:20140601T210000
END:VEVENT
BEGIN:VEVENT
CATEGORIES:HOCKEY GAME
SUMMARY:Acme Warriors at Pylons
LOCATION:OLY
DESCRIPTION;ENCODING=QUOTED-PRINTABLE:Easy Street Area=0D=0A2014 Summer=0D=0ADivision 6=0D=0AAcme Warriors at Pylons
DTEND:20140608T180000
DTSTAMP:20260422T125000
DTSTART:20140608T163000
END:VEVENT
BEGIN:VEVENT
CATEGORIES:HOCKEY GAME
SUMMARY:Acme Warriors vs Puck Buddies
LOCATION:OLY
DESCRIPTION;ENCODING=QUOTED-PRINTABLE:Easy Street Area=0D=0A2014 Summer=0D=0ADivision 6=0D=0AAcme Warriors vs Puck Buddies
DTEND:20140615T223000
DTSTAMP:20260422T125000
DTSTART:20140615T210000
END:VEVENT
BEGIN:VEVENT
CATEGORIES:HOCKEY GAME
SUMMARY:Acme Warriors at Benders
LOCATION:NHL
DESCRIPTION;ENCODING=QUOTED-PRINTABLE:Easy Street Area=0D=0A2014 Summer=0D=0ADivision 6=0D=0AAcme Warriors at Benders
DTEND:20140622T190000
DTSTAMP:20260422T125000
DTSTART:20140622T173000
END:VEVENT
BEGIN:VEVENT
CATEGORIES:HOCKEY GAME
SUMMARY:Acme Warriors vs Lightning
LOCATION:OLY
DESCRIPTION;ENCODING=QUOTED-PRINTABLE:Easy Street Area=0D=0A2014 Summer=0D=0ADivision 6=0D=0AAcme Warriors vs Lightning
DTEND:20140629T223000
DTSTAMP:20260422T125000
DTSTART:20140629T210000
END:VEVENT
BEGIN:VEVENT
CATEGORIES:HOCKEY GAME
SUMMARY:Acme Warriors at Lightning
LOCATION:NHL
DESCRIPTION;ENCODING=QUOTED-PRINTABLE:Easy Street Area=0D=0A2014 Summer=0D=0ADivision 6=0D=0AAcme Warriors at Lightning
DTEND:20140712T194500
DTSTAMP:20260422T125000
DTSTART:20140712T181500
END:VEVENT
BEGIN:VEVENT
CATEGORIES:HOCKEY GAME
SUMMARY:Acme Warriors vs Pylons
LOCATION:OLY
DESCRIPTION;ENCODING=QUOTED-PRINTABLE:Easy Street Area=0D=0A2014 Summer=0D=0ADivision 6=0D=0AAcme Warriors vs Pylons
DTEND:20140713T180000
DTSTAMP:20260422T125000
DTSTART:20140713T163000
END:VEVENT
BEGIN:VEVENT
CATEGORIES:HOCKEY GAME
SUMMARY:Acme Warriors at Puck Buddies
LOCATION:OLY
DESCRIPTION;ENCODING=QUOTED-PRINTABLE:Easy Street Area=0D=0A2014 Summer=0D=0ADivision 6=0D=0AAcme Warriors at Puck Buddies
DTEND:20140720T123000
DTSTAMP:20260422T125000
DTSTART:20140720T110000
END:VEVENT
BEGIN:VEVENT
CATEGORIES:HOCKEY GAME
SUMMARY:Acme Warriors at Benders
LOCATION:NHL
DESCRIPTION;ENCODING=QUOTED-PRINTABLE:Easy Street Area=0D=0A2014 Summer=0D=0ADivision 6=0D=0AAcme Warriors at Benders
DTEND:20140727T190000
DTSTAMP:20260422T125000
DTSTART:20140727T173000
END:VEVENT
BEGIN:VEVENT
CATEGORIES:HOCKEY GAME
SUMMARY:Acme Warriors vs Lightning
LOCATION:NHL
DESCRIPTION;ENCODING=QUOTED-PRINTABLE:Easy Street Area=0D=0A2014 Summer=0D=0ADivision 6=0D=0AAcme Warriors vs Lightning
DTEND:20140803T233000
DTSTAMP:20260422T125000
DTSTART:20140803T220000
END:VEVENT
BEGIN:VEVENT
CATEGORIES:HOCKEY GAME
SUMMARY:Acme Warriors vs South Puck Two
LOCATION:OLY
DESCRIPTION;ENCODING=QUOTED-PRINTABLE:Easy Street Area=0D=0A2014 Summer=0D=0ADivision 6=0D=0AAcme Warriors vs South Puck Two
DTEND:20140810T140000
DTSTAMP:20260422T125000
DTSTART:20140810T123000
END:VEVENT
END:VCALENDAR
