BEGIN:VCALENDAR
VERSION:2.0
BEGIN:VEVENT
CATEGORIES:HOCKEY GAME
SUMMARY:Red Scare at Ruination
LOCATION:NHL
DESCRIPTION;ENCODING=QUOTED-PRINTABLE:Easy Street Area=0D=0A2014 Summer=0D=0ADivision 4=0D=0ARed Scare at Ruination
DTEND:20140323T203000
DTSTAMP:20260422T182600
DTSTART:20140323T190000
END:VEVENT
BEGIN:VEVENT
CATEGORIES:HOCKEY GAME
SUMMARY:Red Scare vs Ruination
LOCATION:NHL
DESCRIPTION;ENCODING=QUOTED-PRINTABLE:Easy Street Area=0D=0A2014 Summer=0D=0ADivision 4=0D=0ARed Scare vs Ruination
DTEND:20140330T173000
DTSTAMP:20260422T182600
DTSTART:20140330T160000
END:VEVENT
BEGIN:VEVENT
CATEGORIES:HOCKEY GAME
SUMMARY:Red Scare at Pogue Mahone
LOCATION:NHL
DESCRIPTION;ENCODING=QUOTED-PRINTABLE:Easy Street Area=0D=0A2014 Summer=0D=0ADivision 4=0D=0ARed Scare at Pogue Mahone
DTEND:20140406T160000
DTSTAMP:20260422T182600
DTSTART:20140406T143000
END:VEVENT
BEGIN:VEVENT
CATEGORIES:HOCKEY GAME
SUMMARY:Red Scare at Wolfpack
LOCATION:OLY
DESCRIPTION;ENCODING=QUOTED-PRINTABLE:Easy Street Area=0D=0A2014 Summer=0D=0ADivision 4=0D=0ARed Scare at Wolfpack
DTEND:20140413T210000
DTSTAMP:20260422T182600
DTSTART:20140413T193000
END:VEVENT
BEGIN:VEVENT
CATEGORIES:HOCKEY GAME
SUMMARY:Red Scare at Hawks
LOCATION:OLY
DESCRIPTION;ENCODING=QUOTED-PRINTABLE:Easy Street Area=0D=0A2014 Summer=0D=0ADivision 4=0D=0ARed Scare at Hawks
DTEND:20140420T140000
DTSTAMP:20260422T182600
DTSTART:20140420T123000
END:VEVENT
BEGIN:VEVENT
CATEGORIES:HOCKEY GAME
SUMMARY:Red Scare vs Wolfpack
LOCATION:NHL
DESCRIPTION;ENCODING=QUOTED-PRINTABLE:Easy Street Area=0D=0A2014 Summer=0D=0ADivision 4=0D=0ARed Scare vs Wolfpack
DTEND:20140426T194500
DTSTAMP:20260422T182600
DTSTART:20140426T181500
END:VEVENT
BEGIN:VEVENT
CATEGORIES:HOCKEY GAME
SUMMARY:Red Scare vs Rangers
LOCATION:NHL
DESCRIPTION;ENCODING=QUOTED-PRINTABLE:Easy Street Area=0D=0A2014 Summer=0D=0ADivision 4=0D=0ARed Scare vs Rangers
DTEND:20140427T233000
DTSTAMP:20260422T182600
DTSTART:20140427T220000
END:VEVENT
BEGIN:VEVENT
CATEGORIES:HOCKEY GAME
SUMMARY:Red Scare at Rangers
LOCATION:NHL
DESCRIPTION;ENCODING=QUOTED-PRINTABLE:Easy Street Area=0D=0A2014 Summer=0D=0ADivision 4=0D=0ARed Scare at Rangers
DTEND:20140503T211500
DTSTAMP:20260422T182600
DTSTART:20140503T194500
END:VEVENT
BEGIN:VEVENT
CATEGORIES:HOCKEY GAME
SUMMARY:Red Scare vs Ruination
LOCATION:NHL
DESCRIPTION;ENCODING=QUOTED-PRINTABLE:Easy Street Area=0D=0A2014 Summer=0D=0ADivision 4=0D=0ARed Scare vs Ruination
DTEND:20140504T203000
DTSTAMP:20260422T182600
DTSTART:20140504T190000
END:VEVENT
BEGIN:VEVENT
CATEGORIES:HOCKEY GAME
SUMMARY:Red Scare vs Pogue Mahone
LOCATION:OLY
DESCRIPTION;ENCODING=QUOTED-PRINTABLE:Easy Street Area=0D=0A2014 Summer=0D=0ADivision 4=0D=0ARed Scare vs Pogue Mahone
DTEND:20140518T223000
DTSTAMP:20260422T182600
DTSTART:20140518T210000
END:VEVENT
BEGIN:VEVENT
CATEGORIES:HOCKEY GAME
SUMMARY:Red Scare vs Hawks
LOCATION:NHL
DESCRIPTION;ENCODING=QUOTED-PRINTABLE:Easy Street Area=0D=0A2014 Summer=0D=0ADivision 4=0D=0ARed Scare vs Hawks
DTEND:20140601T233000
DTSTAMP:20260422T182600
DTSTART:20140601T220000
END:VEVENT
BEGIN:VEVENT
CATEGORIES:HOCKEY GAME
SUMMARY:Red Scare at Rangers
LOCATION:NHL
DESCRIPTION;ENCODING=QUOTED-PRINTABLE:Easy Street Area=0D=0A2014 Summer=0D=0ADivision 4=0D=0ARed Scare at Rangers
DTEND:20140608T173000
DTSTAMP:20260422T182600
DTSTART:20140608T160000
END:VEVENT
BEGIN:VEVENT
CATEGORIES:HOCKEY GAME
SUMMARY:Red Scare vs Ruination
LOCATION:NHL
DESCRIPTION;ENCODING=QUOTED-PRINTABLE:Easy Street Area=0D=0A2014 Summer=0D=0ADivision 4=0D=0ARed Scare vs Ruination
DTEND:20140615T143000
DTSTAMP:20260422T182600
DTSTART:20140615T130000
END:VEVENT
BEGIN:VEVENT
CATEGORIES:HOCKEY GAME
SUMMARY:Red Scare at Pogue Mahone
LOCATION:OLY
DESCRIPTION;ENCODING=QUOTED-PRINTABLE:Easy Street Area=0D=0A2014 Summer=0D=0ADivision 4=0D=0ARed Scare at Pogue Mahone
DTEND:20140622T223000
DTSTAMP:20260422T182600
DTSTART:20140622T210000
END:VEVENT
BEGIN:VEVENT
CATEGORIES:HOCKEY GAME
SUMMARY:Red Scare at Wolfpack
LOCATION:OLY
DESCRIPTION;ENCODING=QUOTED-PRINTABLE:Easy Street Area=0D=0A2014 Summer=0D=0ADivision 4=0D=0ARed Scare at Wolfpack
DTEND:20140629T140000
DTSTAMP:20260422T182600
DTSTART:20140629T123000
END:VEVENT
BEGIN:VEVENT
CATEGORIES:HOCKEY GAME
SUMMARY:Red Scare vs Rangers
LOCATION:NHL
DESCRIPTION;ENCODING=QUOTED-PRINTABLE:Easy Street Area=0D=0A2014 Summer=0D=0ADivision 4=0D=0ARed Scare vs Rangers
DTEND:20140713T203000
DTSTAMP:20260422T182600
DTSTART:20140713T190000
END:VEVENT
BEGIN:VEVENT
CATEGORIES:HOCKEY GAME
SUMMARY:Red Scare at Ruination
LOCATION:NHL
DESCRIPTION;ENCODING=QUOTED-PRINTABLE:Easy Street Area=0D=0A2014 Summer=0D=0ADivision 4=0D=0ARed Scare at Ruination
DTEND:20140720T143000
DTSTAMP:20260422T182600
DTSTART:20140720T130000
END:VEVENT
BEGIN:VEVENT
CATEGORIES:HOCKEY GAME
SUMMARY:Red Scare at Pogue Mahone
LOCATION:NHL
DESCRIPTION;ENCODING=QUOTED-PRINTABLE:Easy Street Area=0D=0A2014 Summer=0D=0ADivision 4=0D=0ARed Scare at Pogue Mahone
DTEND:20140727T203000
DTSTAMP:20260422T182600
DTSTART:20140727T190000
END:VEVENT
BEGIN:VEVENT
CATEGORIES:HOCKEY GAME
SUMMARY:Red Scare at Wolfpack
LOCATION:NHL
DESCRIPTION;ENCODING=QUOTED-PRINTABLE:Easy Street Area=0D=0A2014 Summer=0D=0ADivision 4=0D=0ARed Scare at Wolfpack
DTEND:20140803T130000
DTSTAMP:20260422T182600
DTSTART:20140803T113000
END:VEVENT
BEGIN:VEVENT
CATEGORIES:HOCKEY GAME
SUMMARY:Red Scare at Hawks
LOCATION:NHL
DESCRIPTION;ENCODING=QUOTED-PRINTABLE:Easy Street Area=0D=0A2014 Summer=0D=0ADivision 4=0D=0ARed Scare at Hawks
DTEND:20140810T203000
DTSTAMP:20260422T182600
DTSTART:20140810T190000
END:VEVENT
END:VCALENDAR
