BEGIN:VCALENDAR
VERSION:2.0
BEGIN:VEVENT
CATEGORIES:HOCKEY GAME
SUMMARY:Puck Monkeys at Wings
LOCATION:NHL
DESCRIPTION;ENCODING=QUOTED-PRINTABLE:Easy Street Area=0D=0A2014 Summer=0D=0ADivision 5=0D=0APuck Monkeys at Wings
DTEND:20140316T130000
DTSTAMP:20260422T151800
DTSTART:20140316T113000
END:VEVENT
BEGIN:VEVENT
CATEGORIES:HOCKEY GAME
SUMMARY:Puck Monkeys vs Hawks
LOCATION:OLY
DESCRIPTION;ENCODING=QUOTED-PRINTABLE:Easy Street Area=0D=0A2014 Summer=0D=0ADivision 5=0D=0APuck Monkeys vs Hawks
DTEND:20140323T110000
DTSTAMP:20260422T151800
DTSTART:20140323T093000
END:VEVENT
BEGIN:VEVENT
CATEGORIES:HOCKEY GAME
SUMMARY:Puck Monkeys at Dodos
LOCATION:NHL
DESCRIPTION;ENCODING=QUOTED-PRINTABLE:Easy Street Area=0D=0A2014 Summer=0D=0ADivision 5=0D=0APuck Monkeys at Dodos
DTEND:20140330T233000
DTSTAMP:20260422T151800
DTSTART:20140330T220000
END:VEVENT
BEGIN:VEVENT
CATEGORIES:HOCKEY GAME
SUMMARY:Puck Monkeys vs South Puck One
LOCATION:NHL
DESCRIPTION;ENCODING=QUOTED-PRINTABLE:Easy Street Area=0D=0A2014 Summer=0D=0ADivision 5=0D=0APuck Monkeys vs South Puck One
DTEND:20140406T173000
DTSTAMP:20260422T151800
DTSTART:20140406T160000
END:VEVENT
BEGIN:VEVENT
CATEGORIES:HOCKEY GAME
SUMMARY:Puck Monkeys at Last Call
LOCATION:NHL
DESCRIPTION;ENCODING=QUOTED-PRINTABLE:Easy Street Area=0D=0A2014 Summer=0D=0ADivision 5=0D=0APuck Monkeys at Last Call
DTEND:20140413T190000
DTSTAMP:20260422T151800
DTSTART:20140413T173000
END:VEVENT
BEGIN:VEVENT
CATEGORIES:HOCKEY GAME
SUMMARY:Puck Monkeys vs Savages
LOCATION:OLY
DESCRIPTION;ENCODING=QUOTED-PRINTABLE:Easy Street Area=0D=0A2014 Summer=0D=0ADivision 5=0D=0APuck Monkeys vs Savages
DTEND:20140420T223000
DTSTAMP:20260422T151800
DTSTART:20140420T210000
END:VEVENT
BEGIN:VEVENT
CATEGORIES:HOCKEY GAME
SUMMARY:Puck Monkeys at Other Team
LOCATION:OLY
DESCRIPTION;ENCODING=QUOTED-PRINTABLE:Easy Street Area=0D=0A2014 Summer=0D=0ADivision 5=0D=0APuck Monkeys at Other Team
DTEND:20140427T180000
DTSTAMP:20260422T151800
DTSTART:20140427T163000
END:VEVENT
BEGIN:VEVENT
CATEGORIES:HOCKEY GAME
SUMMARY:Puck Monkeys vs Dodos
LOCATION:NHL
DESCRIPTION;ENCODING=QUOTED-PRINTABLE:Easy Street Area=0D=0A2014 Summer=0D=0ADivision 5=0D=0APuck Monkeys vs Dodos
DTEND:20140504T220000
DTSTAMP:20260422T151800
DTSTART:20140504T203000
END:VEVENT
BEGIN:VEVENT
CATEGORIES:HOCKEY GAME
SUMMARY:Puck Monkeys at South Puck One
LOCATION:NHL
DESCRIPTION;ENCODING=QUOTED-PRINTABLE:Easy Street Area=0D=0A2014 Summer=0D=0ADivision 5=0D=0APuck Monkeys at South Puck One
DTEND:20140518T190000
DTSTAMP:20260422T151800
DTSTART:20140518T173000
END:VEVENT
BEGIN:VEVENT
CATEGORIES:HOCKEY GAME
SUMMARY:Puck Monkeys vs Last Call
LOCATION:NHL
DESCRIPTION;ENCODING=QUOTED-PRINTABLE:Easy Street Area=0D=0A2014 Summer=0D=0ADivision 5=0D=0APuck Monkeys vs Last Call
DTEND:20140531T164500
DTSTAMP:20260422T151800
DTSTART:20140531T151500
END:VEVENT
BEGIN:VEVENT
CATEGORIES:HOCKEY GAME
SUMMARY:Puck Monkeys at Savages
LOCATION:OLY
DESCRIPTION;ENCODING=QUOTED-PRINTABLE:Easy Street Area=0D=0A2014 Summer=0D=0ADivision 5=0D=0APuck Monkeys at Savages
DTEND:20140601T140000
DTSTAMP:20260422T151800
DTSTART:20140601T123000
END:VEVENT
BEGIN:VEVENT
CATEGORIES:HOCKEY GAME
SUMMARY:Puck Monkeys vs Other Team
LOCATION:NHL
DESCRIPTION;ENCODING=QUOTED-PRINTABLE:Easy Street Area=0D=0A2014 Summer=0D=0ADivision 5=0D=0APuck Monkeys vs Other Team
DTEND:20140608T220000
DTSTAMP:20260422T151800
DTSTART:20140608T203000
END:VEVENT
BEGIN:VEVENT
CATEGORIES:HOCKEY GAME
SUMMARY:Puck Monkeys at Dodos
LOCATION:NHL
DESCRIPTION;ENCODING=QUOTED-PRINTABLE:Easy Street Area=0D=0A2014 Summer=0D=0ADivision 5=0D=0APuck Monkeys at Dodos
DTEND:20140615T203000
DTSTAMP:20260422T151800
DTSTART:20140615T190000
END:VEVENT
BEGIN:VEVENT
CATEGORIES:HOCKEY GAME
SUMMARY:Puck Monkeys vs South Puck One
LOCATION:NHL
DESCRIPTION;ENCODING=QUOTED-PRINTABLE:Easy Street Area=0D=0A2014 Summer=0D=0ADivision 5=0D=0APuck Monkeys vs South Puck One
DTEND:20140622T143000
DTSTAMP:20260422T151800
DTSTART:20140622T130000
END:VEVENT
BEGIN:VEVENT
CATEGORIES:HOCKEY GAME
SUMMARY:Puck Monkeys at Last Call
LOCATION:NHL
DESCRIPTION;ENCODING=QUOTED-PRINTABLE:Easy Street Area=0D=0A2014 Summer=0D=0ADivision 5=0D=0APuck Monkeys at Last Call
DTEND:20140629T130000
DTSTAMP:20260422T151800
DTSTART:20140629T113000
END:VEVENT
BEGIN:VEVENT
CATEGORIES:HOCKEY GAME
SUMMARY:Puck Monkeys at Other Team
LOCATION:OLY
DESCRIPTION;ENCODING=QUOTED-PRINTABLE:Easy Street Area=0D=0A2014 Summer=0D=0ADivision 5=0D=0APuck Monkeys at Other Team
DTEND:20140713T123000
DTSTAMP:20260422T151800
DTSTART:20140713T110000
END:VEVENT
BEGIN:VEVENT
CATEGORIES:HOCKEY GAME
SUMMARY:Puck Monkeys vs Dodos
LOCATION:NHL
DESCRIPTION;ENCODING=QUOTED-PRINTABLE:Easy Street Area=0D=0A2014 Summer=0D=0ADivision 5=0D=0APuck Monkeys vs Dodos
DTEND:20140720T173000
DTSTAMP:20260422T151800
DTSTART:20140720T160000
END:VEVENT
BEGIN:VEVENT
CATEGORIES:HOCKEY GAME
SUMMARY:Puck Monkeys vs South Puck One
LOCATION:NHL
DESCRIPTION;ENCODING=QUOTED-PRINTABLE:Easy Street Area=0D=0A2014 Summer=0D=0ADivision 5=0D=0APuck Monkeys vs South Puck One
DTEND:20140727T143000
DTSTAMP:20260422T151800
DTSTART:20140727T130000
END:VEVENT
BEGIN:VEVENT
CATEGORIES:HOCKEY GAME
SUMMARY:Puck Monkeys at Last Call
LOCATION:NHL
DESCRIPTION;ENCODING=QUOTED-PRINTABLE:Easy Street Area=0D=0A2014 Summer=0D=0ADivision 5=0D=0APuck Monkeys at Last Call
DTEND:20140803T220000
DTSTAMP:20260422T151800
DTSTART:20140803T203000
END:VEVENT
BEGIN:VEVENT
CATEGORIES:HOCKEY GAME
SUMMARY:Puck Monkeys vs Savages
LOCATION:OLY
DESCRIPTION;ENCODING=QUOTED-PRINTABLE:Easy Street Area=0D=0A2014 Summer=0D=0ADivision 5=0D=0APuck Monkeys vs Savages
DTEND:20140810T193000
DTSTAMP:20260422T151800
DTSTART:20140810T180000
END:VEVENT
END:VCALENDAR
