BEGIN:VCALENDAR
VERSION:2.0
BEGIN:VEVENT
CATEGORIES:HOCKEY GAME
SUMMARY:Wolfpack vs Rangers
LOCATION:OLY
DESCRIPTION;ENCODING=QUOTED-PRINTABLE:Easy Street Area=0D=0A2014 Summer=0D=0ADivision 4=0D=0AWolfpack vs Rangers
DTEND:20140317T000000
DTSTAMP:20260422T182700
DTSTART:20140316T223000
END:VEVENT
BEGIN:VEVENT
CATEGORIES:HOCKEY GAME
SUMMARY:Wolfpack vs Pogue Mahone
LOCATION:NHL
DESCRIPTION;ENCODING=QUOTED-PRINTABLE:Easy Street Area=0D=0A2014 Summer=0D=0ADivision 4=0D=0AWolfpack vs Pogue Mahone
DTEND:20140323T220000
DTSTAMP:20260422T182700
DTSTART:20140323T203000
END:VEVENT
BEGIN:VEVENT
CATEGORIES:HOCKEY GAME
SUMMARY:Wolfpack at Hawks
LOCATION:NHL
DESCRIPTION;ENCODING=QUOTED-PRINTABLE:Easy Street Area=0D=0A2014 Summer=0D=0ADivision 4=0D=0AWolfpack at Hawks
DTEND:20140330T203000
DTSTAMP:20260422T182700
DTSTART:20140330T190000
END:VEVENT
BEGIN:VEVENT
CATEGORIES:HOCKEY GAME
SUMMARY:Wolfpack at Ruination
LOCATION:OLY
DESCRIPTION;ENCODING=QUOTED-PRINTABLE:Easy Street Area=0D=0A2014 Summer=0D=0ADivision 4=0D=0AWolfpack at Ruination
DTEND:20140406T123000
DTSTAMP:20260422T182700
DTSTART:20140406T110000
END:VEVENT
BEGIN:VEVENT
CATEGORIES:HOCKEY GAME
SUMMARY:Wolfpack vs Red Scare
LOCATION:OLY
DESCRIPTION;ENCODING=QUOTED-PRINTABLE:Easy Street Area=0D=0A2014 Summer=0D=0ADivision 4=0D=0AWolfpack vs Red Scare
DTEND:20140413T210000
DTSTAMP:20260422T182700
DTSTART:20140413T193000
END:VEVENT
BEGIN:VEVENT
CATEGORIES:HOCKEY GAME
SUMMARY:Wolfpack at Rangers
LOCATION:OLY
DESCRIPTION;ENCODING=QUOTED-PRINTABLE:Easy Street Area=0D=0A2014 Summer=0D=0ADivision 4=0D=0AWolfpack at Rangers
DTEND:20140420T180000
DTSTAMP:20260422T182700
DTSTART:20140420T163000
END:VEVENT
BEGIN:VEVENT
CATEGORIES:HOCKEY GAME
SUMMARY:Wolfpack at Red Scare
LOCATION:NHL
DESCRIPTION;ENCODING=QUOTED-PRINTABLE:Easy Street Area=0D=0A2014 Summer=0D=0ADivision 4=0D=0AWolfpack at Red Scare
DTEND:20140426T194500
DTSTAMP:20260422T182700
DTSTART:20140426T181500
END:VEVENT
BEGIN:VEVENT
CATEGORIES:HOCKEY GAME
SUMMARY:Wolfpack at Pogue Mahone
LOCATION:NHL
DESCRIPTION;ENCODING=QUOTED-PRINTABLE:Easy Street Area=0D=0A2014 Summer=0D=0ADivision 4=0D=0AWolfpack at Pogue Mahone
DTEND:20140427T203000
DTSTAMP:20260422T182700
DTSTART:20140427T190000
END:VEVENT
BEGIN:VEVENT
CATEGORIES:HOCKEY GAME
SUMMARY:Wolfpack vs Hawks
LOCATION:NHL
DESCRIPTION;ENCODING=QUOTED-PRINTABLE:Easy Street Area=0D=0A2014 Summer=0D=0ADivision 4=0D=0AWolfpack vs Hawks
DTEND:20140504T190000
DTSTAMP:20260422T182700
DTSTART:20140504T173000
END:VEVENT
BEGIN:VEVENT
CATEGORIES:HOCKEY GAME
SUMMARY:Wolfpack vs Ruination
LOCATION:OLY
DESCRIPTION;ENCODING=QUOTED-PRINTABLE:Easy Street Area=0D=0A2014 Summer=0D=0ADivision 4=0D=0AWolfpack vs Ruination
DTEND:20140518T210000
DTSTAMP:20260422T182700
DTSTART:20140518T193000
END:VEVENT
BEGIN:VEVENT
CATEGORIES:HOCKEY GAME
SUMMARY:Wolfpack vs Rangers
LOCATION:NHL
DESCRIPTION;ENCODING=QUOTED-PRINTABLE:Easy Street Area=0D=0A2014 Summer=0D=0ADivision 4=0D=0AWolfpack vs Rangers
DTEND:20140601T220000
DTSTAMP:20260422T182700
DTSTART:20140601T203000
END:VEVENT
BEGIN:VEVENT
CATEGORIES:HOCKEY GAME
SUMMARY:Wolfpack vs Pogue Mahone
LOCATION:OLY
DESCRIPTION;ENCODING=QUOTED-PRINTABLE:Easy Street Area=0D=0A2014 Summer=0D=0ADivision 4=0D=0AWolfpack vs Pogue Mahone
DTEND:20140608T140000
DTSTAMP:20260422T182700
DTSTART:20140608T123000
END:VEVENT
BEGIN:VEVENT
CATEGORIES:HOCKEY GAME
SUMMARY:Wolfpack at Hawks
LOCATION:NHL
DESCRIPTION;ENCODING=QUOTED-PRINTABLE:Easy Street Area=0D=0A2014 Summer=0D=0ADivision 4=0D=0AWolfpack at Hawks
DTEND:20140615T130000
DTSTAMP:20260422T182700
DTSTART:20140615T113000
END:VEVENT
BEGIN:VEVENT
CATEGORIES:HOCKEY GAME
SUMMARY:Wolfpack at Ruination
LOCATION:NHL
DESCRIPTION;ENCODING=QUOTED-PRINTABLE:Easy Street Area=0D=0A2014 Summer=0D=0ADivision 4=0D=0AWolfpack at Ruination
DTEND:20140622T130000
DTSTAMP:20260422T182700
DTSTART:20140622T113000
END:VEVENT
BEGIN:VEVENT
CATEGORIES:HOCKEY GAME
SUMMARY:Wolfpack vs Red Scare
LOCATION:OLY
DESCRIPTION;ENCODING=QUOTED-PRINTABLE:Easy Street Area=0D=0A2014 Summer=0D=0ADivision 4=0D=0AWolfpack vs Red Scare
DTEND:20140629T140000
DTSTAMP:20260422T182700
DTSTART:20140629T123000
END:VEVENT
BEGIN:VEVENT
CATEGORIES:HOCKEY GAME
SUMMARY:Wolfpack at Pogue Mahone
LOCATION:NHL
DESCRIPTION;ENCODING=QUOTED-PRINTABLE:Easy Street Area=0D=0A2014 Summer=0D=0ADivision 4=0D=0AWolfpack at Pogue Mahone
DTEND:20140713T173000
DTSTAMP:20260422T182700
DTSTART:20140713T160000
END:VEVENT
BEGIN:VEVENT
CATEGORIES:HOCKEY GAME
SUMMARY:Wolfpack vs Hawks
LOCATION:NHL
DESCRIPTION;ENCODING=QUOTED-PRINTABLE:Easy Street Area=0D=0A2014 Summer=0D=0ADivision 4=0D=0AWolfpack vs Hawks
DTEND:20140720T160000
DTSTAMP:20260422T182700
DTSTART:20140720T143000
END:VEVENT
BEGIN:VEVENT
CATEGORIES:HOCKEY GAME
SUMMARY:Wolfpack at Ruination
LOCATION:OLY
DESCRIPTION;ENCODING=QUOTED-PRINTABLE:Easy Street Area=0D=0A2014 Summer=0D=0ADivision 4=0D=0AWolfpack at Ruination
DTEND:20140727T223000
DTSTAMP:20260422T182700
DTSTART:20140727T210000
END:VEVENT
BEGIN:VEVENT
CATEGORIES:HOCKEY GAME
SUMMARY:Wolfpack vs Red Scare
LOCATION:NHL
DESCRIPTION;ENCODING=QUOTED-PRINTABLE:Easy Street Area=0D=0A2014 Summer=0D=0ADivision 4=0D=0AWolfpack vs Red Scare
DTEND:20140803T130000
DTSTAMP:20260422T182700
DTSTART:20140803T113000
END:VEVENT
BEGIN:VEVENT
CATEGORIES:HOCKEY GAME
SUMMARY:Wolfpack at Rangers
LOCATION:NHL
DESCRIPTION;ENCODING=QUOTED-PRINTABLE:Easy Street Area=0D=0A2014 Summer=0D=0ADivision 4=0D=0AWolfpack at Rangers
DTEND:20140810T220000
DTSTAMP:20260422T182700
DTSTART:20140810T203000
END:VEVENT
END:VCALENDAR
