BEGIN:VCALENDAR
VERSION:2.0
BEGIN:VEVENT
CATEGORIES:HOCKEY GAME
SUMMARY:Rangers at Wolfpack
LOCATION:OLY
DESCRIPTION;ENCODING=QUOTED-PRINTABLE:Easy Street Area=0D=0A2014 Summer=0D=0ADivision 4=0D=0ARangers at Wolfpack
DTEND:20140317T000000
DTSTAMP:20260422T182700
DTSTART:20140316T223000
END:VEVENT
BEGIN:VEVENT
CATEGORIES:HOCKEY GAME
SUMMARY:Rangers at Pogue Mahone
LOCATION:NHL
DESCRIPTION;ENCODING=QUOTED-PRINTABLE:Easy Street Area=0D=0A2014 Summer=0D=0ADivision 4=0D=0ARangers at Pogue Mahone
DTEND:20140330T190000
DTSTAMP:20260422T182700
DTSTART:20140330T173000
END:VEVENT
BEGIN:VEVENT
CATEGORIES:HOCKEY GAME
SUMMARY:Rangers vs Hawks
LOCATION:NHL
DESCRIPTION;ENCODING=QUOTED-PRINTABLE:Easy Street Area=0D=0A2014 Summer=0D=0ADivision 4=0D=0ARangers vs Hawks
DTEND:20140406T130000
DTSTAMP:20260422T182700
DTSTART:20140406T113000
END:VEVENT
BEGIN:VEVENT
CATEGORIES:HOCKEY GAME
SUMMARY:Rangers at Ruination
LOCATION:NHL
DESCRIPTION;ENCODING=QUOTED-PRINTABLE:Easy Street Area=0D=0A2014 Summer=0D=0ADivision 4=0D=0ARangers at Ruination
DTEND:20140413T130000
DTSTAMP:20260422T182700
DTSTART:20140413T113000
END:VEVENT
BEGIN:VEVENT
CATEGORIES:HOCKEY GAME
SUMMARY:Rangers vs Wolfpack
LOCATION:OLY
DESCRIPTION;ENCODING=QUOTED-PRINTABLE:Easy Street Area=0D=0A2014 Summer=0D=0ADivision 4=0D=0ARangers vs Wolfpack
DTEND:20140420T180000
DTSTAMP:20260422T182700
DTSTART:20140420T163000
END:VEVENT
BEGIN:VEVENT
CATEGORIES:HOCKEY GAME
SUMMARY:Rangers vs Ruination
LOCATION:NHL
DESCRIPTION;ENCODING=QUOTED-PRINTABLE:Easy Street Area=0D=0A2014 Summer=0D=0ADivision 4=0D=0ARangers vs Ruination
DTEND:20140426T164500
DTSTAMP:20260422T182700
DTSTART:20140426T151500
END:VEVENT
BEGIN:VEVENT
CATEGORIES:HOCKEY GAME
SUMMARY:Rangers at Red Scare
LOCATION:NHL
DESCRIPTION;ENCODING=QUOTED-PRINTABLE:Easy Street Area=0D=0A2014 Summer=0D=0ADivision 4=0D=0ARangers at Red Scare
DTEND:20140427T233000
DTSTAMP:20260422T182700
DTSTART:20140427T220000
END:VEVENT
BEGIN:VEVENT
CATEGORIES:HOCKEY GAME
SUMMARY:Rangers vs Red Scare
LOCATION:NHL
DESCRIPTION;ENCODING=QUOTED-PRINTABLE:Easy Street Area=0D=0A2014 Summer=0D=0ADivision 4=0D=0ARangers vs Red Scare
DTEND:20140503T211500
DTSTAMP:20260422T182700
DTSTART:20140503T194500
END:VEVENT
BEGIN:VEVENT
CATEGORIES:HOCKEY GAME
SUMMARY:Rangers vs Pogue Mahone
LOCATION:NHL
DESCRIPTION;ENCODING=QUOTED-PRINTABLE:Easy Street Area=0D=0A2014 Summer=0D=0ADivision 4=0D=0ARangers vs Pogue Mahone
DTEND:20140504T173000
DTSTAMP:20260422T182700
DTSTART:20140504T160000
END:VEVENT
BEGIN:VEVENT
CATEGORIES:HOCKEY GAME
SUMMARY:Rangers at Hawks
LOCATION:NHL
DESCRIPTION;ENCODING=QUOTED-PRINTABLE:Easy Street Area=0D=0A2014 Summer=0D=0ADivision 4=0D=0ARangers at Hawks
DTEND:20140518T130000
DTSTAMP:20260422T182700
DTSTART:20140518T113000
END:VEVENT
BEGIN:VEVENT
CATEGORIES:HOCKEY GAME
SUMMARY:Rangers at Wolfpack
LOCATION:NHL
DESCRIPTION;ENCODING=QUOTED-PRINTABLE:Easy Street Area=0D=0A2014 Summer=0D=0ADivision 4=0D=0ARangers at Wolfpack
DTEND:20140601T220000
DTSTAMP:20260422T182700
DTSTART:20140601T203000
END:VEVENT
BEGIN:VEVENT
CATEGORIES:HOCKEY GAME
SUMMARY:Rangers vs Red Scare
LOCATION:NHL
DESCRIPTION;ENCODING=QUOTED-PRINTABLE:Easy Street Area=0D=0A2014 Summer=0D=0ADivision 4=0D=0ARangers vs Red Scare
DTEND:20140608T173000
DTSTAMP:20260422T182700
DTSTART:20140608T160000
END:VEVENT
BEGIN:VEVENT
CATEGORIES:HOCKEY GAME
SUMMARY:Rangers at Pogue Mahone
LOCATION:NHL
DESCRIPTION;ENCODING=QUOTED-PRINTABLE:Easy Street Area=0D=0A2014 Summer=0D=0ADivision 4=0D=0ARangers at Pogue Mahone
DTEND:20140615T160000
DTSTAMP:20260422T182700
DTSTART:20140615T143000
END:VEVENT
BEGIN:VEVENT
CATEGORIES:HOCKEY GAME
SUMMARY:Rangers vs Hawks
LOCATION:OLY
DESCRIPTION;ENCODING=QUOTED-PRINTABLE:Easy Street Area=0D=0A2014 Summer=0D=0ADivision 4=0D=0ARangers vs Hawks
DTEND:20140622T210000
DTSTAMP:20260422T182700
DTSTART:20140622T193000
END:VEVENT
BEGIN:VEVENT
CATEGORIES:HOCKEY GAME
SUMMARY:Rangers at Ruination
LOCATION:OLY
DESCRIPTION;ENCODING=QUOTED-PRINTABLE:Easy Street Area=0D=0A2014 Summer=0D=0ADivision 4=0D=0ARangers at Ruination
DTEND:20140629T193000
DTSTAMP:20260422T182700
DTSTART:20140629T180000
END:VEVENT
BEGIN:VEVENT
CATEGORIES:HOCKEY GAME
SUMMARY:Rangers at Red Scare
LOCATION:NHL
DESCRIPTION;ENCODING=QUOTED-PRINTABLE:Easy Street Area=0D=0A2014 Summer=0D=0ADivision 4=0D=0ARangers at Red Scare
DTEND:20140713T203000
DTSTAMP:20260422T182700
DTSTART:20140713T190000
END:VEVENT
BEGIN:VEVENT
CATEGORIES:HOCKEY GAME
SUMMARY:Rangers vs Pogue Mahone
LOCATION:NHL
DESCRIPTION;ENCODING=QUOTED-PRINTABLE:Easy Street Area=0D=0A2014 Summer=0D=0ADivision 4=0D=0ARangers vs Pogue Mahone
DTEND:20140720T130000
DTSTAMP:20260422T182700
DTSTART:20140720T113000
END:VEVENT
BEGIN:VEVENT
CATEGORIES:HOCKEY GAME
SUMMARY:Rangers vs Hawks
LOCATION:OLY
DESCRIPTION;ENCODING=QUOTED-PRINTABLE:Easy Street Area=0D=0A2014 Summer=0D=0ADivision 4=0D=0ARangers vs Hawks
DTEND:20140727T210000
DTSTAMP:20260422T182700
DTSTART:20140727T193000
END:VEVENT
BEGIN:VEVENT
CATEGORIES:HOCKEY GAME
SUMMARY:Rangers at Ruination
LOCATION:NHL
DESCRIPTION;ENCODING=QUOTED-PRINTABLE:Easy Street Area=0D=0A2014 Summer=0D=0ADivision 4=0D=0ARangers at Ruination
DTEND:20140803T160000
DTSTAMP:20260422T182700
DTSTART:20140803T143000
END:VEVENT
BEGIN:VEVENT
CATEGORIES:HOCKEY GAME
SUMMARY:Rangers vs Wolfpack
LOCATION:NHL
DESCRIPTION;ENCODING=QUOTED-PRINTABLE:Easy Street Area=0D=0A2014 Summer=0D=0ADivision 4=0D=0ARangers vs Wolfpack
DTEND:20140810T220000
DTSTAMP:20260422T182700
DTSTART:20140810T203000
END:VEVENT
END:VCALENDAR
