BEGIN:VCALENDAR
VERSION:2.0
BEGIN:VEVENT
CATEGORIES:HOCKEY GAME
SUMMARY:VCCD at Chetter
LOCATION:NHL
DESCRIPTION;ENCODING=QUOTED-PRINTABLE:Easy Street Area=0D=0A2013 Summer=0D=0ADivision 1=0D=0AVCCD at Chetter
DTEND:20130408T204500
DTSTAMP:20260419T234200
DTSTART:20130408T191500
END:VEVENT
BEGIN:VEVENT
CATEGORIES:HOCKEY GAME
SUMMARY:VCCD vs C-Land
LOCATION:OLY
DESCRIPTION;ENCODING=QUOTED-PRINTABLE:Easy Street Area=0D=0A2013 Summer=0D=0ADivision 1=0D=0AVCCD vs C-Land
DTEND:20130415T200000
DTSTAMP:20260419T234200
DTSTART:20130415T183000
END:VEVENT
BEGIN:VEVENT
CATEGORIES:HOCKEY GAME
SUMMARY:VCCD at Tan LA
LOCATION:OLY
DESCRIPTION;ENCODING=QUOTED-PRINTABLE:Easy Street Area=0D=0A2013 Summer=0D=0ADivision 1=0D=0AVCCD at Tan LA
DTEND:20130422T200000
DTSTAMP:20260419T234200
DTSTART:20130422T183000
END:VEVENT
BEGIN:VEVENT
CATEGORIES:HOCKEY GAME
SUMMARY:VCCD vs Brewins
LOCATION:NHL
DESCRIPTION;ENCODING=QUOTED-PRINTABLE:Easy Street Area=0D=0A2013 Summer=0D=0ADivision 1=0D=0AVCCD vs Brewins
DTEND:20130429T221500
DTSTAMP:20260419T234200
DTSTART:20130429T204500
END:VEVENT
BEGIN:VEVENT
CATEGORIES:HOCKEY GAME
SUMMARY:VCCD vs Crossbar
LOCATION:NHL
DESCRIPTION;ENCODING=QUOTED-PRINTABLE:Easy Street Area=0D=0A2013 Summer=0D=0ADivision 1=0D=0AVCCD vs Crossbar
DTEND:20130506T234500
DTSTAMP:20260419T234200
DTSTART:20130506T221500
END:VEVENT
BEGIN:VEVENT
CATEGORIES:HOCKEY GAME
SUMMARY:VCCD vs Chetter
LOCATION:NHL
DESCRIPTION;ENCODING=QUOTED-PRINTABLE:Easy Street Area=0D=0A2013 Summer=0D=0ADivision 1=0D=0AVCCD vs Chetter
DTEND:20130513T234500
DTSTAMP:20260419T234200
DTSTART:20130513T221500
END:VEVENT
BEGIN:VEVENT
CATEGORIES:HOCKEY GAME
SUMMARY:VCCD at C-Land
LOCATION:NHL
DESCRIPTION;ENCODING=QUOTED-PRINTABLE:Easy Street Area=0D=0A2013 Summer=0D=0ADivision 1=0D=0AVCCD at C-Land
DTEND:20130520T221500
DTSTAMP:20260419T234200
DTSTART:20130520T204500
END:VEVENT
BEGIN:VEVENT
CATEGORIES:HOCKEY GAME
SUMMARY:VCCD at Brewins
LOCATION:OLY
DESCRIPTION;ENCODING=QUOTED-PRINTABLE:Easy Street Area=0D=0A2013 Summer=0D=0ADivision 1=0D=0AVCCD at Brewins
DTEND:20130603T200000
DTSTAMP:20260419T234200
DTSTART:20130603T183000
END:VEVENT
BEGIN:VEVENT
CATEGORIES:HOCKEY GAME
SUMMARY:VCCD at Crossbar
LOCATION:NHL
DESCRIPTION;ENCODING=QUOTED-PRINTABLE:Easy Street Area=0D=0A2013 Summer=0D=0ADivision 1=0D=0AVCCD at Crossbar
DTEND:20130610T204500
DTSTAMP:20260419T234200
DTSTART:20130610T191500
END:VEVENT
BEGIN:VEVENT
CATEGORIES:HOCKEY GAME
SUMMARY:VCCD at Chetter
LOCATION:OLY
DESCRIPTION;ENCODING=QUOTED-PRINTABLE:Easy Street Area=0D=0A2013 Summer=0D=0ADivision 1=0D=0AVCCD at Chetter
DTEND:20130617T200000
DTSTAMP:20260419T234200
DTSTART:20130617T183000
END:VEVENT
BEGIN:VEVENT
CATEGORIES:HOCKEY GAME
SUMMARY:VCCD vs C-Land
LOCATION:NHL
DESCRIPTION;ENCODING=QUOTED-PRINTABLE:Easy Street Area=0D=0A2013 Summer=0D=0ADivision 1=0D=0AVCCD vs C-Land
DTEND:20130624T204500
DTSTAMP:20260419T234200
DTSTART:20130624T191500
END:VEVENT
BEGIN:VEVENT
CATEGORIES:HOCKEY GAME
SUMMARY:VCCD at Tan LA
LOCATION:NHL
DESCRIPTION;ENCODING=QUOTED-PRINTABLE:Easy Street Area=0D=0A2013 Summer=0D=0ADivision 1=0D=0AVCCD at Tan LA
DTEND:20130701T221500
DTSTAMP:20260419T234200
DTSTART:20130701T204500
END:VEVENT
BEGIN:VEVENT
CATEGORIES:HOCKEY GAME
SUMMARY:VCCD vs Brewins
LOCATION:NHL
DESCRIPTION;ENCODING=QUOTED-PRINTABLE:Easy Street Area=0D=0A2013 Summer=0D=0ADivision 1=0D=0AVCCD vs Brewins
DTEND:20130708T234500
DTSTAMP:20260419T234200
DTSTART:20130708T221500
END:VEVENT
BEGIN:VEVENT
CATEGORIES:HOCKEY GAME
SUMMARY:VCCD vs Crossbar
LOCATION:NHL
DESCRIPTION;ENCODING=QUOTED-PRINTABLE:Easy Street Area=0D=0A2013 Summer=0D=0ADivision 1=0D=0AVCCD vs Crossbar
DTEND:20130715T234500
DTSTAMP:20260419T234200
DTSTART:20130715T221500
END:VEVENT
BEGIN:VEVENT
CATEGORIES:HOCKEY GAME
SUMMARY:VCCD vs Chetter
LOCATION:NHL
DESCRIPTION;ENCODING=QUOTED-PRINTABLE:Easy Street Area=0D=0A2013 Summer=0D=0ADivision 1=0D=0AVCCD vs Chetter
DTEND:20130722T234500
DTSTAMP:20260419T234200
DTSTART:20130722T221500
END:VEVENT
BEGIN:VEVENT
CATEGORIES:HOCKEY GAME
SUMMARY:VCCD at C-Land
LOCATION:NHL
DESCRIPTION;ENCODING=QUOTED-PRINTABLE:Easy Street Area=0D=0A2013 Summer=0D=0ADivision 1=0D=0AVCCD at C-Land
DTEND:20130729T234500
DTSTAMP:20260419T234200
DTSTART:20130729T221500
END:VEVENT
BEGIN:VEVENT
CATEGORIES:HOCKEY GAME
SUMMARY:VCCD vs Tan LA
LOCATION:NHL
DESCRIPTION;ENCODING=QUOTED-PRINTABLE:Easy Street Area=0D=0A2013 Summer=0D=0ADivision 1=0D=0AVCCD vs Tan LA
DTEND:20130805T204500
DTSTAMP:20260419T234200
DTSTART:20130805T191500
END:VEVENT
BEGIN:VEVENT
CATEGORIES:HOCKEY GAME
SUMMARY:VCCD at Tan LA
LOCATION:NHL
DESCRIPTION;ENCODING=QUOTED-PRINTABLE:Easy Street Area=0D=0A2013 Summer=0D=0ADivision 1=0D=0AVCCD at Tan LA
DTEND:20130812T234500
DTSTAMP:20260419T234200
DTSTART:20130812T221500
END:VEVENT
END:VCALENDAR
