BEGIN:VCALENDAR
VERSION:2.0
BEGIN:VEVENT
CATEGORIES:HOCKEY GAME
SUMMARY:Tan LA vs C-Land
LOCATION:NHL
DESCRIPTION;ENCODING=QUOTED-PRINTABLE:Easy Street Area=0D=0A2013 Summer=0D=0ADivision 1=0D=0ATan LA vs C-Land
DTEND:20130408T234500
DTSTAMP:20260420T010800
DTSTART:20130408T221500
END:VEVENT
BEGIN:VEVENT
CATEGORIES:HOCKEY GAME
SUMMARY:Tan LA at Crossbar
LOCATION:NHL
DESCRIPTION;ENCODING=QUOTED-PRINTABLE:Easy Street Area=0D=0A2013 Summer=0D=0ADivision 1=0D=0ATan LA at Crossbar
DTEND:20130415T221500
DTSTAMP:20260420T010800
DTSTART:20130415T204500
END:VEVENT
BEGIN:VEVENT
CATEGORIES:HOCKEY GAME
SUMMARY:Tan LA vs VCCD
LOCATION:OLY
DESCRIPTION;ENCODING=QUOTED-PRINTABLE:Easy Street Area=0D=0A2013 Summer=0D=0ADivision 1=0D=0ATan LA vs VCCD
DTEND:20130422T200000
DTSTAMP:20260420T010800
DTSTART:20130422T183000
END:VEVENT
BEGIN:VEVENT
CATEGORIES:HOCKEY GAME
SUMMARY:Tan LA at Chetter
LOCATION:NHL
DESCRIPTION;ENCODING=QUOTED-PRINTABLE:Easy Street Area=0D=0A2013 Summer=0D=0ADivision 1=0D=0ATan LA at Chetter
DTEND:20130429T234500
DTSTAMP:20260420T010800
DTSTART:20130429T221500
END:VEVENT
BEGIN:VEVENT
CATEGORIES:HOCKEY GAME
SUMMARY:Tan LA at Brewins
LOCATION:OLY
DESCRIPTION;ENCODING=QUOTED-PRINTABLE:Easy Street Area=0D=0A2013 Summer=0D=0ADivision 1=0D=0ATan LA at Brewins
DTEND:20130506T200000
DTSTAMP:20260420T010800
DTSTART:20130506T183000
END:VEVENT
BEGIN:VEVENT
CATEGORIES:HOCKEY GAME
SUMMARY:Tan LA at C-Land
LOCATION:OLY
DESCRIPTION;ENCODING=QUOTED-PRINTABLE:Easy Street Area=0D=0A2013 Summer=0D=0ADivision 1=0D=0ATan LA at C-Land
DTEND:20130513T200000
DTSTAMP:20260420T010800
DTSTART:20130513T183000
END:VEVENT
BEGIN:VEVENT
CATEGORIES:HOCKEY GAME
SUMMARY:Tan LA vs Crossbar
LOCATION:NHL
DESCRIPTION;ENCODING=QUOTED-PRINTABLE:Easy Street Area=0D=0A2013 Summer=0D=0ADivision 1=0D=0ATan LA vs Crossbar
DTEND:20130520T234500
DTSTAMP:20260420T010800
DTSTART:20130520T221500
END:VEVENT
BEGIN:VEVENT
CATEGORIES:HOCKEY GAME
SUMMARY:Tan LA vs Chetter
LOCATION:NHL
DESCRIPTION;ENCODING=QUOTED-PRINTABLE:Easy Street Area=0D=0A2013 Summer=0D=0ADivision 1=0D=0ATan LA vs Chetter
DTEND:20130603T204500
DTSTAMP:20260420T010800
DTSTART:20130603T191500
END:VEVENT
BEGIN:VEVENT
CATEGORIES:HOCKEY GAME
SUMMARY:Tan LA vs Brewins
LOCATION:NHL
DESCRIPTION;ENCODING=QUOTED-PRINTABLE:Easy Street Area=0D=0A2013 Summer=0D=0ADivision 1=0D=0ATan LA vs Brewins
DTEND:20130610T234500
DTSTAMP:20260420T010800
DTSTART:20130610T221500
END:VEVENT
BEGIN:VEVENT
CATEGORIES:HOCKEY GAME
SUMMARY:Tan LA vs C-Land
LOCATION:NHL
DESCRIPTION;ENCODING=QUOTED-PRINTABLE:Easy Street Area=0D=0A2013 Summer=0D=0ADivision 1=0D=0ATan LA vs C-Land
DTEND:20130617T234500
DTSTAMP:20260420T010800
DTSTART:20130617T221500
END:VEVENT
BEGIN:VEVENT
CATEGORIES:HOCKEY GAME
SUMMARY:Tan LA at Crossbar
LOCATION:OLY
DESCRIPTION;ENCODING=QUOTED-PRINTABLE:Easy Street Area=0D=0A2013 Summer=0D=0ADivision 1=0D=0ATan LA at Crossbar
DTEND:20130624T200000
DTSTAMP:20260420T010800
DTSTART:20130624T183000
END:VEVENT
BEGIN:VEVENT
CATEGORIES:HOCKEY GAME
SUMMARY:Tan LA vs VCCD
LOCATION:NHL
DESCRIPTION;ENCODING=QUOTED-PRINTABLE:Easy Street Area=0D=0A2013 Summer=0D=0ADivision 1=0D=0ATan LA vs VCCD
DTEND:20130701T221500
DTSTAMP:20260420T010800
DTSTART:20130701T204500
END:VEVENT
BEGIN:VEVENT
CATEGORIES:HOCKEY GAME
SUMMARY:Tan LA at Chetter
LOCATION:NHL
DESCRIPTION;ENCODING=QUOTED-PRINTABLE:Easy Street Area=0D=0A2013 Summer=0D=0ADivision 1=0D=0ATan LA at Chetter
DTEND:20130708T221500
DTSTAMP:20260420T010800
DTSTART:20130708T204500
END:VEVENT
BEGIN:VEVENT
CATEGORIES:HOCKEY GAME
SUMMARY:Tan LA at Brewins
LOCATION:OLY
DESCRIPTION;ENCODING=QUOTED-PRINTABLE:Easy Street Area=0D=0A2013 Summer=0D=0ADivision 1=0D=0ATan LA at Brewins
DTEND:20130715T200000
DTSTAMP:20260420T010800
DTSTART:20130715T183000
END:VEVENT
BEGIN:VEVENT
CATEGORIES:HOCKEY GAME
SUMMARY:Tan LA at C-Land
LOCATION:NHL
DESCRIPTION;ENCODING=QUOTED-PRINTABLE:Easy Street Area=0D=0A2013 Summer=0D=0ADivision 1=0D=0ATan LA at C-Land
DTEND:20130722T204500
DTSTAMP:20260420T010800
DTSTART:20130722T191500
END:VEVENT
BEGIN:VEVENT
CATEGORIES:HOCKEY GAME
SUMMARY:Tan LA vs Crossbar
LOCATION:OLY
DESCRIPTION;ENCODING=QUOTED-PRINTABLE:Easy Street Area=0D=0A2013 Summer=0D=0ADivision 1=0D=0ATan LA vs Crossbar
DTEND:20130729T200000
DTSTAMP:20260420T010800
DTSTART:20130729T183000
END:VEVENT
BEGIN:VEVENT
CATEGORIES:HOCKEY GAME
SUMMARY:Tan LA at VCCD
LOCATION:NHL
DESCRIPTION;ENCODING=QUOTED-PRINTABLE:Easy Street Area=0D=0A2013 Summer=0D=0ADivision 1=0D=0ATan LA at VCCD
DTEND:20130805T204500
DTSTAMP:20260420T010800
DTSTART:20130805T191500
END:VEVENT
BEGIN:VEVENT
CATEGORIES:HOCKEY GAME
SUMMARY:Tan LA vs VCCD
LOCATION:NHL
DESCRIPTION;ENCODING=QUOTED-PRINTABLE:Easy Street Area=0D=0A2013 Summer=0D=0ADivision 1=0D=0ATan LA vs VCCD
DTEND:20130812T234500
DTSTAMP:20260420T010800
DTSTART:20130812T221500
END:VEVENT
END:VCALENDAR
