BEGIN:VCALENDAR
VERSION:2.0
BEGIN:VEVENT
CATEGORIES:HOCKEY GAME
SUMMARY:C-Land at Tan LA
LOCATION:NHL
DESCRIPTION;ENCODING=QUOTED-PRINTABLE:Easy Street Area=0D=0A2013 Summer=0D=0ADivision 1=0D=0AC-Land at Tan LA
DTEND:20130408T234500
DTSTAMP:20260420T042200
DTSTART:20130408T221500
END:VEVENT
BEGIN:VEVENT
CATEGORIES:HOCKEY GAME
SUMMARY:C-Land at VCCD
LOCATION:OLY
DESCRIPTION;ENCODING=QUOTED-PRINTABLE:Easy Street Area=0D=0A2013 Summer=0D=0ADivision 1=0D=0AC-Land at VCCD
DTEND:20130415T200000
DTSTAMP:20260420T042200
DTSTART:20130415T183000
END:VEVENT
BEGIN:VEVENT
CATEGORIES:HOCKEY GAME
SUMMARY:C-Land vs Brewins
LOCATION:NHL
DESCRIPTION;ENCODING=QUOTED-PRINTABLE:Easy Street Area=0D=0A2013 Summer=0D=0ADivision 1=0D=0AC-Land vs Brewins
DTEND:20130422T234500
DTSTAMP:20260420T042200
DTSTART:20130422T221500
END:VEVENT
BEGIN:VEVENT
CATEGORIES:HOCKEY GAME
SUMMARY:C-Land at Crossbar
LOCATION:NHL
DESCRIPTION;ENCODING=QUOTED-PRINTABLE:Easy Street Area=0D=0A2013 Summer=0D=0ADivision 1=0D=0AC-Land at Crossbar
DTEND:20130429T204500
DTSTAMP:20260420T042200
DTSTART:20130429T191500
END:VEVENT
BEGIN:VEVENT
CATEGORIES:HOCKEY GAME
SUMMARY:C-Land vs Chetter
LOCATION:NHL
DESCRIPTION;ENCODING=QUOTED-PRINTABLE:Easy Street Area=0D=0A2013 Summer=0D=0ADivision 1=0D=0AC-Land vs Chetter
DTEND:20130506T221500
DTSTAMP:20260420T042200
DTSTART:20130506T204500
END:VEVENT
BEGIN:VEVENT
CATEGORIES:HOCKEY GAME
SUMMARY:C-Land vs Tan LA
LOCATION:OLY
DESCRIPTION;ENCODING=QUOTED-PRINTABLE:Easy Street Area=0D=0A2013 Summer=0D=0ADivision 1=0D=0AC-Land vs Tan LA
DTEND:20130513T200000
DTSTAMP:20260420T042200
DTSTART:20130513T183000
END:VEVENT
BEGIN:VEVENT
CATEGORIES:HOCKEY GAME
SUMMARY:C-Land vs VCCD
LOCATION:NHL
DESCRIPTION;ENCODING=QUOTED-PRINTABLE:Easy Street Area=0D=0A2013 Summer=0D=0ADivision 1=0D=0AC-Land vs VCCD
DTEND:20130520T221500
DTSTAMP:20260420T042200
DTSTART:20130520T204500
END:VEVENT
BEGIN:VEVENT
CATEGORIES:HOCKEY GAME
SUMMARY:C-Land vs Crossbar
LOCATION:NHL
DESCRIPTION;ENCODING=QUOTED-PRINTABLE:Easy Street Area=0D=0A2013 Summer=0D=0ADivision 1=0D=0AC-Land vs Crossbar
DTEND:20130603T234500
DTSTAMP:20260420T042200
DTSTART:20130603T221500
END:VEVENT
BEGIN:VEVENT
CATEGORIES:HOCKEY GAME
SUMMARY:C-Land at Chetter
LOCATION:NHL
DESCRIPTION;ENCODING=QUOTED-PRINTABLE:Easy Street Area=0D=0A2013 Summer=0D=0ADivision 1=0D=0AC-Land at Chetter
DTEND:20130610T221500
DTSTAMP:20260420T042200
DTSTART:20130610T204500
END:VEVENT
BEGIN:VEVENT
CATEGORIES:HOCKEY GAME
SUMMARY:C-Land at Tan LA
LOCATION:NHL
DESCRIPTION;ENCODING=QUOTED-PRINTABLE:Easy Street Area=0D=0A2013 Summer=0D=0ADivision 1=0D=0AC-Land at Tan LA
DTEND:20130617T234500
DTSTAMP:20260420T042200
DTSTART:20130617T221500
END:VEVENT
BEGIN:VEVENT
CATEGORIES:HOCKEY GAME
SUMMARY:C-Land at VCCD
LOCATION:NHL
DESCRIPTION;ENCODING=QUOTED-PRINTABLE:Easy Street Area=0D=0A2013 Summer=0D=0ADivision 1=0D=0AC-Land at VCCD
DTEND:20130624T204500
DTSTAMP:20260420T042200
DTSTART:20130624T191500
END:VEVENT
BEGIN:VEVENT
CATEGORIES:HOCKEY GAME
SUMMARY:C-Land vs Brewins
LOCATION:NHL
DESCRIPTION;ENCODING=QUOTED-PRINTABLE:Easy Street Area=0D=0A2013 Summer=0D=0ADivision 1=0D=0AC-Land vs Brewins
DTEND:20130701T204500
DTSTAMP:20260420T042200
DTSTART:20130701T191500
END:VEVENT
BEGIN:VEVENT
CATEGORIES:HOCKEY GAME
SUMMARY:C-Land at Crossbar
LOCATION:OLY
DESCRIPTION;ENCODING=QUOTED-PRINTABLE:Easy Street Area=0D=0A2013 Summer=0D=0ADivision 1=0D=0AC-Land at Crossbar
DTEND:20130708T200000
DTSTAMP:20260420T042200
DTSTART:20130708T183000
END:VEVENT
BEGIN:VEVENT
CATEGORIES:HOCKEY GAME
SUMMARY:C-Land vs Chetter
LOCATION:NHL
DESCRIPTION;ENCODING=QUOTED-PRINTABLE:Easy Street Area=0D=0A2013 Summer=0D=0ADivision 1=0D=0AC-Land vs Chetter
DTEND:20130715T204500
DTSTAMP:20260420T042200
DTSTART:20130715T191500
END:VEVENT
BEGIN:VEVENT
CATEGORIES:HOCKEY GAME
SUMMARY:C-Land vs Tan LA
LOCATION:NHL
DESCRIPTION;ENCODING=QUOTED-PRINTABLE:Easy Street Area=0D=0A2013 Summer=0D=0ADivision 1=0D=0AC-Land vs Tan LA
DTEND:20130722T204500
DTSTAMP:20260420T042200
DTSTART:20130722T191500
END:VEVENT
BEGIN:VEVENT
CATEGORIES:HOCKEY GAME
SUMMARY:C-Land vs VCCD
LOCATION:NHL
DESCRIPTION;ENCODING=QUOTED-PRINTABLE:Easy Street Area=0D=0A2013 Summer=0D=0ADivision 1=0D=0AC-Land vs VCCD
DTEND:20130729T234500
DTSTAMP:20260420T042200
DTSTART:20130729T221500
END:VEVENT
BEGIN:VEVENT
CATEGORIES:HOCKEY GAME
SUMMARY:C-Land at Brewins
LOCATION:NHL
DESCRIPTION;ENCODING=QUOTED-PRINTABLE:Easy Street Area=0D=0A2013 Summer=0D=0ADivision 1=0D=0AC-Land at Brewins
DTEND:20130805T234500
DTSTAMP:20260420T042200
DTSTART:20130805T221500
END:VEVENT
BEGIN:VEVENT
CATEGORIES:HOCKEY GAME
SUMMARY:C-Land at Brewins
LOCATION:NHL
DESCRIPTION;ENCODING=QUOTED-PRINTABLE:Easy Street Area=0D=0A2013 Summer=0D=0ADivision 1=0D=0AC-Land at Brewins
DTEND:20130812T221500
DTSTAMP:20260420T042200
DTSTART:20130812T204500
END:VEVENT
END:VCALENDAR
