BEGIN:VCALENDAR
VERSION:2.0
BEGIN:VEVENT
CATEGORIES:HOCKEY GAME
SUMMARY:Chetter vs VCCD
LOCATION:NHL
DESCRIPTION;ENCODING=QUOTED-PRINTABLE:Easy Street Area=0D=0A2013 Summer=0D=0ADivision 1=0D=0AChetter vs VCCD
DTEND:20130408T204500
DTSTAMP:20260419T234200
DTSTART:20130408T191500
END:VEVENT
BEGIN:VEVENT
CATEGORIES:HOCKEY GAME
SUMMARY:Chetter vs Crossbar
LOCATION:NHL
DESCRIPTION;ENCODING=QUOTED-PRINTABLE:Easy Street Area=0D=0A2013 Summer=0D=0ADivision 1=0D=0AChetter vs Crossbar
DTEND:20130422T204500
DTSTAMP:20260419T234200
DTSTART:20130422T191500
END:VEVENT
BEGIN:VEVENT
CATEGORIES:HOCKEY GAME
SUMMARY:Chetter vs Tan LA
LOCATION:NHL
DESCRIPTION;ENCODING=QUOTED-PRINTABLE:Easy Street Area=0D=0A2013 Summer=0D=0ADivision 1=0D=0AChetter vs Tan LA
DTEND:20130429T234500
DTSTAMP:20260419T234200
DTSTART:20130429T221500
END:VEVENT
BEGIN:VEVENT
CATEGORIES:HOCKEY GAME
SUMMARY:Chetter at C-Land
LOCATION:NHL
DESCRIPTION;ENCODING=QUOTED-PRINTABLE:Easy Street Area=0D=0A2013 Summer=0D=0ADivision 1=0D=0AChetter at C-Land
DTEND:20130506T221500
DTSTAMP:20260419T234200
DTSTART:20130506T204500
END:VEVENT
BEGIN:VEVENT
CATEGORIES:HOCKEY GAME
SUMMARY:Chetter at VCCD
LOCATION:NHL
DESCRIPTION;ENCODING=QUOTED-PRINTABLE:Easy Street Area=0D=0A2013 Summer=0D=0ADivision 1=0D=0AChetter at VCCD
DTEND:20130513T234500
DTSTAMP:20260419T234200
DTSTART:20130513T221500
END:VEVENT
BEGIN:VEVENT
CATEGORIES:HOCKEY GAME
SUMMARY:Chetter vs Brewins
LOCATION:NHL
DESCRIPTION;ENCODING=QUOTED-PRINTABLE:Easy Street Area=0D=0A2013 Summer=0D=0ADivision 1=0D=0AChetter vs Brewins
DTEND:20130520T204500
DTSTAMP:20260419T234200
DTSTART:20130520T191500
END:VEVENT
BEGIN:VEVENT
CATEGORIES:HOCKEY GAME
SUMMARY:Chetter at Tan LA
LOCATION:NHL
DESCRIPTION;ENCODING=QUOTED-PRINTABLE:Easy Street Area=0D=0A2013 Summer=0D=0ADivision 1=0D=0AChetter at Tan LA
DTEND:20130603T204500
DTSTAMP:20260419T234200
DTSTART:20130603T191500
END:VEVENT
BEGIN:VEVENT
CATEGORIES:HOCKEY GAME
SUMMARY:Chetter vs C-Land
LOCATION:NHL
DESCRIPTION;ENCODING=QUOTED-PRINTABLE:Easy Street Area=0D=0A2013 Summer=0D=0ADivision 1=0D=0AChetter vs C-Land
DTEND:20130610T221500
DTSTAMP:20260419T234200
DTSTART:20130610T204500
END:VEVENT
BEGIN:VEVENT
CATEGORIES:HOCKEY GAME
SUMMARY:Chetter vs VCCD
LOCATION:OLY
DESCRIPTION;ENCODING=QUOTED-PRINTABLE:Easy Street Area=0D=0A2013 Summer=0D=0ADivision 1=0D=0AChetter vs VCCD
DTEND:20130617T200000
DTSTAMP:20260419T234200
DTSTART:20130617T183000
END:VEVENT
BEGIN:VEVENT
CATEGORIES:HOCKEY GAME
SUMMARY:Chetter at Brewins
LOCATION:NHL
DESCRIPTION;ENCODING=QUOTED-PRINTABLE:Easy Street Area=0D=0A2013 Summer=0D=0ADivision 1=0D=0AChetter at Brewins
DTEND:20130624T234500
DTSTAMP:20260419T234200
DTSTART:20130624T221500
END:VEVENT
BEGIN:VEVENT
CATEGORIES:HOCKEY GAME
SUMMARY:Chetter vs Crossbar
LOCATION:NHL
DESCRIPTION;ENCODING=QUOTED-PRINTABLE:Easy Street Area=0D=0A2013 Summer=0D=0ADivision 1=0D=0AChetter vs Crossbar
DTEND:20130701T234500
DTSTAMP:20260419T234200
DTSTART:20130701T221500
END:VEVENT
BEGIN:VEVENT
CATEGORIES:HOCKEY GAME
SUMMARY:Chetter vs Tan LA
LOCATION:NHL
DESCRIPTION;ENCODING=QUOTED-PRINTABLE:Easy Street Area=0D=0A2013 Summer=0D=0ADivision 1=0D=0AChetter vs Tan LA
DTEND:20130708T221500
DTSTAMP:20260419T234200
DTSTART:20130708T204500
END:VEVENT
BEGIN:VEVENT
CATEGORIES:HOCKEY GAME
SUMMARY:Chetter at C-Land
LOCATION:NHL
DESCRIPTION;ENCODING=QUOTED-PRINTABLE:Easy Street Area=0D=0A2013 Summer=0D=0ADivision 1=0D=0AChetter at C-Land
DTEND:20130715T204500
DTSTAMP:20260419T234200
DTSTART:20130715T191500
END:VEVENT
BEGIN:VEVENT
CATEGORIES:HOCKEY GAME
SUMMARY:Chetter at VCCD
LOCATION:NHL
DESCRIPTION;ENCODING=QUOTED-PRINTABLE:Easy Street Area=0D=0A2013 Summer=0D=0ADivision 1=0D=0AChetter at VCCD
DTEND:20130722T234500
DTSTAMP:20260419T234200
DTSTART:20130722T221500
END:VEVENT
BEGIN:VEVENT
CATEGORIES:HOCKEY GAME
SUMMARY:Chetter vs Brewins
LOCATION:NHL
DESCRIPTION;ENCODING=QUOTED-PRINTABLE:Easy Street Area=0D=0A2013 Summer=0D=0ADivision 1=0D=0AChetter vs Brewins
DTEND:20130729T221500
DTSTAMP:20260419T234200
DTSTART:20130729T204500
END:VEVENT
BEGIN:VEVENT
CATEGORIES:HOCKEY GAME
SUMMARY:Chetter at Crossbar
LOCATION:OLY
DESCRIPTION;ENCODING=QUOTED-PRINTABLE:Easy Street Area=0D=0A2013 Summer=0D=0ADivision 1=0D=0AChetter at Crossbar
DTEND:20130805T200000
DTSTAMP:20260419T234200
DTSTART:20130805T183000
END:VEVENT
BEGIN:VEVENT
CATEGORIES:HOCKEY GAME
SUMMARY:Chetter at Brewins
LOCATION:NHL
DESCRIPTION;ENCODING=QUOTED-PRINTABLE:Easy Street Area=0D=0A2013 Summer=0D=0ADivision 1=0D=0AChetter at Brewins
DTEND:20130808T234500
DTSTAMP:20260419T234200
DTSTART:20130808T221500
END:VEVENT
BEGIN:VEVENT
CATEGORIES:HOCKEY GAME
SUMMARY:Chetter at Crossbar
LOCATION:OLY
DESCRIPTION;ENCODING=QUOTED-PRINTABLE:Easy Street Area=0D=0A2013 Summer=0D=0ADivision 1=0D=0AChetter at Crossbar
DTEND:20130812T200000
DTSTAMP:20260419T234200
DTSTART:20130812T183000
END:VEVENT
END:VCALENDAR
