BEGIN:VCALENDAR
VERSION:2.0
BEGIN:VEVENT
CATEGORIES:HOCKEY GAME
SUMMARY:Brewins vs Crossbar
LOCATION:NHL
DESCRIPTION;ENCODING=QUOTED-PRINTABLE:Easy Street Area=0D=0A2013 Summer=0D=0ADivision 1=0D=0ABrewins vs Crossbar
DTEND:20130408T221500
DTSTAMP:20260420T024200
DTSTART:20130408T204500
END:VEVENT
BEGIN:VEVENT
CATEGORIES:HOCKEY GAME
SUMMARY:Brewins at C-Land
LOCATION:NHL
DESCRIPTION;ENCODING=QUOTED-PRINTABLE:Easy Street Area=0D=0A2013 Summer=0D=0ADivision 1=0D=0ABrewins at C-Land
DTEND:20130422T234500
DTSTAMP:20260420T024200
DTSTART:20130422T221500
END:VEVENT
BEGIN:VEVENT
CATEGORIES:HOCKEY GAME
SUMMARY:Brewins at VCCD
LOCATION:NHL
DESCRIPTION;ENCODING=QUOTED-PRINTABLE:Easy Street Area=0D=0A2013 Summer=0D=0ADivision 1=0D=0ABrewins at VCCD
DTEND:20130429T221500
DTSTAMP:20260420T024200
DTSTART:20130429T204500
END:VEVENT
BEGIN:VEVENT
CATEGORIES:HOCKEY GAME
SUMMARY:Brewins vs Tan LA
LOCATION:OLY
DESCRIPTION;ENCODING=QUOTED-PRINTABLE:Easy Street Area=0D=0A2013 Summer=0D=0ADivision 1=0D=0ABrewins vs Tan LA
DTEND:20130506T200000
DTSTAMP:20260420T024200
DTSTART:20130506T183000
END:VEVENT
BEGIN:VEVENT
CATEGORIES:HOCKEY GAME
SUMMARY:Brewins at Crossbar
LOCATION:NHL
DESCRIPTION;ENCODING=QUOTED-PRINTABLE:Easy Street Area=0D=0A2013 Summer=0D=0ADivision 1=0D=0ABrewins at Crossbar
DTEND:20130513T204500
DTSTAMP:20260420T024200
DTSTART:20130513T191500
END:VEVENT
BEGIN:VEVENT
CATEGORIES:HOCKEY GAME
SUMMARY:Brewins at Chetter
LOCATION:NHL
DESCRIPTION;ENCODING=QUOTED-PRINTABLE:Easy Street Area=0D=0A2013 Summer=0D=0ADivision 1=0D=0ABrewins at Chetter
DTEND:20130520T204500
DTSTAMP:20260420T024200
DTSTART:20130520T191500
END:VEVENT
BEGIN:VEVENT
CATEGORIES:HOCKEY GAME
SUMMARY:Brewins vs VCCD
LOCATION:OLY
DESCRIPTION;ENCODING=QUOTED-PRINTABLE:Easy Street Area=0D=0A2013 Summer=0D=0ADivision 1=0D=0ABrewins vs VCCD
DTEND:20130603T200000
DTSTAMP:20260420T024200
DTSTART:20130603T183000
END:VEVENT
BEGIN:VEVENT
CATEGORIES:HOCKEY GAME
SUMMARY:Brewins at Tan LA
LOCATION:NHL
DESCRIPTION;ENCODING=QUOTED-PRINTABLE:Easy Street Area=0D=0A2013 Summer=0D=0ADivision 1=0D=0ABrewins at Tan LA
DTEND:20130610T234500
DTSTAMP:20260420T024200
DTSTART:20130610T221500
END:VEVENT
BEGIN:VEVENT
CATEGORIES:HOCKEY GAME
SUMMARY:Brewins vs Crossbar
LOCATION:NHL
DESCRIPTION;ENCODING=QUOTED-PRINTABLE:Easy Street Area=0D=0A2013 Summer=0D=0ADivision 1=0D=0ABrewins vs Crossbar
DTEND:20130617T221500
DTSTAMP:20260420T024200
DTSTART:20130617T204500
END:VEVENT
BEGIN:VEVENT
CATEGORIES:HOCKEY GAME
SUMMARY:Brewins vs Chetter
LOCATION:NHL
DESCRIPTION;ENCODING=QUOTED-PRINTABLE:Easy Street Area=0D=0A2013 Summer=0D=0ADivision 1=0D=0ABrewins vs Chetter
DTEND:20130624T234500
DTSTAMP:20260420T024200
DTSTART:20130624T221500
END:VEVENT
BEGIN:VEVENT
CATEGORIES:HOCKEY GAME
SUMMARY:Brewins at C-Land
LOCATION:NHL
DESCRIPTION;ENCODING=QUOTED-PRINTABLE:Easy Street Area=0D=0A2013 Summer=0D=0ADivision 1=0D=0ABrewins at C-Land
DTEND:20130701T204500
DTSTAMP:20260420T024200
DTSTART:20130701T191500
END:VEVENT
BEGIN:VEVENT
CATEGORIES:HOCKEY GAME
SUMMARY:Brewins at VCCD
LOCATION:NHL
DESCRIPTION;ENCODING=QUOTED-PRINTABLE:Easy Street Area=0D=0A2013 Summer=0D=0ADivision 1=0D=0ABrewins at VCCD
DTEND:20130708T234500
DTSTAMP:20260420T024200
DTSTART:20130708T221500
END:VEVENT
BEGIN:VEVENT
CATEGORIES:HOCKEY GAME
SUMMARY:Brewins vs Tan LA
LOCATION:OLY
DESCRIPTION;ENCODING=QUOTED-PRINTABLE:Easy Street Area=0D=0A2013 Summer=0D=0ADivision 1=0D=0ABrewins vs Tan LA
DTEND:20130715T200000
DTSTAMP:20260420T024200
DTSTART:20130715T183000
END:VEVENT
BEGIN:VEVENT
CATEGORIES:HOCKEY GAME
SUMMARY:Brewins at Crossbar
LOCATION:NHL
DESCRIPTION;ENCODING=QUOTED-PRINTABLE:Easy Street Area=0D=0A2013 Summer=0D=0ADivision 1=0D=0ABrewins at Crossbar
DTEND:20130722T221500
DTSTAMP:20260420T024200
DTSTART:20130722T204500
END:VEVENT
BEGIN:VEVENT
CATEGORIES:HOCKEY GAME
SUMMARY:Brewins at Chetter
LOCATION:NHL
DESCRIPTION;ENCODING=QUOTED-PRINTABLE:Easy Street Area=0D=0A2013 Summer=0D=0ADivision 1=0D=0ABrewins at Chetter
DTEND:20130729T221500
DTSTAMP:20260420T024200
DTSTART:20130729T204500
END:VEVENT
BEGIN:VEVENT
CATEGORIES:HOCKEY GAME
SUMMARY:Brewins vs C-Land
LOCATION:NHL
DESCRIPTION;ENCODING=QUOTED-PRINTABLE:Easy Street Area=0D=0A2013 Summer=0D=0ADivision 1=0D=0ABrewins vs C-Land
DTEND:20130805T234500
DTSTAMP:20260420T024200
DTSTART:20130805T221500
END:VEVENT
BEGIN:VEVENT
CATEGORIES:HOCKEY GAME
SUMMARY:Brewins vs Chetter
LOCATION:NHL
DESCRIPTION;ENCODING=QUOTED-PRINTABLE:Easy Street Area=0D=0A2013 Summer=0D=0ADivision 1=0D=0ABrewins vs Chetter
DTEND:20130808T234500
DTSTAMP:20260420T024200
DTSTART:20130808T221500
END:VEVENT
BEGIN:VEVENT
CATEGORIES:HOCKEY GAME
SUMMARY:Brewins vs C-Land
LOCATION:NHL
DESCRIPTION;ENCODING=QUOTED-PRINTABLE:Easy Street Area=0D=0A2013 Summer=0D=0ADivision 1=0D=0ABrewins vs C-Land
DTEND:20130812T221500
DTSTAMP:20260420T024200
DTSTART:20130812T204500
END:VEVENT
END:VCALENDAR
