BEGIN:VCALENDAR
VERSION:2.0
BEGIN:VEVENT
CATEGORIES:HOCKEY GAME
SUMMARY:Swash Pucklers at Puck Monkeys
LOCATION:OLY
DESCRIPTION;ENCODING=QUOTED-PRINTABLE:Easy Street Area=0D=0A2025 Summer=0D=0ATaco Tuesday Invite=0D=0ASwash Pucklers at Puck Monkeys
DTEND:20250319T001500
DTSTAMP:20260419T121500
DTSTART:20250318T224500
END:VEVENT
BEGIN:VEVENT
CATEGORIES:HOCKEY GAME
SUMMARY:Swash Pucklers at Wasters FCwL
LOCATION:NHL
DESCRIPTION;ENCODING=QUOTED-PRINTABLE:Easy Street Area=0D=0A2025 Summer=0D=0ATaco Tuesday Invite=0D=0ASwash Pucklers at Wasters FCwL
DTEND:20250326T000000
DTSTAMP:20260419T121500
DTSTART:20250325T223000
END:VEVENT
BEGIN:VEVENT
CATEGORIES:HOCKEY GAME
SUMMARY:Swash Pucklers at Top Goon
LOCATION:OLY
DESCRIPTION;ENCODING=QUOTED-PRINTABLE:Easy Street Area=0D=0A2025 Summer=0D=0ATaco Tuesday Invite=0D=0ASwash Pucklers at Top Goon
DTEND:20250401T224500
DTSTAMP:20260419T121500
DTSTART:20250401T211500
END:VEVENT
BEGIN:VEVENT
CATEGORIES:HOCKEY GAME
SUMMARY:Swash Pucklers at Puck Monkeys
LOCATION:NHL
DESCRIPTION;ENCODING=QUOTED-PRINTABLE:Easy Street Area=0D=0A2025 Summer=0D=0ATaco Tuesday Invite=0D=0ASwash Pucklers at Puck Monkeys
DTEND:20250408T223000
DTSTAMP:20260419T121500
DTSTART:20250408T210000
END:VEVENT
BEGIN:VEVENT
CATEGORIES:HOCKEY GAME
SUMMARY:Swash Pucklers at Wasters FCwL
LOCATION:OLY
DESCRIPTION;ENCODING=QUOTED-PRINTABLE:Easy Street Area=0D=0A2025 Summer=0D=0ATaco Tuesday Invite=0D=0ASwash Pucklers at Wasters FCwL
DTEND:20250415T224500
DTSTAMP:20260419T121500
DTSTART:20250415T211500
END:VEVENT
BEGIN:VEVENT
CATEGORIES:HOCKEY GAME
SUMMARY:Swash Pucklers at Top Goon
LOCATION:NHL
DESCRIPTION;ENCODING=QUOTED-PRINTABLE:Easy Street Area=0D=0A2025 Summer=0D=0ATaco Tuesday Invite=0D=0ASwash Pucklers at Top Goon
DTEND:20250423T000000
DTSTAMP:20260419T121500
DTSTART:20250422T223000
END:VEVENT
BEGIN:VEVENT
CATEGORIES:HOCKEY GAME
SUMMARY:Swash Pucklers at Puck Monkeys
LOCATION:OLY
DESCRIPTION;ENCODING=QUOTED-PRINTABLE:Easy Street Area=0D=0A2025 Summer=0D=0ATaco Tuesday Invite=0D=0ASwash Pucklers at Puck Monkeys
DTEND:20250430T001500
DTSTAMP:20260419T121500
DTSTART:20250429T224500
END:VEVENT
BEGIN:VEVENT
CATEGORIES:HOCKEY GAME
SUMMARY:Swash Pucklers at Wasters FCwL
LOCATION:NHL
DESCRIPTION;ENCODING=QUOTED-PRINTABLE:Easy Street Area=0D=0A2025 Summer=0D=0ATaco Tuesday Invite=0D=0ASwash Pucklers at Wasters FCwL
DTEND:20250507T000000
DTSTAMP:20260419T121500
DTSTART:20250506T223000
END:VEVENT
BEGIN:VEVENT
CATEGORIES:HOCKEY GAME
SUMMARY:Swash Pucklers at Top Goon
LOCATION:OLY
DESCRIPTION;ENCODING=QUOTED-PRINTABLE:Easy Street Area=0D=0A2025 Summer=0D=0ATaco Tuesday Invite=0D=0ASwash Pucklers at Top Goon
DTEND:20250513T224500
DTSTAMP:20260419T121500
DTSTART:20250513T211500
END:VEVENT
BEGIN:VEVENT
CATEGORIES:HOCKEY GAME
SUMMARY:Swash Pucklers at Puck Monkeys
LOCATION:NHL
DESCRIPTION;ENCODING=QUOTED-PRINTABLE:Easy Street Area=0D=0A2025 Summer=0D=0ATaco Tuesday Invite=0D=0ASwash Pucklers at Puck Monkeys
DTEND:20250520T223000
DTSTAMP:20260419T121500
DTSTART:20250520T210000
END:VEVENT
BEGIN:VEVENT
CATEGORIES:HOCKEY GAME
SUMMARY:Swash Pucklers at Wasters FCwL
LOCATION:OLY
DESCRIPTION;ENCODING=QUOTED-PRINTABLE:Easy Street Area=0D=0A2025 Summer=0D=0ATaco Tuesday Invite=0D=0ASwash Pucklers at Wasters FCwL
DTEND:20250527T224500
DTSTAMP:20260419T121500
DTSTART:20250527T211500
END:VEVENT
BEGIN:VEVENT
CATEGORIES:HOCKEY GAME
SUMMARY:Swash Pucklers at Top Goon
LOCATION:NHL
DESCRIPTION;ENCODING=QUOTED-PRINTABLE:Easy Street Area=0D=0A2025 Summer=0D=0ATaco Tuesday Invite=0D=0ASwash Pucklers at Top Goon
DTEND:20250604T000000
DTSTAMP:20260419T121500
DTSTART:20250603T223000
END:VEVENT
BEGIN:VEVENT
CATEGORIES:HOCKEY GAME
SUMMARY:Swash Pucklers at Puck Monkeys
LOCATION:OLY
DESCRIPTION;ENCODING=QUOTED-PRINTABLE:Easy Street Area=0D=0A2025 Summer=0D=0ATaco Tuesday Invite=0D=0ASwash Pucklers at Puck Monkeys
DTEND:20250611T001500
DTSTAMP:20260419T121500
DTSTART:20250610T224500
END:VEVENT
BEGIN:VEVENT
CATEGORIES:HOCKEY GAME
SUMMARY:Swash Pucklers at Wasters FCwL
LOCATION:NHL
DESCRIPTION;ENCODING=QUOTED-PRINTABLE:Easy Street Area=0D=0A2025 Summer=0D=0ATaco Tuesday Invite=0D=0ASwash Pucklers at Wasters FCwL
DTEND:20250618T000000
DTSTAMP:20260419T121500
DTSTART:20250617T223000
END:VEVENT
BEGIN:VEVENT
CATEGORIES:HOCKEY GAME
SUMMARY:Swash Pucklers at Top Goon
LOCATION:OLY
DESCRIPTION;ENCODING=QUOTED-PRINTABLE:Easy Street Area=0D=0A2025 Summer=0D=0ATaco Tuesday Invite=0D=0ASwash Pucklers at Top Goon
DTEND:20250624T224500
DTSTAMP:20260419T121500
DTSTART:20250624T211500
END:VEVENT
BEGIN:VEVENT
CATEGORIES:HOCKEY GAME
SUMMARY:Swash Pucklers at Puck Monkeys
LOCATION:NHL
DESCRIPTION;ENCODING=QUOTED-PRINTABLE:Easy Street Area=0D=0A2025 Summer=0D=0ATaco Tuesday Invite=0D=0ASwash Pucklers at Puck Monkeys
DTEND:20250701T223000
DTSTAMP:20260419T121500
DTSTART:20250701T210000
END:VEVENT
BEGIN:VEVENT
CATEGORIES:HOCKEY GAME
SUMMARY:Swash Pucklers at Wasters FCwL
LOCATION:OLY
DESCRIPTION;ENCODING=QUOTED-PRINTABLE:Easy Street Area=0D=0A2025 Summer=0D=0ATaco Tuesday Invite=0D=0ASwash Pucklers at Wasters FCwL
DTEND:20250708T224500
DTSTAMP:20260419T121500
DTSTART:20250708T211500
END:VEVENT
BEGIN:VEVENT
CATEGORIES:HOCKEY GAME
SUMMARY:Swash Pucklers at Top Goon
LOCATION:NHL
DESCRIPTION;ENCODING=QUOTED-PRINTABLE:Easy Street Area=0D=0A2025 Summer=0D=0ATaco Tuesday Invite=0D=0ASwash Pucklers at Top Goon
DTEND:20250716T000000
DTSTAMP:20260419T121500
DTSTART:20250715T223000
END:VEVENT
BEGIN:VEVENT
CATEGORIES:HOCKEY GAME
SUMMARY:Swash Pucklers at Puck Monkeys
LOCATION:OLY
DESCRIPTION;ENCODING=QUOTED-PRINTABLE:Easy Street Area=0D=0A2025 Summer=0D=0ATaco Tuesday Invite=0D=0ASwash Pucklers at Puck Monkeys
DTEND:20250723T001500
DTSTAMP:20260419T121500
DTSTART:20250722T224500
END:VEVENT
BEGIN:VEVENT
CATEGORIES:HOCKEY GAME
SUMMARY:Swash Pucklers at Wasters FCwL
LOCATION:NHL
DESCRIPTION;ENCODING=QUOTED-PRINTABLE:Easy Street Area=0D=0A2025 Summer=0D=0ATaco Tuesday Invite=0D=0ASwash Pucklers at Wasters FCwL
DTEND:20250730T000000
DTSTAMP:20260419T121500
DTSTART:20250729T223000
END:VEVENT
END:VCALENDAR
