BEGIN:VCALENDAR
VERSION:2.0
BEGIN:VEVENT
CATEGORIES:HOCKEY GAME
SUMMARY:Wolfpack vs Pogue Mahone
LOCATION:NHL
DESCRIPTION;ENCODING=QUOTED-PRINTABLE:Easy Street Area=0D=0A2015 Winter=0D=0ADivision 4=0D=0AWolfpack vs Pogue Mahone
DTEND:20150913T180000
DTSTAMP:20260421T082400
DTSTART:20150913T163000
END:VEVENT
BEGIN:VEVENT
CATEGORIES:HOCKEY GAME
SUMMARY:Wolfpack vs Bar Out Cellie
LOCATION:OLY
DESCRIPTION;ENCODING=QUOTED-PRINTABLE:Easy Street Area=0D=0A2015 Winter=0D=0ADivision 4=0D=0AWolfpack vs Bar Out Cellie
DTEND:20150920T191500
DTSTAMP:20260421T082400
DTSTART:20150920T174500
END:VEVENT
BEGIN:VEVENT
CATEGORIES:HOCKEY GAME
SUMMARY:Wolfpack at Rangers
LOCATION:OLY
DESCRIPTION;ENCODING=QUOTED-PRINTABLE:Easy Street Area=0D=0A2015 Winter=0D=0ADivision 4=0D=0AWolfpack at Rangers
DTEND:20150927T191500
DTSTAMP:20260421T082400
DTSTART:20150927T174500
END:VEVENT
BEGIN:VEVENT
CATEGORIES:HOCKEY GAME
SUMMARY:Wolfpack at Buzzards
LOCATION:NHL
DESCRIPTION;ENCODING=QUOTED-PRINTABLE:Easy Street Area=0D=0A2015 Winter=0D=0ADivision 4=0D=0AWolfpack at Buzzards
DTEND:20151004T163000
DTSTAMP:20260421T082400
DTSTART:20151004T150000
END:VEVENT
BEGIN:VEVENT
CATEGORIES:HOCKEY GAME
SUMMARY:Wolfpack at Ruination
LOCATION:OLY
DESCRIPTION;ENCODING=QUOTED-PRINTABLE:Easy Street Area=0D=0A2015 Winter=0D=0ADivision 4=0D=0AWolfpack at Ruination
DTEND:20151011T204500
DTSTAMP:20260421T082400
DTSTART:20151011T191500
END:VEVENT
BEGIN:VEVENT
CATEGORIES:HOCKEY GAME
SUMMARY:Wolfpack vs Pogue Mahone
LOCATION:OLY
DESCRIPTION;ENCODING=QUOTED-PRINTABLE:Easy Street Area=0D=0A2015 Winter=0D=0ADivision 4=0D=0AWolfpack vs Pogue Mahone
DTEND:20151018T234500
DTSTAMP:20260421T082400
DTSTART:20151018T221500
END:VEVENT
BEGIN:VEVENT
CATEGORIES:HOCKEY GAME
SUMMARY:Wolfpack vs Bar Out Cellie
LOCATION:NHL
DESCRIPTION;ENCODING=QUOTED-PRINTABLE:Easy Street Area=0D=0A2015 Winter=0D=0ADivision 4=0D=0AWolfpack vs Bar Out Cellie
DTEND:20151025T223000
DTSTAMP:20260421T082400
DTSTART:20151025T210000
END:VEVENT
BEGIN:VEVENT
CATEGORIES:HOCKEY GAME
SUMMARY:Wolfpack at Rangers
LOCATION:OLY
DESCRIPTION;ENCODING=QUOTED-PRINTABLE:Easy Street Area=0D=0A2015 Winter=0D=0ADivision 4=0D=0AWolfpack at Rangers
DTEND:20151101T234500
DTSTAMP:20260421T082400
DTSTART:20151101T221500
END:VEVENT
BEGIN:VEVENT
CATEGORIES:HOCKEY GAME
SUMMARY:Wolfpack at Buzzards
LOCATION:OLY
DESCRIPTION;ENCODING=QUOTED-PRINTABLE:Easy Street Area=0D=0A2015 Winter=0D=0ADivision 4=0D=0AWolfpack at Buzzards
DTEND:20151108T221500
DTSTAMP:20260421T082400
DTSTART:20151108T204500
END:VEVENT
BEGIN:VEVENT
CATEGORIES:HOCKEY GAME
SUMMARY:Wolfpack at Ruination
LOCATION:NHL
DESCRIPTION;ENCODING=QUOTED-PRINTABLE:Easy Street Area=0D=0A2015 Winter=0D=0ADivision 4=0D=0AWolfpack at Ruination
DTEND:20151115T150000
DTSTAMP:20260421T082400
DTSTART:20151115T133000
END:VEVENT
BEGIN:VEVENT
CATEGORIES:HOCKEY GAME
SUMMARY:Wolfpack vs Pogue Mahone
LOCATION:OLY
DESCRIPTION;ENCODING=QUOTED-PRINTABLE:Easy Street Area=0D=0A2015 Winter=0D=0ADivision 4=0D=0AWolfpack vs Pogue Mahone
DTEND:20151122T191500
DTSTAMP:20260421T082400
DTSTART:20151122T174500
END:VEVENT
BEGIN:VEVENT
CATEGORIES:HOCKEY GAME
SUMMARY:Wolfpack vs Bar Out Cellie
LOCATION:NHL
DESCRIPTION;ENCODING=QUOTED-PRINTABLE:Easy Street Area=0D=0A2015 Winter=0D=0ADivision 4=0D=0AWolfpack vs Bar Out Cellie
DTEND:20151129T210000
DTSTAMP:20260421T082400
DTSTART:20151129T193000
END:VEVENT
BEGIN:VEVENT
CATEGORIES:HOCKEY GAME
SUMMARY:Wolfpack at Rangers
LOCATION:OLY
DESCRIPTION;ENCODING=QUOTED-PRINTABLE:Easy Street Area=0D=0A2015 Winter=0D=0ADivision 4=0D=0AWolfpack at Rangers
DTEND:20151206T234500
DTSTAMP:20260421T082400
DTSTART:20151206T221500
END:VEVENT
BEGIN:VEVENT
CATEGORIES:HOCKEY GAME
SUMMARY:Wolfpack at Buzzards
LOCATION:OLY
DESCRIPTION;ENCODING=QUOTED-PRINTABLE:Easy Street Area=0D=0A2015 Winter=0D=0ADivision 4=0D=0AWolfpack at Buzzards
DTEND:20151213T174500
DTSTAMP:20260421T082400
DTSTART:20151213T161500
END:VEVENT
BEGIN:VEVENT
CATEGORIES:HOCKEY GAME
SUMMARY:Wolfpack at Ruination
LOCATION:NHL
DESCRIPTION;ENCODING=QUOTED-PRINTABLE:Easy Street Area=0D=0A2015 Winter=0D=0ADivision 4=0D=0AWolfpack at Ruination
DTEND:20151220T210000
DTSTAMP:20260421T082400
DTSTART:20151220T193000
END:VEVENT
BEGIN:VEVENT
CATEGORIES:HOCKEY GAME
SUMMARY:Wolfpack vs Pogue Mahone
LOCATION:NHL
DESCRIPTION;ENCODING=QUOTED-PRINTABLE:Easy Street Area=0D=0A2015 Winter=0D=0ADivision 4=0D=0AWolfpack vs Pogue Mahone
DTEND:20160104T000000
DTSTAMP:20260421T082400
DTSTART:20160103T223000
END:VEVENT
BEGIN:VEVENT
CATEGORIES:HOCKEY GAME
SUMMARY:Wolfpack vs Bar Out Cellie
LOCATION:NHL
DESCRIPTION;ENCODING=QUOTED-PRINTABLE:Easy Street Area=0D=0A2015 Winter=0D=0ADivision 4=0D=0AWolfpack vs Bar Out Cellie
DTEND:20160110T163000
DTSTAMP:20260421T082400
DTSTART:20160110T150000
END:VEVENT
BEGIN:VEVENT
CATEGORIES:HOCKEY GAME
SUMMARY:Wolfpack at Rangers
LOCATION:OLY
DESCRIPTION;ENCODING=QUOTED-PRINTABLE:Easy Street Area=0D=0A2015 Winter=0D=0ADivision 4=0D=0AWolfpack at Rangers
DTEND:20160117T204500
DTSTAMP:20260421T082400
DTSTART:20160117T191500
END:VEVENT
BEGIN:VEVENT
CATEGORIES:HOCKEY GAME
SUMMARY:Wolfpack at Buzzards
LOCATION:NHL
DESCRIPTION;ENCODING=QUOTED-PRINTABLE:Easy Street Area=0D=0A2015 Winter=0D=0ADivision 4=0D=0AWolfpack at Buzzards
DTEND:20160124T223000
DTSTAMP:20260421T082400
DTSTART:20160124T210000
END:VEVENT
BEGIN:VEVENT
CATEGORIES:HOCKEY GAME
SUMMARY:Wolfpack at Ruination
LOCATION:NHL
DESCRIPTION;ENCODING=QUOTED-PRINTABLE:Easy Street Area=0D=0A2015 Winter=0D=0ADivision 4=0D=0AWolfpack at Ruination
DTEND:20160131T163000
DTSTAMP:20260421T082400
DTSTART:20160131T150000
END:VEVENT
END:VCALENDAR
