BEGIN:VCALENDAR
VERSION:2.0
BEGIN:VEVENT
CATEGORIES:HOCKEY GAME
SUMMARY:Rangers vs Bar Out Cellie
LOCATION:NHL
DESCRIPTION;ENCODING=QUOTED-PRINTABLE:Easy Street Area=0D=0A2015 Winter=0D=0ADivision 4=0D=0ARangers vs Bar Out Cellie
DTEND:20150913T163000
DTSTAMP:20260421T080800
DTSTART:20150913T150000
END:VEVENT
BEGIN:VEVENT
CATEGORIES:HOCKEY GAME
SUMMARY:Rangers vs Ruination
LOCATION:NHL
DESCRIPTION;ENCODING=QUOTED-PRINTABLE:Easy Street Area=0D=0A2015 Winter=0D=0ADivision 4=0D=0ARangers vs Ruination
DTEND:20150920T193000
DTSTAMP:20260421T080800
DTSTART:20150920T180000
END:VEVENT
BEGIN:VEVENT
CATEGORIES:HOCKEY GAME
SUMMARY:Rangers vs Wolfpack
LOCATION:OLY
DESCRIPTION;ENCODING=QUOTED-PRINTABLE:Easy Street Area=0D=0A2015 Winter=0D=0ADivision 4=0D=0ARangers vs Wolfpack
DTEND:20150927T191500
DTSTAMP:20260421T080800
DTSTART:20150927T174500
END:VEVENT
BEGIN:VEVENT
CATEGORIES:HOCKEY GAME
SUMMARY:Rangers vs Pogue Mahone
LOCATION:NHL
DESCRIPTION;ENCODING=QUOTED-PRINTABLE:Easy Street Area=0D=0A2015 Winter=0D=0ADivision 4=0D=0ARangers vs Pogue Mahone
DTEND:20151004T210000
DTSTAMP:20260421T080800
DTSTART:20151004T193000
END:VEVENT
BEGIN:VEVENT
CATEGORIES:HOCKEY GAME
SUMMARY:Rangers vs Buzzards
LOCATION:NHL
DESCRIPTION;ENCODING=QUOTED-PRINTABLE:Easy Street Area=0D=0A2015 Winter=0D=0ADivision 4=0D=0ARangers vs Buzzards
DTEND:20151011T193000
DTSTAMP:20260421T080800
DTSTART:20151011T180000
END:VEVENT
BEGIN:VEVENT
CATEGORIES:HOCKEY GAME
SUMMARY:Rangers vs Bar Out Cellie
LOCATION:OLY
DESCRIPTION;ENCODING=QUOTED-PRINTABLE:Easy Street Area=0D=0A2015 Winter=0D=0ADivision 4=0D=0ARangers vs Bar Out Cellie
DTEND:20151018T221500
DTSTAMP:20260421T080800
DTSTART:20151018T204500
END:VEVENT
BEGIN:VEVENT
CATEGORIES:HOCKEY GAME
SUMMARY:Rangers vs Ruination
LOCATION:NHL
DESCRIPTION;ENCODING=QUOTED-PRINTABLE:Easy Street Area=0D=0A2015 Winter=0D=0ADivision 4=0D=0ARangers vs Ruination
DTEND:20151025T133000
DTSTAMP:20260421T080800
DTSTART:20151025T120000
END:VEVENT
BEGIN:VEVENT
CATEGORIES:HOCKEY GAME
SUMMARY:Rangers vs Wolfpack
LOCATION:OLY
DESCRIPTION;ENCODING=QUOTED-PRINTABLE:Easy Street Area=0D=0A2015 Winter=0D=0ADivision 4=0D=0ARangers vs Wolfpack
DTEND:20151101T234500
DTSTAMP:20260421T080800
DTSTART:20151101T221500
END:VEVENT
BEGIN:VEVENT
CATEGORIES:HOCKEY GAME
SUMMARY:Rangers vs Pogue Mahone
LOCATION:NHL
DESCRIPTION;ENCODING=QUOTED-PRINTABLE:Easy Street Area=0D=0A2015 Winter=0D=0ADivision 4=0D=0ARangers vs Pogue Mahone
DTEND:20151108T180000
DTSTAMP:20260421T080800
DTSTART:20151108T163000
END:VEVENT
BEGIN:VEVENT
CATEGORIES:HOCKEY GAME
SUMMARY:Rangers vs Buzzards
LOCATION:NHL
DESCRIPTION;ENCODING=QUOTED-PRINTABLE:Easy Street Area=0D=0A2015 Winter=0D=0ADivision 4=0D=0ARangers vs Buzzards
DTEND:20151116T000000
DTSTAMP:20260421T080800
DTSTART:20151115T223000
END:VEVENT
BEGIN:VEVENT
CATEGORIES:HOCKEY GAME
SUMMARY:Rangers vs Bar Out Cellie
LOCATION:NHL
DESCRIPTION;ENCODING=QUOTED-PRINTABLE:Easy Street Area=0D=0A2015 Winter=0D=0ADivision 4=0D=0ARangers vs Bar Out Cellie
DTEND:20151122T163000
DTSTAMP:20260421T080800
DTSTART:20151122T150000
END:VEVENT
BEGIN:VEVENT
CATEGORIES:HOCKEY GAME
SUMMARY:Rangers vs Ruination
LOCATION:OLY
DESCRIPTION;ENCODING=QUOTED-PRINTABLE:Easy Street Area=0D=0A2015 Winter=0D=0ADivision 4=0D=0ARangers vs Ruination
DTEND:20151129T204500
DTSTAMP:20260421T080800
DTSTART:20151129T191500
END:VEVENT
BEGIN:VEVENT
CATEGORIES:HOCKEY GAME
SUMMARY:Rangers vs Wolfpack
LOCATION:OLY
DESCRIPTION;ENCODING=QUOTED-PRINTABLE:Easy Street Area=0D=0A2015 Winter=0D=0ADivision 4=0D=0ARangers vs Wolfpack
DTEND:20151206T234500
DTSTAMP:20260421T080800
DTSTART:20151206T221500
END:VEVENT
BEGIN:VEVENT
CATEGORIES:HOCKEY GAME
SUMMARY:Rangers vs Pogue Mahone
LOCATION:OLY
DESCRIPTION;ENCODING=QUOTED-PRINTABLE:Easy Street Area=0D=0A2015 Winter=0D=0ADivision 4=0D=0ARangers vs Pogue Mahone
DTEND:20151213T221500
DTSTAMP:20260421T080800
DTSTART:20151213T204500
END:VEVENT
BEGIN:VEVENT
CATEGORIES:HOCKEY GAME
SUMMARY:Rangers vs Buzzards
LOCATION:OLY
DESCRIPTION;ENCODING=QUOTED-PRINTABLE:Easy Street Area=0D=0A2015 Winter=0D=0ADivision 4=0D=0ARangers vs Buzzards
DTEND:20151220T204500
DTSTAMP:20260421T080800
DTSTART:20151220T191500
END:VEVENT
BEGIN:VEVENT
CATEGORIES:HOCKEY GAME
SUMMARY:Rangers vs Bar Out Cellie
LOCATION:NHL
DESCRIPTION;ENCODING=QUOTED-PRINTABLE:Easy Street Area=0D=0A2015 Winter=0D=0ADivision 4=0D=0ARangers vs Bar Out Cellie
DTEND:20160103T223000
DTSTAMP:20260421T080800
DTSTART:20160103T210000
END:VEVENT
BEGIN:VEVENT
CATEGORIES:HOCKEY GAME
SUMMARY:Rangers vs Ruination
LOCATION:NHL
DESCRIPTION;ENCODING=QUOTED-PRINTABLE:Easy Street Area=0D=0A2015 Winter=0D=0ADivision 4=0D=0ARangers vs Ruination
DTEND:20160110T210000
DTSTAMP:20260421T080800
DTSTART:20160110T193000
END:VEVENT
BEGIN:VEVENT
CATEGORIES:HOCKEY GAME
SUMMARY:Rangers vs Wolfpack
LOCATION:OLY
DESCRIPTION;ENCODING=QUOTED-PRINTABLE:Easy Street Area=0D=0A2015 Winter=0D=0ADivision 4=0D=0ARangers vs Wolfpack
DTEND:20160117T204500
DTSTAMP:20260421T080800
DTSTART:20160117T191500
END:VEVENT
BEGIN:VEVENT
CATEGORIES:HOCKEY GAME
SUMMARY:Rangers vs Pogue Mahone
LOCATION:NHL
DESCRIPTION;ENCODING=QUOTED-PRINTABLE:Easy Street Area=0D=0A2015 Winter=0D=0ADivision 4=0D=0ARangers vs Pogue Mahone
DTEND:20160124T210000
DTSTAMP:20260421T080800
DTSTART:20160124T193000
END:VEVENT
BEGIN:VEVENT
CATEGORIES:HOCKEY GAME
SUMMARY:Rangers vs Buzzards
LOCATION:NHL
DESCRIPTION;ENCODING=QUOTED-PRINTABLE:Easy Street Area=0D=0A2015 Winter=0D=0ADivision 4=0D=0ARangers vs Buzzards
DTEND:20160131T133000
DTSTAMP:20260421T080800
DTSTART:20160131T120000
END:VEVENT
END:VCALENDAR
