BEGIN:VCALENDAR
VERSION:2.0
BEGIN:VEVENT
CATEGORIES:HOCKEY GAME
SUMMARY:Pogue Mahone at Wolfpack
LOCATION:NHL
DESCRIPTION;ENCODING=QUOTED-PRINTABLE:Easy Street Area=0D=0A2015 Winter=0D=0ADivision 4=0D=0APogue Mahone at Wolfpack
DTEND:20150913T180000
DTSTAMP:20260421T094000
DTSTART:20150913T163000
END:VEVENT
BEGIN:VEVENT
CATEGORIES:HOCKEY GAME
SUMMARY:Pogue Mahone vs Buzzards
LOCATION:NHL
DESCRIPTION;ENCODING=QUOTED-PRINTABLE:Easy Street Area=0D=0A2015 Winter=0D=0ADivision 4=0D=0APogue Mahone vs Buzzards
DTEND:20150920T210000
DTSTAMP:20260421T094000
DTSTART:20150920T193000
END:VEVENT
BEGIN:VEVENT
CATEGORIES:HOCKEY GAME
SUMMARY:Pogue Mahone vs Ruination
LOCATION:OLY
DESCRIPTION;ENCODING=QUOTED-PRINTABLE:Easy Street Area=0D=0A2015 Winter=0D=0ADivision 4=0D=0APogue Mahone vs Ruination
DTEND:20150927T234500
DTSTAMP:20260421T094000
DTSTART:20150927T221500
END:VEVENT
BEGIN:VEVENT
CATEGORIES:HOCKEY GAME
SUMMARY:Pogue Mahone at Rangers
LOCATION:NHL
DESCRIPTION;ENCODING=QUOTED-PRINTABLE:Easy Street Area=0D=0A2015 Winter=0D=0ADivision 4=0D=0APogue Mahone at Rangers
DTEND:20151004T210000
DTSTAMP:20260421T094000
DTSTART:20151004T193000
END:VEVENT
BEGIN:VEVENT
CATEGORIES:HOCKEY GAME
SUMMARY:Pogue Mahone at Bar Out Cellie
LOCATION:OLY
DESCRIPTION;ENCODING=QUOTED-PRINTABLE:Easy Street Area=0D=0A2015 Winter=0D=0ADivision 4=0D=0APogue Mahone at Bar Out Cellie
DTEND:20151011T191500
DTSTAMP:20260421T094000
DTSTART:20151011T174500
END:VEVENT
BEGIN:VEVENT
CATEGORIES:HOCKEY GAME
SUMMARY:Pogue Mahone at Wolfpack
LOCATION:OLY
DESCRIPTION;ENCODING=QUOTED-PRINTABLE:Easy Street Area=0D=0A2015 Winter=0D=0ADivision 4=0D=0APogue Mahone at Wolfpack
DTEND:20151018T234500
DTSTAMP:20260421T094000
DTSTART:20151018T221500
END:VEVENT
BEGIN:VEVENT
CATEGORIES:HOCKEY GAME
SUMMARY:Pogue Mahone vs Buzzards
LOCATION:NHL
DESCRIPTION;ENCODING=QUOTED-PRINTABLE:Easy Street Area=0D=0A2015 Winter=0D=0ADivision 4=0D=0APogue Mahone vs Buzzards
DTEND:20151025T163000
DTSTAMP:20260421T094000
DTSTART:20151025T150000
END:VEVENT
BEGIN:VEVENT
CATEGORIES:HOCKEY GAME
SUMMARY:Pogue Mahone vs Ruination
LOCATION:OLY
DESCRIPTION;ENCODING=QUOTED-PRINTABLE:Easy Street Area=0D=0A2015 Winter=0D=0ADivision 4=0D=0APogue Mahone vs Ruination
DTEND:20151101T191500
DTSTAMP:20260421T094000
DTSTART:20151101T174500
END:VEVENT
BEGIN:VEVENT
CATEGORIES:HOCKEY GAME
SUMMARY:Pogue Mahone at Rangers
LOCATION:NHL
DESCRIPTION;ENCODING=QUOTED-PRINTABLE:Easy Street Area=0D=0A2015 Winter=0D=0ADivision 4=0D=0APogue Mahone at Rangers
DTEND:20151108T180000
DTSTAMP:20260421T094000
DTSTART:20151108T163000
END:VEVENT
BEGIN:VEVENT
CATEGORIES:HOCKEY GAME
SUMMARY:Pogue Mahone at Bar Out Cellie
LOCATION:NHL
DESCRIPTION;ENCODING=QUOTED-PRINTABLE:Easy Street Area=0D=0A2015 Winter=0D=0ADivision 4=0D=0APogue Mahone at Bar Out Cellie
DTEND:20151115T210000
DTSTAMP:20260421T094000
DTSTART:20151115T193000
END:VEVENT
BEGIN:VEVENT
CATEGORIES:HOCKEY GAME
SUMMARY:Pogue Mahone at Wolfpack
LOCATION:OLY
DESCRIPTION;ENCODING=QUOTED-PRINTABLE:Easy Street Area=0D=0A2015 Winter=0D=0ADivision 4=0D=0APogue Mahone at Wolfpack
DTEND:20151122T191500
DTSTAMP:20260421T094000
DTSTART:20151122T174500
END:VEVENT
BEGIN:VEVENT
CATEGORIES:HOCKEY GAME
SUMMARY:Pogue Mahone vs Buzzards
LOCATION:OLY
DESCRIPTION;ENCODING=QUOTED-PRINTABLE:Easy Street Area=0D=0A2015 Winter=0D=0ADivision 4=0D=0APogue Mahone vs Buzzards
DTEND:20151129T221500
DTSTAMP:20260421T094000
DTSTART:20151129T204500
END:VEVENT
BEGIN:VEVENT
CATEGORIES:HOCKEY GAME
SUMMARY:Pogue Mahone vs Ruination
LOCATION:NHL
DESCRIPTION;ENCODING=QUOTED-PRINTABLE:Easy Street Area=0D=0A2015 Winter=0D=0ADivision 4=0D=0APogue Mahone vs Ruination
DTEND:20151206T133000
DTSTAMP:20260421T094000
DTSTART:20151206T120000
END:VEVENT
BEGIN:VEVENT
CATEGORIES:HOCKEY GAME
SUMMARY:Pogue Mahone at Rangers
LOCATION:OLY
DESCRIPTION;ENCODING=QUOTED-PRINTABLE:Easy Street Area=0D=0A2015 Winter=0D=0ADivision 4=0D=0APogue Mahone at Rangers
DTEND:20151213T221500
DTSTAMP:20260421T094000
DTSTART:20151213T204500
END:VEVENT
BEGIN:VEVENT
CATEGORIES:HOCKEY GAME
SUMMARY:Pogue Mahone at Bar Out Cellie
LOCATION:NHL
DESCRIPTION;ENCODING=QUOTED-PRINTABLE:Easy Street Area=0D=0A2015 Winter=0D=0ADivision 4=0D=0APogue Mahone at Bar Out Cellie
DTEND:20151220T193000
DTSTAMP:20260421T094000
DTSTART:20151220T180000
END:VEVENT
BEGIN:VEVENT
CATEGORIES:HOCKEY GAME
SUMMARY:Pogue Mahone at Wolfpack
LOCATION:NHL
DESCRIPTION;ENCODING=QUOTED-PRINTABLE:Easy Street Area=0D=0A2015 Winter=0D=0ADivision 4=0D=0APogue Mahone at Wolfpack
DTEND:20160104T000000
DTSTAMP:20260421T094000
DTSTART:20160103T223000
END:VEVENT
BEGIN:VEVENT
CATEGORIES:HOCKEY GAME
SUMMARY:Pogue Mahone vs Buzzards
LOCATION:OLY
DESCRIPTION;ENCODING=QUOTED-PRINTABLE:Easy Street Area=0D=0A2015 Winter=0D=0ADivision 4=0D=0APogue Mahone vs Buzzards
DTEND:20160110T174500
DTSTAMP:20260421T094000
DTSTART:20160110T161500
END:VEVENT
BEGIN:VEVENT
CATEGORIES:HOCKEY GAME
SUMMARY:Pogue Mahone vs Ruination
LOCATION:NHL
DESCRIPTION;ENCODING=QUOTED-PRINTABLE:Easy Street Area=0D=0A2015 Winter=0D=0ADivision 4=0D=0APogue Mahone vs Ruination
DTEND:20160117T193000
DTSTAMP:20260421T094000
DTSTART:20160117T180000
END:VEVENT
BEGIN:VEVENT
CATEGORIES:HOCKEY GAME
SUMMARY:Pogue Mahone at Rangers
LOCATION:NHL
DESCRIPTION;ENCODING=QUOTED-PRINTABLE:Easy Street Area=0D=0A2015 Winter=0D=0ADivision 4=0D=0APogue Mahone at Rangers
DTEND:20160124T210000
DTSTAMP:20260421T094000
DTSTART:20160124T193000
END:VEVENT
BEGIN:VEVENT
CATEGORIES:HOCKEY GAME
SUMMARY:Pogue Mahone at Bar Out Cellie
LOCATION:OLY
DESCRIPTION;ENCODING=QUOTED-PRINTABLE:Easy Street Area=0D=0A2015 Winter=0D=0ADivision 4=0D=0APogue Mahone at Bar Out Cellie
DTEND:20160131T221500
DTSTAMP:20260421T094000
DTSTART:20160131T204500
END:VEVENT
END:VCALENDAR
