BEGIN:VCALENDAR
VERSION:2.0
BEGIN:VEVENT
CATEGORIES:HOCKEY GAME
SUMMARY:Pogue Mahone at Wolves
LOCATION:NHL
DESCRIPTION;ENCODING=QUOTED-PRINTABLE:Easy Street Area=0D=0A2013 Winter=0D=0ADivision 3=0D=0APogue Mahone at Wolves
DTEND:20130908T160000
DTSTAMP:20260421T120100
DTSTART:20130908T143000
END:VEVENT
BEGIN:VEVENT
CATEGORIES:HOCKEY GAME
SUMMARY:Pogue Mahone vs Kings
LOCATION:NHL
DESCRIPTION;ENCODING=QUOTED-PRINTABLE:Easy Street Area=0D=0A2013 Winter=0D=0ADivision 3=0D=0APogue Mahone vs Kings
DTEND:20130915T233000
DTSTAMP:20260421T120100
DTSTART:20130915T220000
END:VEVENT
BEGIN:VEVENT
CATEGORIES:HOCKEY GAME
SUMMARY:Pogue Mahone at Mohawks
LOCATION:OLY
DESCRIPTION;ENCODING=QUOTED-PRINTABLE:Easy Street Area=0D=0A2013 Winter=0D=0ADivision 3=0D=0APogue Mahone at Mohawks
DTEND:20130922T223000
DTSTAMP:20260421T120100
DTSTART:20130922T210000
END:VEVENT
BEGIN:VEVENT
CATEGORIES:HOCKEY GAME
SUMMARY:Pogue Mahone vs Rebels
LOCATION:NHL
DESCRIPTION;ENCODING=QUOTED-PRINTABLE:Easy Street Area=0D=0A2013 Winter=0D=0ADivision 3=0D=0APogue Mahone vs Rebels
DTEND:20130929T173000
DTSTAMP:20260421T120100
DTSTART:20130929T160000
END:VEVENT
BEGIN:VEVENT
CATEGORIES:HOCKEY GAME
SUMMARY:Pogue Mahone at Grizzlies
LOCATION:NHL
DESCRIPTION;ENCODING=QUOTED-PRINTABLE:Easy Street Area=0D=0A2013 Winter=0D=0ADivision 3=0D=0APogue Mahone at Grizzlies
DTEND:20131006T203000
DTSTAMP:20260421T120100
DTSTART:20131006T190000
END:VEVENT
BEGIN:VEVENT
CATEGORIES:HOCKEY GAME
SUMMARY:Pogue Mahone vs Wolves
LOCATION:NHL
DESCRIPTION;ENCODING=QUOTED-PRINTABLE:Easy Street Area=0D=0A2013 Winter=0D=0ADivision 3=0D=0APogue Mahone vs Wolves
DTEND:20131013T220000
DTSTAMP:20260421T120100
DTSTART:20131013T203000
END:VEVENT
BEGIN:VEVENT
CATEGORIES:HOCKEY GAME
SUMMARY:Pogue Mahone at Kings
LOCATION:NHL
DESCRIPTION;ENCODING=QUOTED-PRINTABLE:Easy Street Area=0D=0A2013 Winter=0D=0ADivision 3=0D=0APogue Mahone at Kings
DTEND:20131020T190000
DTSTAMP:20260421T120100
DTSTART:20131020T173000
END:VEVENT
BEGIN:VEVENT
CATEGORIES:HOCKEY GAME
SUMMARY:Pogue Mahone vs Mohawks
LOCATION:NHL
DESCRIPTION;ENCODING=QUOTED-PRINTABLE:Easy Street Area=0D=0A2013 Winter=0D=0ADivision 3=0D=0APogue Mahone vs Mohawks
DTEND:20131027T173000
DTSTAMP:20260421T120100
DTSTART:20131027T160000
END:VEVENT
BEGIN:VEVENT
CATEGORIES:HOCKEY GAME
SUMMARY:Pogue Mahone at Rebels
LOCATION:OLY
DESCRIPTION;ENCODING=QUOTED-PRINTABLE:Easy Street Area=0D=0A2013 Winter=0D=0ADivision 3=0D=0APogue Mahone at Rebels
DTEND:20131103T223000
DTSTAMP:20260421T120100
DTSTART:20131103T210000
END:VEVENT
BEGIN:VEVENT
CATEGORIES:HOCKEY GAME
SUMMARY:Pogue Mahone vs Grizzlies
LOCATION:NHL
DESCRIPTION;ENCODING=QUOTED-PRINTABLE:Easy Street Area=0D=0A2013 Winter=0D=0ADivision 3=0D=0APogue Mahone vs Grizzlies
DTEND:20131110T204500
DTSTAMP:20260421T120100
DTSTART:20131110T191500
END:VEVENT
BEGIN:VEVENT
CATEGORIES:HOCKEY GAME
SUMMARY:Pogue Mahone at Wolves
LOCATION:NHL
DESCRIPTION;ENCODING=QUOTED-PRINTABLE:Easy Street Area=0D=0A2013 Winter=0D=0ADivision 3=0D=0APogue Mahone at Wolves
DTEND:20131117T160000
DTSTAMP:20260421T120100
DTSTART:20131117T143000
END:VEVENT
BEGIN:VEVENT
CATEGORIES:HOCKEY GAME
SUMMARY:Pogue Mahone vs Kings
LOCATION:OLY
DESCRIPTION;ENCODING=QUOTED-PRINTABLE:Easy Street Area=0D=0A2013 Winter=0D=0ADivision 3=0D=0APogue Mahone vs Kings
DTEND:20131124T180000
DTSTAMP:20260421T120100
DTSTART:20131124T163000
END:VEVENT
BEGIN:VEVENT
CATEGORIES:HOCKEY GAME
SUMMARY:Pogue Mahone at Mohawks
LOCATION:NHL
DESCRIPTION;ENCODING=QUOTED-PRINTABLE:Easy Street Area=0D=0A2013 Winter=0D=0ADivision 3=0D=0APogue Mahone at Mohawks
DTEND:20131201T190000
DTSTAMP:20260421T120100
DTSTART:20131201T173000
END:VEVENT
BEGIN:VEVENT
CATEGORIES:HOCKEY GAME
SUMMARY:Pogue Mahone vs Rebels
LOCATION:NHL
DESCRIPTION;ENCODING=QUOTED-PRINTABLE:Easy Street Area=0D=0A2013 Winter=0D=0ADivision 3=0D=0APogue Mahone vs Rebels
DTEND:20131208T203000
DTSTAMP:20260421T120100
DTSTART:20131208T190000
END:VEVENT
BEGIN:VEVENT
CATEGORIES:HOCKEY GAME
SUMMARY:Pogue Mahone at Grizzlies
LOCATION:NHL
DESCRIPTION;ENCODING=QUOTED-PRINTABLE:Easy Street Area=0D=0A2013 Winter=0D=0ADivision 3=0D=0APogue Mahone at Grizzlies
DTEND:20131215T191500
DTSTAMP:20260421T120100
DTSTART:20131215T174500
END:VEVENT
BEGIN:VEVENT
CATEGORIES:HOCKEY GAME
SUMMARY:Pogue Mahone vs Wolves
LOCATION:NHL
DESCRIPTION;ENCODING=QUOTED-PRINTABLE:Easy Street Area=0D=0A2013 Winter=0D=0ADivision 3=0D=0APogue Mahone vs Wolves
DTEND:20131222T220000
DTSTAMP:20260421T120100
DTSTART:20131222T203000
END:VEVENT
BEGIN:VEVENT
CATEGORIES:HOCKEY GAME
SUMMARY:Pogue Mahone at Kings
LOCATION:OLY
DESCRIPTION;ENCODING=QUOTED-PRINTABLE:Easy Street Area=0D=0A2013 Winter=0D=0ADivision 3=0D=0APogue Mahone at Kings
DTEND:20140105T223000
DTSTAMP:20260421T120100
DTSTART:20140105T210000
END:VEVENT
BEGIN:VEVENT
CATEGORIES:HOCKEY GAME
SUMMARY:Pogue Mahone vs Mohawks
LOCATION:NHL
DESCRIPTION;ENCODING=QUOTED-PRINTABLE:Easy Street Area=0D=0A2013 Winter=0D=0ADivision 3=0D=0APogue Mahone vs Mohawks
DTEND:20140112T203000
DTSTAMP:20260421T120100
DTSTART:20140112T190000
END:VEVENT
BEGIN:VEVENT
CATEGORIES:HOCKEY GAME
SUMMARY:Pogue Mahone vs Rebels
LOCATION:NHL
DESCRIPTION;ENCODING=QUOTED-PRINTABLE:Easy Street Area=0D=0A2013 Winter=0D=0ADivision 3=0D=0APogue Mahone vs Rebels
DTEND:20140119T160000
DTSTAMP:20260421T120100
DTSTART:20140119T143000
END:VEVENT
BEGIN:VEVENT
CATEGORIES:HOCKEY GAME
SUMMARY:Pogue Mahone at Grizzlies
LOCATION:NHL
DESCRIPTION;ENCODING=QUOTED-PRINTABLE:Easy Street Area=0D=0A2013 Winter=0D=0ADivision 3=0D=0APogue Mahone at Grizzlies
DTEND:20140126T173000
DTSTAMP:20260421T120100
DTSTART:20140126T160000
END:VEVENT
END:VCALENDAR
