BEGIN:VCALENDAR
VERSION:2.0
BEGIN:VEVENT
CATEGORIES:HOCKEY GAME
SUMMARY:Ruination vs Buzzards
LOCATION:OLY
DESCRIPTION;ENCODING=QUOTED-PRINTABLE:Easy Street Area=0D=0A2015 Winter=0D=0ADivision 4=0D=0ARuination vs Buzzards
DTEND:20150913T174500
DTSTAMP:20260421T080800
DTSTART:20150913T161500
END:VEVENT
BEGIN:VEVENT
CATEGORIES:HOCKEY GAME
SUMMARY:Ruination at Rangers
LOCATION:NHL
DESCRIPTION;ENCODING=QUOTED-PRINTABLE:Easy Street Area=0D=0A2015 Winter=0D=0ADivision 4=0D=0ARuination at Rangers
DTEND:20150920T193000
DTSTAMP:20260421T080800
DTSTART:20150920T180000
END:VEVENT
BEGIN:VEVENT
CATEGORIES:HOCKEY GAME
SUMMARY:Ruination at Pogue Mahone
LOCATION:OLY
DESCRIPTION;ENCODING=QUOTED-PRINTABLE:Easy Street Area=0D=0A2015 Winter=0D=0ADivision 4=0D=0ARuination at Pogue Mahone
DTEND:20150927T234500
DTSTAMP:20260421T080800
DTSTART:20150927T221500
END:VEVENT
BEGIN:VEVENT
CATEGORIES:HOCKEY GAME
SUMMARY:Ruination at Bar Out Cellie
LOCATION:OLY
DESCRIPTION;ENCODING=QUOTED-PRINTABLE:Easy Street Area=0D=0A2015 Winter=0D=0ADivision 4=0D=0ARuination at Bar Out Cellie
DTEND:20151004T174500
DTSTAMP:20260421T080800
DTSTART:20151004T161500
END:VEVENT
BEGIN:VEVENT
CATEGORIES:HOCKEY GAME
SUMMARY:Ruination vs Wolfpack
LOCATION:OLY
DESCRIPTION;ENCODING=QUOTED-PRINTABLE:Easy Street Area=0D=0A2015 Winter=0D=0ADivision 4=0D=0ARuination vs Wolfpack
DTEND:20151011T204500
DTSTAMP:20260421T080800
DTSTART:20151011T191500
END:VEVENT
BEGIN:VEVENT
CATEGORIES:HOCKEY GAME
SUMMARY:Ruination vs Buzzards
LOCATION:NHL
DESCRIPTION;ENCODING=QUOTED-PRINTABLE:Easy Street Area=0D=0A2015 Winter=0D=0ADivision 4=0D=0ARuination vs Buzzards
DTEND:20151018T223000
DTSTAMP:20260421T080800
DTSTART:20151018T210000
END:VEVENT
BEGIN:VEVENT
CATEGORIES:HOCKEY GAME
SUMMARY:Ruination at Rangers
LOCATION:NHL
DESCRIPTION;ENCODING=QUOTED-PRINTABLE:Easy Street Area=0D=0A2015 Winter=0D=0ADivision 4=0D=0ARuination at Rangers
DTEND:20151025T133000
DTSTAMP:20260421T080800
DTSTART:20151025T120000
END:VEVENT
BEGIN:VEVENT
CATEGORIES:HOCKEY GAME
SUMMARY:Ruination at Pogue Mahone
LOCATION:OLY
DESCRIPTION;ENCODING=QUOTED-PRINTABLE:Easy Street Area=0D=0A2015 Winter=0D=0ADivision 4=0D=0ARuination at Pogue Mahone
DTEND:20151101T191500
DTSTAMP:20260421T080800
DTSTART:20151101T174500
END:VEVENT
BEGIN:VEVENT
CATEGORIES:HOCKEY GAME
SUMMARY:Ruination at Bar Out Cellie
LOCATION:NHL
DESCRIPTION;ENCODING=QUOTED-PRINTABLE:Easy Street Area=0D=0A2015 Winter=0D=0ADivision 4=0D=0ARuination at Bar Out Cellie
DTEND:20151108T223000
DTSTAMP:20260421T080800
DTSTART:20151108T210000
END:VEVENT
BEGIN:VEVENT
CATEGORIES:HOCKEY GAME
SUMMARY:Ruination vs Wolfpack
LOCATION:NHL
DESCRIPTION;ENCODING=QUOTED-PRINTABLE:Easy Street Area=0D=0A2015 Winter=0D=0ADivision 4=0D=0ARuination vs Wolfpack
DTEND:20151115T150000
DTSTAMP:20260421T080800
DTSTART:20151115T133000
END:VEVENT
BEGIN:VEVENT
CATEGORIES:HOCKEY GAME
SUMMARY:Ruination vs Buzzards
LOCATION:NHL
DESCRIPTION;ENCODING=QUOTED-PRINTABLE:Easy Street Area=0D=0A2015 Winter=0D=0ADivision 4=0D=0ARuination vs Buzzards
DTEND:20151122T180000
DTSTAMP:20260421T080800
DTSTART:20151122T163000
END:VEVENT
BEGIN:VEVENT
CATEGORIES:HOCKEY GAME
SUMMARY:Ruination at Rangers
LOCATION:OLY
DESCRIPTION;ENCODING=QUOTED-PRINTABLE:Easy Street Area=0D=0A2015 Winter=0D=0ADivision 4=0D=0ARuination at Rangers
DTEND:20151129T204500
DTSTAMP:20260421T080800
DTSTART:20151129T191500
END:VEVENT
BEGIN:VEVENT
CATEGORIES:HOCKEY GAME
SUMMARY:Ruination at Pogue Mahone
LOCATION:NHL
DESCRIPTION;ENCODING=QUOTED-PRINTABLE:Easy Street Area=0D=0A2015 Winter=0D=0ADivision 4=0D=0ARuination at Pogue Mahone
DTEND:20151206T133000
DTSTAMP:20260421T080800
DTSTART:20151206T120000
END:VEVENT
BEGIN:VEVENT
CATEGORIES:HOCKEY GAME
SUMMARY:Ruination at Bar Out Cellie
LOCATION:NHL
DESCRIPTION;ENCODING=QUOTED-PRINTABLE:Easy Street Area=0D=0A2015 Winter=0D=0ADivision 4=0D=0ARuination at Bar Out Cellie
DTEND:20151213T180000
DTSTAMP:20260421T080800
DTSTART:20151213T163000
END:VEVENT
BEGIN:VEVENT
CATEGORIES:HOCKEY GAME
SUMMARY:Ruination vs Wolfpack
LOCATION:NHL
DESCRIPTION;ENCODING=QUOTED-PRINTABLE:Easy Street Area=0D=0A2015 Winter=0D=0ADivision 4=0D=0ARuination vs Wolfpack
DTEND:20151220T210000
DTSTAMP:20260421T080800
DTSTART:20151220T193000
END:VEVENT
BEGIN:VEVENT
CATEGORIES:HOCKEY GAME
SUMMARY:Ruination vs Buzzards
LOCATION:NHL
DESCRIPTION;ENCODING=QUOTED-PRINTABLE:Easy Street Area=0D=0A2015 Winter=0D=0ADivision 4=0D=0ARuination vs Buzzards
DTEND:20160102T173000
DTSTAMP:20260421T080800
DTSTART:20160102T160000
END:VEVENT
BEGIN:VEVENT
CATEGORIES:HOCKEY GAME
SUMMARY:Ruination at Rangers
LOCATION:NHL
DESCRIPTION;ENCODING=QUOTED-PRINTABLE:Easy Street Area=0D=0A2015 Winter=0D=0ADivision 4=0D=0ARuination at Rangers
DTEND:20160110T210000
DTSTAMP:20260421T080800
DTSTART:20160110T193000
END:VEVENT
BEGIN:VEVENT
CATEGORIES:HOCKEY GAME
SUMMARY:Ruination at Pogue Mahone
LOCATION:NHL
DESCRIPTION;ENCODING=QUOTED-PRINTABLE:Easy Street Area=0D=0A2015 Winter=0D=0ADivision 4=0D=0ARuination at Pogue Mahone
DTEND:20160117T193000
DTSTAMP:20260421T080800
DTSTART:20160117T180000
END:VEVENT
BEGIN:VEVENT
CATEGORIES:HOCKEY GAME
SUMMARY:Ruination at Bar Out Cellie
LOCATION:OLY
DESCRIPTION;ENCODING=QUOTED-PRINTABLE:Easy Street Area=0D=0A2015 Winter=0D=0ADivision 4=0D=0ARuination at Bar Out Cellie
DTEND:20160124T234500
DTSTAMP:20260421T080800
DTSTART:20160124T221500
END:VEVENT
BEGIN:VEVENT
CATEGORIES:HOCKEY GAME
SUMMARY:Ruination vs Wolfpack
LOCATION:NHL
DESCRIPTION;ENCODING=QUOTED-PRINTABLE:Easy Street Area=0D=0A2015 Winter=0D=0ADivision 4=0D=0ARuination vs Wolfpack
DTEND:20160131T163000
DTSTAMP:20260421T080800
DTSTART:20160131T150000
END:VEVENT
END:VCALENDAR
