BEGIN:VCALENDAR
VERSION:2.0
BEGIN:VEVENT
CATEGORIES:HOCKEY GAME
SUMMARY:Buzzards at Ruination
LOCATION:OLY
DESCRIPTION;ENCODING=QUOTED-PRINTABLE:Easy Street Area=0D=0A2015 Winter=0D=0ADivision 4=0D=0ABuzzards at Ruination
DTEND:20150913T174500
DTSTAMP:20260421T094200
DTSTART:20150913T161500
END:VEVENT
BEGIN:VEVENT
CATEGORIES:HOCKEY GAME
SUMMARY:Buzzards at Pogue Mahone
LOCATION:NHL
DESCRIPTION;ENCODING=QUOTED-PRINTABLE:Easy Street Area=0D=0A2015 Winter=0D=0ADivision 4=0D=0ABuzzards at Pogue Mahone
DTEND:20150920T210000
DTSTAMP:20260421T094200
DTSTART:20150920T193000
END:VEVENT
BEGIN:VEVENT
CATEGORIES:HOCKEY GAME
SUMMARY:Buzzards vs Bar Out Cellie
LOCATION:NHL
DESCRIPTION;ENCODING=QUOTED-PRINTABLE:Easy Street Area=0D=0A2015 Winter=0D=0ADivision 4=0D=0ABuzzards vs Bar Out Cellie
DTEND:20150927T223000
DTSTAMP:20260421T094200
DTSTART:20150927T210000
END:VEVENT
BEGIN:VEVENT
CATEGORIES:HOCKEY GAME
SUMMARY:Buzzards vs Wolfpack
LOCATION:NHL
DESCRIPTION;ENCODING=QUOTED-PRINTABLE:Easy Street Area=0D=0A2015 Winter=0D=0ADivision 4=0D=0ABuzzards vs Wolfpack
DTEND:20151004T163000
DTSTAMP:20260421T094200
DTSTART:20151004T150000
END:VEVENT
BEGIN:VEVENT
CATEGORIES:HOCKEY GAME
SUMMARY:Buzzards at Rangers
LOCATION:NHL
DESCRIPTION;ENCODING=QUOTED-PRINTABLE:Easy Street Area=0D=0A2015 Winter=0D=0ADivision 4=0D=0ABuzzards at Rangers
DTEND:20151011T193000
DTSTAMP:20260421T094200
DTSTART:20151011T180000
END:VEVENT
BEGIN:VEVENT
CATEGORIES:HOCKEY GAME
SUMMARY:Buzzards at Ruination
LOCATION:NHL
DESCRIPTION;ENCODING=QUOTED-PRINTABLE:Easy Street Area=0D=0A2015 Winter=0D=0ADivision 4=0D=0ABuzzards at Ruination
DTEND:20151018T223000
DTSTAMP:20260421T094200
DTSTART:20151018T210000
END:VEVENT
BEGIN:VEVENT
CATEGORIES:HOCKEY GAME
SUMMARY:Buzzards at Pogue Mahone
LOCATION:NHL
DESCRIPTION;ENCODING=QUOTED-PRINTABLE:Easy Street Area=0D=0A2015 Winter=0D=0ADivision 4=0D=0ABuzzards at Pogue Mahone
DTEND:20151025T163000
DTSTAMP:20260421T094200
DTSTART:20151025T150000
END:VEVENT
BEGIN:VEVENT
CATEGORIES:HOCKEY GAME
SUMMARY:Buzzards vs Bar Out Cellie
LOCATION:NHL
DESCRIPTION;ENCODING=QUOTED-PRINTABLE:Easy Street Area=0D=0A2015 Winter=0D=0ADivision 4=0D=0ABuzzards vs Bar Out Cellie
DTEND:20151101T163000
DTSTAMP:20260421T094200
DTSTART:20151101T150000
END:VEVENT
BEGIN:VEVENT
CATEGORIES:HOCKEY GAME
SUMMARY:Buzzards vs Wolfpack
LOCATION:OLY
DESCRIPTION;ENCODING=QUOTED-PRINTABLE:Easy Street Area=0D=0A2015 Winter=0D=0ADivision 4=0D=0ABuzzards vs Wolfpack
DTEND:20151108T221500
DTSTAMP:20260421T094200
DTSTART:20151108T204500
END:VEVENT
BEGIN:VEVENT
CATEGORIES:HOCKEY GAME
SUMMARY:Buzzards at Rangers
LOCATION:NHL
DESCRIPTION;ENCODING=QUOTED-PRINTABLE:Easy Street Area=0D=0A2015 Winter=0D=0ADivision 4=0D=0ABuzzards at Rangers
DTEND:20151116T000000
DTSTAMP:20260421T094200
DTSTART:20151115T223000
END:VEVENT
BEGIN:VEVENT
CATEGORIES:HOCKEY GAME
SUMMARY:Buzzards at Ruination
LOCATION:NHL
DESCRIPTION;ENCODING=QUOTED-PRINTABLE:Easy Street Area=0D=0A2015 Winter=0D=0ADivision 4=0D=0ABuzzards at Ruination
DTEND:20151122T180000
DTSTAMP:20260421T094200
DTSTART:20151122T163000
END:VEVENT
BEGIN:VEVENT
CATEGORIES:HOCKEY GAME
SUMMARY:Buzzards at Pogue Mahone
LOCATION:OLY
DESCRIPTION;ENCODING=QUOTED-PRINTABLE:Easy Street Area=0D=0A2015 Winter=0D=0ADivision 4=0D=0ABuzzards at Pogue Mahone
DTEND:20151129T221500
DTSTAMP:20260421T094200
DTSTART:20151129T204500
END:VEVENT
BEGIN:VEVENT
CATEGORIES:HOCKEY GAME
SUMMARY:Buzzards vs Bar Out Cellie
LOCATION:NHL
DESCRIPTION;ENCODING=QUOTED-PRINTABLE:Easy Street Area=0D=0A2015 Winter=0D=0ADivision 4=0D=0ABuzzards vs Bar Out Cellie
DTEND:20151207T000000
DTSTAMP:20260421T094200
DTSTART:20151206T223000
END:VEVENT
BEGIN:VEVENT
CATEGORIES:HOCKEY GAME
SUMMARY:Buzzards vs Wolfpack
LOCATION:OLY
DESCRIPTION;ENCODING=QUOTED-PRINTABLE:Easy Street Area=0D=0A2015 Winter=0D=0ADivision 4=0D=0ABuzzards vs Wolfpack
DTEND:20151213T174500
DTSTAMP:20260421T094200
DTSTART:20151213T161500
END:VEVENT
BEGIN:VEVENT
CATEGORIES:HOCKEY GAME
SUMMARY:Buzzards at Rangers
LOCATION:OLY
DESCRIPTION;ENCODING=QUOTED-PRINTABLE:Easy Street Area=0D=0A2015 Winter=0D=0ADivision 4=0D=0ABuzzards at Rangers
DTEND:20151220T204500
DTSTAMP:20260421T094200
DTSTART:20151220T191500
END:VEVENT
BEGIN:VEVENT
CATEGORIES:HOCKEY GAME
SUMMARY:Buzzards at Ruination
LOCATION:NHL
DESCRIPTION;ENCODING=QUOTED-PRINTABLE:Easy Street Area=0D=0A2015 Winter=0D=0ADivision 4=0D=0ABuzzards at Ruination
DTEND:20160102T173000
DTSTAMP:20260421T094200
DTSTART:20160102T160000
END:VEVENT
BEGIN:VEVENT
CATEGORIES:HOCKEY GAME
SUMMARY:Buzzards at Pogue Mahone
LOCATION:OLY
DESCRIPTION;ENCODING=QUOTED-PRINTABLE:Easy Street Area=0D=0A2015 Winter=0D=0ADivision 4=0D=0ABuzzards at Pogue Mahone
DTEND:20160110T174500
DTSTAMP:20260421T094200
DTSTART:20160110T161500
END:VEVENT
BEGIN:VEVENT
CATEGORIES:HOCKEY GAME
SUMMARY:Buzzards vs Bar Out Cellie
LOCATION:NHL
DESCRIPTION;ENCODING=QUOTED-PRINTABLE:Easy Street Area=0D=0A2015 Winter=0D=0ADivision 4=0D=0ABuzzards vs Bar Out Cellie
DTEND:20160117T210000
DTSTAMP:20260421T094200
DTSTART:20160117T193000
END:VEVENT
BEGIN:VEVENT
CATEGORIES:HOCKEY GAME
SUMMARY:Buzzards vs Wolfpack
LOCATION:NHL
DESCRIPTION;ENCODING=QUOTED-PRINTABLE:Easy Street Area=0D=0A2015 Winter=0D=0ADivision 4=0D=0ABuzzards vs Wolfpack
DTEND:20160124T223000
DTSTAMP:20260421T094200
DTSTART:20160124T210000
END:VEVENT
BEGIN:VEVENT
CATEGORIES:HOCKEY GAME
SUMMARY:Buzzards at Rangers
LOCATION:NHL
DESCRIPTION;ENCODING=QUOTED-PRINTABLE:Easy Street Area=0D=0A2015 Winter=0D=0ADivision 4=0D=0ABuzzards at Rangers
DTEND:20160131T133000
DTSTAMP:20260421T094200
DTSTART:20160131T120000
END:VEVENT
END:VCALENDAR
