BEGIN:VCALENDAR
VERSION:2.0
BEGIN:VEVENT
CATEGORIES:HOCKEY GAME
SUMMARY:Bar Out Cellie at Rangers
LOCATION:NHL
DESCRIPTION;ENCODING=QUOTED-PRINTABLE:Easy Street Area=0D=0A2015 Winter=0D=0ADivision 4=0D=0ABar Out Cellie at Rangers
DTEND:20150913T163000
DTSTAMP:20260421T082400
DTSTART:20150913T150000
END:VEVENT
BEGIN:VEVENT
CATEGORIES:HOCKEY GAME
SUMMARY:Bar Out Cellie at Wolfpack
LOCATION:OLY
DESCRIPTION;ENCODING=QUOTED-PRINTABLE:Easy Street Area=0D=0A2015 Winter=0D=0ADivision 4=0D=0ABar Out Cellie at Wolfpack
DTEND:20150920T191500
DTSTAMP:20260421T082400
DTSTART:20150920T174500
END:VEVENT
BEGIN:VEVENT
CATEGORIES:HOCKEY GAME
SUMMARY:Bar Out Cellie at Buzzards
LOCATION:NHL
DESCRIPTION;ENCODING=QUOTED-PRINTABLE:Easy Street Area=0D=0A2015 Winter=0D=0ADivision 4=0D=0ABar Out Cellie at Buzzards
DTEND:20150927T223000
DTSTAMP:20260421T082400
DTSTART:20150927T210000
END:VEVENT
BEGIN:VEVENT
CATEGORIES:HOCKEY GAME
SUMMARY:Bar Out Cellie vs Ruination
LOCATION:OLY
DESCRIPTION;ENCODING=QUOTED-PRINTABLE:Easy Street Area=0D=0A2015 Winter=0D=0ADivision 4=0D=0ABar Out Cellie vs Ruination
DTEND:20151004T174500
DTSTAMP:20260421T082400
DTSTART:20151004T161500
END:VEVENT
BEGIN:VEVENT
CATEGORIES:HOCKEY GAME
SUMMARY:Bar Out Cellie vs Pogue Mahone
LOCATION:OLY
DESCRIPTION;ENCODING=QUOTED-PRINTABLE:Easy Street Area=0D=0A2015 Winter=0D=0ADivision 4=0D=0ABar Out Cellie vs Pogue Mahone
DTEND:20151011T191500
DTSTAMP:20260421T082400
DTSTART:20151011T174500
END:VEVENT
BEGIN:VEVENT
CATEGORIES:HOCKEY GAME
SUMMARY:Bar Out Cellie at Rangers
LOCATION:OLY
DESCRIPTION;ENCODING=QUOTED-PRINTABLE:Easy Street Area=0D=0A2015 Winter=0D=0ADivision 4=0D=0ABar Out Cellie at Rangers
DTEND:20151018T221500
DTSTAMP:20260421T082400
DTSTART:20151018T204500
END:VEVENT
BEGIN:VEVENT
CATEGORIES:HOCKEY GAME
SUMMARY:Bar Out Cellie at Wolfpack
LOCATION:NHL
DESCRIPTION;ENCODING=QUOTED-PRINTABLE:Easy Street Area=0D=0A2015 Winter=0D=0ADivision 4=0D=0ABar Out Cellie at Wolfpack
DTEND:20151025T223000
DTSTAMP:20260421T082400
DTSTART:20151025T210000
END:VEVENT
BEGIN:VEVENT
CATEGORIES:HOCKEY GAME
SUMMARY:Bar Out Cellie at Buzzards
LOCATION:NHL
DESCRIPTION;ENCODING=QUOTED-PRINTABLE:Easy Street Area=0D=0A2015 Winter=0D=0ADivision 4=0D=0ABar Out Cellie at Buzzards
DTEND:20151101T163000
DTSTAMP:20260421T082400
DTSTART:20151101T150000
END:VEVENT
BEGIN:VEVENT
CATEGORIES:HOCKEY GAME
SUMMARY:Bar Out Cellie vs Ruination
LOCATION:NHL
DESCRIPTION;ENCODING=QUOTED-PRINTABLE:Easy Street Area=0D=0A2015 Winter=0D=0ADivision 4=0D=0ABar Out Cellie vs Ruination
DTEND:20151108T223000
DTSTAMP:20260421T082400
DTSTART:20151108T210000
END:VEVENT
BEGIN:VEVENT
CATEGORIES:HOCKEY GAME
SUMMARY:Bar Out Cellie vs Pogue Mahone
LOCATION:NHL
DESCRIPTION;ENCODING=QUOTED-PRINTABLE:Easy Street Area=0D=0A2015 Winter=0D=0ADivision 4=0D=0ABar Out Cellie vs Pogue Mahone
DTEND:20151115T210000
DTSTAMP:20260421T082400
DTSTART:20151115T193000
END:VEVENT
BEGIN:VEVENT
CATEGORIES:HOCKEY GAME
SUMMARY:Bar Out Cellie at Rangers
LOCATION:NHL
DESCRIPTION;ENCODING=QUOTED-PRINTABLE:Easy Street Area=0D=0A2015 Winter=0D=0ADivision 4=0D=0ABar Out Cellie at Rangers
DTEND:20151122T163000
DTSTAMP:20260421T082400
DTSTART:20151122T150000
END:VEVENT
BEGIN:VEVENT
CATEGORIES:HOCKEY GAME
SUMMARY:Bar Out Cellie at Wolfpack
LOCATION:NHL
DESCRIPTION;ENCODING=QUOTED-PRINTABLE:Easy Street Area=0D=0A2015 Winter=0D=0ADivision 4=0D=0ABar Out Cellie at Wolfpack
DTEND:20151129T210000
DTSTAMP:20260421T082400
DTSTART:20151129T193000
END:VEVENT
BEGIN:VEVENT
CATEGORIES:HOCKEY GAME
SUMMARY:Bar Out Cellie at Buzzards
LOCATION:NHL
DESCRIPTION;ENCODING=QUOTED-PRINTABLE:Easy Street Area=0D=0A2015 Winter=0D=0ADivision 4=0D=0ABar Out Cellie at Buzzards
DTEND:20151207T000000
DTSTAMP:20260421T082400
DTSTART:20151206T223000
END:VEVENT
BEGIN:VEVENT
CATEGORIES:HOCKEY GAME
SUMMARY:Bar Out Cellie vs Ruination
LOCATION:NHL
DESCRIPTION;ENCODING=QUOTED-PRINTABLE:Easy Street Area=0D=0A2015 Winter=0D=0ADivision 4=0D=0ABar Out Cellie vs Ruination
DTEND:20151213T180000
DTSTAMP:20260421T082400
DTSTART:20151213T163000
END:VEVENT
BEGIN:VEVENT
CATEGORIES:HOCKEY GAME
SUMMARY:Bar Out Cellie vs Pogue Mahone
LOCATION:NHL
DESCRIPTION;ENCODING=QUOTED-PRINTABLE:Easy Street Area=0D=0A2015 Winter=0D=0ADivision 4=0D=0ABar Out Cellie vs Pogue Mahone
DTEND:20151220T193000
DTSTAMP:20260421T082400
DTSTART:20151220T180000
END:VEVENT
BEGIN:VEVENT
CATEGORIES:HOCKEY GAME
SUMMARY:Bar Out Cellie at Rangers
LOCATION:NHL
DESCRIPTION;ENCODING=QUOTED-PRINTABLE:Easy Street Area=0D=0A2015 Winter=0D=0ADivision 4=0D=0ABar Out Cellie at Rangers
DTEND:20160103T223000
DTSTAMP:20260421T082400
DTSTART:20160103T210000
END:VEVENT
BEGIN:VEVENT
CATEGORIES:HOCKEY GAME
SUMMARY:Bar Out Cellie at Wolfpack
LOCATION:NHL
DESCRIPTION;ENCODING=QUOTED-PRINTABLE:Easy Street Area=0D=0A2015 Winter=0D=0ADivision 4=0D=0ABar Out Cellie at Wolfpack
DTEND:20160110T163000
DTSTAMP:20260421T082400
DTSTART:20160110T150000
END:VEVENT
BEGIN:VEVENT
CATEGORIES:HOCKEY GAME
SUMMARY:Bar Out Cellie at Buzzards
LOCATION:NHL
DESCRIPTION;ENCODING=QUOTED-PRINTABLE:Easy Street Area=0D=0A2015 Winter=0D=0ADivision 4=0D=0ABar Out Cellie at Buzzards
DTEND:20160117T210000
DTSTAMP:20260421T082400
DTSTART:20160117T193000
END:VEVENT
BEGIN:VEVENT
CATEGORIES:HOCKEY GAME
SUMMARY:Bar Out Cellie vs Ruination
LOCATION:OLY
DESCRIPTION;ENCODING=QUOTED-PRINTABLE:Easy Street Area=0D=0A2015 Winter=0D=0ADivision 4=0D=0ABar Out Cellie vs Ruination
DTEND:20160124T234500
DTSTAMP:20260421T082400
DTSTART:20160124T221500
END:VEVENT
BEGIN:VEVENT
CATEGORIES:HOCKEY GAME
SUMMARY:Bar Out Cellie vs Pogue Mahone
LOCATION:OLY
DESCRIPTION;ENCODING=QUOTED-PRINTABLE:Easy Street Area=0D=0A2015 Winter=0D=0ADivision 4=0D=0ABar Out Cellie vs Pogue Mahone
DTEND:20160131T221500
DTSTAMP:20260421T082400
DTSTART:20160131T204500
END:VEVENT
END:VCALENDAR
