BEGIN:VCALENDAR
VERSION:2.0
BEGIN:VEVENT
CATEGORIES:HOCKEY GAME
SUMMARY:Meat Curtains vs Renegades
LOCATION:OLY
DESCRIPTION;ENCODING=QUOTED-PRINTABLE:Easy Street Area=0D=0A2013 Winter=0D=0ADivision 2=0D=0AMeat Curtains vs Renegades
DTEND:20130916T000000
DTSTAMP:20260421T075100
DTSTART:20130915T223000
END:VEVENT
BEGIN:VEVENT
CATEGORIES:HOCKEY GAME
SUMMARY:Meat Curtains at Seals
LOCATION:NHL
DESCRIPTION;ENCODING=QUOTED-PRINTABLE:Easy Street Area=0D=0A2013 Winter=0D=0ADivision 2=0D=0AMeat Curtains at Seals
DTEND:20130922T143000
DTSTAMP:20260421T075100
DTSTART:20130922T130000
END:VEVENT
BEGIN:VEVENT
CATEGORIES:HOCKEY GAME
SUMMARY:Meat Curtains vs Renegades
LOCATION:OLY
DESCRIPTION;ENCODING=QUOTED-PRINTABLE:Easy Street Area=0D=0A2013 Winter=0D=0ADivision 2=0D=0AMeat Curtains vs Renegades
DTEND:20130929T223000
DTSTAMP:20260421T075100
DTSTART:20130929T210000
END:VEVENT
BEGIN:VEVENT
CATEGORIES:HOCKEY GAME
SUMMARY:Meat Curtains vs Seals
LOCATION:NHL
DESCRIPTION;ENCODING=QUOTED-PRINTABLE:Easy Street Area=0D=0A2013 Winter=0D=0ADivision 2=0D=0AMeat Curtains vs Seals
DTEND:20131006T130000
DTSTAMP:20260421T075100
DTSTART:20131006T113000
END:VEVENT
BEGIN:VEVENT
CATEGORIES:HOCKEY GAME
SUMMARY:Meat Curtains at Sharks
LOCATION:NHL
DESCRIPTION;ENCODING=QUOTED-PRINTABLE:Easy Street Area=0D=0A2013 Winter=0D=0ADivision 2=0D=0AMeat Curtains at Sharks
DTEND:20131013T190000
DTSTAMP:20260421T075100
DTSTART:20131013T173000
END:VEVENT
BEGIN:VEVENT
CATEGORIES:HOCKEY GAME
SUMMARY:Meat Curtains at Renegades
LOCATION:NHL
DESCRIPTION;ENCODING=QUOTED-PRINTABLE:Easy Street Area=0D=0A2013 Winter=0D=0ADivision 2=0D=0AMeat Curtains at Renegades
DTEND:20131020T143000
DTSTAMP:20260421T075100
DTSTART:20131020T130000
END:VEVENT
BEGIN:VEVENT
CATEGORIES:HOCKEY GAME
SUMMARY:Meat Curtains at Down 2 Puck
LOCATION:NHL
DESCRIPTION;ENCODING=QUOTED-PRINTABLE:Easy Street Area=0D=0A2013 Winter=0D=0ADivision 2=0D=0AMeat Curtains at Down 2 Puck
DTEND:20131020T160000
DTSTAMP:20260421T075100
DTSTART:20131020T143000
END:VEVENT
BEGIN:VEVENT
CATEGORIES:HOCKEY GAME
SUMMARY:Meat Curtains vs Down 2 Puck
LOCATION:NHL
DESCRIPTION;ENCODING=QUOTED-PRINTABLE:Easy Street Area=0D=0A2013 Winter=0D=0ADivision 2=0D=0AMeat Curtains vs Down 2 Puck
DTEND:20131103T233000
DTSTAMP:20260421T075100
DTSTART:20131103T220000
END:VEVENT
BEGIN:VEVENT
CATEGORIES:HOCKEY GAME
SUMMARY:Meat Curtains vs Sharks
LOCATION:NHL
DESCRIPTION;ENCODING=QUOTED-PRINTABLE:Easy Street Area=0D=0A2013 Winter=0D=0ADivision 2=0D=0AMeat Curtains vs Sharks
DTEND:20131110T174500
DTSTAMP:20260421T075100
DTSTART:20131110T161500
END:VEVENT
BEGIN:VEVENT
CATEGORIES:HOCKEY GAME
SUMMARY:Meat Curtains at Down 2 Puck
LOCATION:OLY
DESCRIPTION;ENCODING=QUOTED-PRINTABLE:Easy Street Area=0D=0A2013 Winter=0D=0ADivision 2=0D=0AMeat Curtains at Down 2 Puck
DTEND:20131124T210000
DTSTAMP:20260421T075100
DTSTART:20131124T193000
END:VEVENT
BEGIN:VEVENT
CATEGORIES:HOCKEY GAME
SUMMARY:Meat Curtains at Sharks
LOCATION:OLY
DESCRIPTION;ENCODING=QUOTED-PRINTABLE:Easy Street Area=0D=0A2013 Winter=0D=0ADivision 2=0D=0AMeat Curtains at Sharks
DTEND:20131201T180000
DTSTAMP:20260421T075100
DTSTART:20131201T163000
END:VEVENT
BEGIN:VEVENT
CATEGORIES:HOCKEY GAME
SUMMARY:Meat Curtains at Sharks
LOCATION:NHL
DESCRIPTION;ENCODING=QUOTED-PRINTABLE:Easy Street Area=0D=0A2013 Winter=0D=0ADivision 2=0D=0AMeat Curtains at Sharks
DTEND:20131208T160000
DTSTAMP:20260421T075100
DTSTART:20131208T143000
END:VEVENT
BEGIN:VEVENT
CATEGORIES:HOCKEY GAME
SUMMARY:Meat Curtains at Down 2 Puck
LOCATION:NHL
DESCRIPTION;ENCODING=QUOTED-PRINTABLE:Easy Street Area=0D=0A2013 Winter=0D=0ADivision 2=0D=0AMeat Curtains at Down 2 Puck
DTEND:20131215T123000
DTSTAMP:20260421T075100
DTSTART:20131215T110000
END:VEVENT
BEGIN:VEVENT
CATEGORIES:HOCKEY GAME
SUMMARY:Meat Curtains vs Seals
LOCATION:NHL
DESCRIPTION;ENCODING=QUOTED-PRINTABLE:Easy Street Area=0D=0A2013 Winter=0D=0ADivision 2=0D=0AMeat Curtains vs Seals
DTEND:20131222T190000
DTSTAMP:20260421T075100
DTSTART:20131222T173000
END:VEVENT
BEGIN:VEVENT
CATEGORIES:HOCKEY GAME
SUMMARY:Meat Curtains at Sharks
LOCATION:NHL
DESCRIPTION;ENCODING=QUOTED-PRINTABLE:Easy Street Area=0D=0A2013 Winter=0D=0ADivision 2=0D=0AMeat Curtains at Sharks
DTEND:20131222T203000
DTSTAMP:20260421T075100
DTSTART:20131222T190000
END:VEVENT
BEGIN:VEVENT
CATEGORIES:HOCKEY GAME
SUMMARY:Meat Curtains vs Sharks
LOCATION:OLY
DESCRIPTION;ENCODING=QUOTED-PRINTABLE:Easy Street Area=0D=0A2013 Winter=0D=0ADivision 2=0D=0AMeat Curtains vs Sharks
DTEND:20140105T180000
DTSTAMP:20260421T075100
DTSTART:20140105T163000
END:VEVENT
BEGIN:VEVENT
CATEGORIES:HOCKEY GAME
SUMMARY:Meat Curtains vs Seals
LOCATION:NHL
DESCRIPTION;ENCODING=QUOTED-PRINTABLE:Easy Street Area=0D=0A2013 Winter=0D=0ADivision 2=0D=0AMeat Curtains vs Seals
DTEND:20140112T190000
DTSTAMP:20260421T075100
DTSTART:20140112T173000
END:VEVENT
BEGIN:VEVENT
CATEGORIES:HOCKEY GAME
SUMMARY:Meat Curtains vs Renegades
LOCATION:OLY
DESCRIPTION;ENCODING=QUOTED-PRINTABLE:Easy Street Area=0D=0A2013 Winter=0D=0ADivision 2=0D=0AMeat Curtains vs Renegades
DTEND:20140126T210000
DTSTAMP:20260421T075100
DTSTART:20140126T193000
END:VEVENT
BEGIN:VEVENT
CATEGORIES:HOCKEY GAME
SUMMARY:Meat Curtains vs Down 2 Puck
LOCATION:NHL
DESCRIPTION;ENCODING=QUOTED-PRINTABLE:Easy Street Area=0D=0A2013 Winter=0D=0ADivision 2=0D=0AMeat Curtains vs Down 2 Puck
DTEND:20140201T200000
DTSTAMP:20260421T075100
DTSTART:20140201T183000
END:VEVENT
BEGIN:VEVENT
CATEGORIES:HOCKEY GAME
SUMMARY:Meat Curtains vs Renegades
LOCATION:OLY
DESCRIPTION;ENCODING=QUOTED-PRINTABLE:Easy Street Area=0D=0A2013 Winter=0D=0ADivision 2=0D=0AMeat Curtains vs Renegades
DTEND:20140210T000000
DTSTAMP:20260421T075100
DTSTART:20140209T223000
END:VEVENT
END:VCALENDAR
