BEGIN:VCALENDAR
VERSION:2.0
BEGIN:VEVENT
CATEGORIES:HOCKEY GAME
SUMMARY:Grizzlies at Mohawks
LOCATION:NHL
DESCRIPTION;ENCODING=QUOTED-PRINTABLE:Easy Street Area=0D=0A2013 Winter=0D=0ADivision 3=0D=0AGrizzlies at Mohawks
DTEND:20130908T220000
DTSTAMP:20260421T110700
DTSTART:20130908T203000
END:VEVENT
BEGIN:VEVENT
CATEGORIES:HOCKEY GAME
SUMMARY:Grizzlies vs Rebels
LOCATION:NHL
DESCRIPTION;ENCODING=QUOTED-PRINTABLE:Easy Street Area=0D=0A2013 Winter=0D=0ADivision 3=0D=0AGrizzlies vs Rebels
DTEND:20130915T220000
DTSTAMP:20260421T110700
DTSTART:20130915T203000
END:VEVENT
BEGIN:VEVENT
CATEGORIES:HOCKEY GAME
SUMMARY:Grizzlies at Kings
LOCATION:NHL
DESCRIPTION;ENCODING=QUOTED-PRINTABLE:Easy Street Area=0D=0A2013 Winter=0D=0ADivision 3=0D=0AGrizzlies at Kings
DTEND:20130922T220000
DTSTAMP:20260421T110700
DTSTART:20130922T203000
END:VEVENT
BEGIN:VEVENT
CATEGORIES:HOCKEY GAME
SUMMARY:Grizzlies vs Wolves
LOCATION:NHL
DESCRIPTION;ENCODING=QUOTED-PRINTABLE:Easy Street Area=0D=0A2013 Winter=0D=0ADivision 3=0D=0AGrizzlies vs Wolves
DTEND:20130929T143000
DTSTAMP:20260421T110700
DTSTART:20130929T130000
END:VEVENT
BEGIN:VEVENT
CATEGORIES:HOCKEY GAME
SUMMARY:Grizzlies vs Pogue Mahone
LOCATION:NHL
DESCRIPTION;ENCODING=QUOTED-PRINTABLE:Easy Street Area=0D=0A2013 Winter=0D=0ADivision 3=0D=0AGrizzlies vs Pogue Mahone
DTEND:20131006T203000
DTSTAMP:20260421T110700
DTSTART:20131006T190000
END:VEVENT
BEGIN:VEVENT
CATEGORIES:HOCKEY GAME
SUMMARY:Grizzlies vs Mohawks
LOCATION:NHL
DESCRIPTION;ENCODING=QUOTED-PRINTABLE:Easy Street Area=0D=0A2013 Winter=0D=0ADivision 3=0D=0AGrizzlies vs Mohawks
DTEND:20131013T233000
DTSTAMP:20260421T110700
DTSTART:20131013T220000
END:VEVENT
BEGIN:VEVENT
CATEGORIES:HOCKEY GAME
SUMMARY:Grizzlies at Rebels
LOCATION:OLY
DESCRIPTION;ENCODING=QUOTED-PRINTABLE:Easy Street Area=0D=0A2013 Winter=0D=0ADivision 3=0D=0AGrizzlies at Rebels
DTEND:20131021T000000
DTSTAMP:20260421T110700
DTSTART:20131020T223000
END:VEVENT
BEGIN:VEVENT
CATEGORIES:HOCKEY GAME
SUMMARY:Grizzlies at Kings
LOCATION:NHL
DESCRIPTION;ENCODING=QUOTED-PRINTABLE:Easy Street Area=0D=0A2013 Winter=0D=0ADivision 3=0D=0AGrizzlies at Kings
DTEND:20131027T160000
DTSTAMP:20260421T110700
DTSTART:20131027T143000
END:VEVENT
BEGIN:VEVENT
CATEGORIES:HOCKEY GAME
SUMMARY:Grizzlies at Wolves
LOCATION:OLY
DESCRIPTION;ENCODING=QUOTED-PRINTABLE:Easy Street Area=0D=0A2013 Winter=0D=0ADivision 3=0D=0AGrizzlies at Wolves
DTEND:20131103T193000
DTSTAMP:20260421T110700
DTSTART:20131103T180000
END:VEVENT
BEGIN:VEVENT
CATEGORIES:HOCKEY GAME
SUMMARY:Grizzlies at Pogue Mahone
LOCATION:NHL
DESCRIPTION;ENCODING=QUOTED-PRINTABLE:Easy Street Area=0D=0A2013 Winter=0D=0ADivision 3=0D=0AGrizzlies at Pogue Mahone
DTEND:20131110T204500
DTSTAMP:20260421T110700
DTSTART:20131110T191500
END:VEVENT
BEGIN:VEVENT
CATEGORIES:HOCKEY GAME
SUMMARY:Grizzlies at Mohawks
LOCATION:NHL
DESCRIPTION;ENCODING=QUOTED-PRINTABLE:Easy Street Area=0D=0A2013 Winter=0D=0ADivision 3=0D=0AGrizzlies at Mohawks
DTEND:20131117T143000
DTSTAMP:20260421T110700
DTSTART:20131117T130000
END:VEVENT
BEGIN:VEVENT
CATEGORIES:HOCKEY GAME
SUMMARY:Grizzlies vs Rebels
LOCATION:NHL
DESCRIPTION;ENCODING=QUOTED-PRINTABLE:Easy Street Area=0D=0A2013 Winter=0D=0ADivision 3=0D=0AGrizzlies vs Rebels
DTEND:20131124T143000
DTSTAMP:20260421T110700
DTSTART:20131124T130000
END:VEVENT
BEGIN:VEVENT
CATEGORIES:HOCKEY GAME
SUMMARY:Grizzlies at Kings
LOCATION:OLY
DESCRIPTION;ENCODING=QUOTED-PRINTABLE:Easy Street Area=0D=0A2013 Winter=0D=0ADivision 3=0D=0AGrizzlies at Kings
DTEND:20131201T210000
DTSTAMP:20260421T110700
DTSTART:20131201T193000
END:VEVENT
BEGIN:VEVENT
CATEGORIES:HOCKEY GAME
SUMMARY:Grizzlies vs Wolves
LOCATION:NHL
DESCRIPTION;ENCODING=QUOTED-PRINTABLE:Easy Street Area=0D=0A2013 Winter=0D=0ADivision 3=0D=0AGrizzlies vs Wolves
DTEND:20131208T233000
DTSTAMP:20260421T110700
DTSTART:20131208T220000
END:VEVENT
BEGIN:VEVENT
CATEGORIES:HOCKEY GAME
SUMMARY:Grizzlies vs Pogue Mahone
LOCATION:NHL
DESCRIPTION;ENCODING=QUOTED-PRINTABLE:Easy Street Area=0D=0A2013 Winter=0D=0ADivision 3=0D=0AGrizzlies vs Pogue Mahone
DTEND:20131215T191500
DTSTAMP:20260421T110700
DTSTART:20131215T174500
END:VEVENT
BEGIN:VEVENT
CATEGORIES:HOCKEY GAME
SUMMARY:Grizzlies vs Mohawks
LOCATION:NHL
DESCRIPTION;ENCODING=QUOTED-PRINTABLE:Easy Street Area=0D=0A2013 Winter=0D=0ADivision 3=0D=0AGrizzlies vs Mohawks
DTEND:20131222T160000
DTSTAMP:20260421T110700
DTSTART:20131222T143000
END:VEVENT
BEGIN:VEVENT
CATEGORIES:HOCKEY GAME
SUMMARY:Grizzlies at Rebels
LOCATION:OLY
DESCRIPTION;ENCODING=QUOTED-PRINTABLE:Easy Street Area=0D=0A2013 Winter=0D=0ADivision 3=0D=0AGrizzlies at Rebels
DTEND:20140105T210000
DTSTAMP:20260421T110700
DTSTART:20140105T193000
END:VEVENT
BEGIN:VEVENT
CATEGORIES:HOCKEY GAME
SUMMARY:Grizzlies vs Kings
LOCATION:NHL
DESCRIPTION;ENCODING=QUOTED-PRINTABLE:Easy Street Area=0D=0A2013 Winter=0D=0ADivision 3=0D=0AGrizzlies vs Kings
DTEND:20140112T220000
DTSTAMP:20260421T110700
DTSTART:20140112T203000
END:VEVENT
BEGIN:VEVENT
CATEGORIES:HOCKEY GAME
SUMMARY:Grizzlies vs Wolves
LOCATION:NHL
DESCRIPTION;ENCODING=QUOTED-PRINTABLE:Easy Street Area=0D=0A2013 Winter=0D=0ADivision 3=0D=0AGrizzlies vs Wolves
DTEND:20140119T173000
DTSTAMP:20260421T110700
DTSTART:20140119T160000
END:VEVENT
BEGIN:VEVENT
CATEGORIES:HOCKEY GAME
SUMMARY:Grizzlies vs Pogue Mahone
LOCATION:NHL
DESCRIPTION;ENCODING=QUOTED-PRINTABLE:Easy Street Area=0D=0A2013 Winter=0D=0ADivision 3=0D=0AGrizzlies vs Pogue Mahone
DTEND:20140126T173000
DTSTAMP:20260421T110700
DTSTART:20140126T160000
END:VEVENT
END:VCALENDAR
