BEGIN:VCALENDAR
VERSION:2.0
BEGIN:VEVENT
CATEGORIES:HOCKEY GAME
SUMMARY:Mohawks vs Grizzlies
LOCATION:NHL
DESCRIPTION;ENCODING=QUOTED-PRINTABLE:Easy Street Area=0D=0A2013 Winter=0D=0ADivision 3=0D=0AMohawks vs Grizzlies
DTEND:20130908T220000
DTSTAMP:20260421T121300
DTSTART:20130908T203000
END:VEVENT
BEGIN:VEVENT
CATEGORIES:HOCKEY GAME
SUMMARY:Mohawks at Wolves
LOCATION:OLY
DESCRIPTION;ENCODING=QUOTED-PRINTABLE:Easy Street Area=0D=0A2013 Winter=0D=0ADivision 3=0D=0AMohawks at Wolves
DTEND:20130915T180000
DTSTAMP:20260421T121300
DTSTART:20130915T163000
END:VEVENT
BEGIN:VEVENT
CATEGORIES:HOCKEY GAME
SUMMARY:Mohawks vs Pogue Mahone
LOCATION:OLY
DESCRIPTION;ENCODING=QUOTED-PRINTABLE:Easy Street Area=0D=0A2013 Winter=0D=0ADivision 3=0D=0AMohawks vs Pogue Mahone
DTEND:20130922T223000
DTSTAMP:20260421T121300
DTSTART:20130922T210000
END:VEVENT
BEGIN:VEVENT
CATEGORIES:HOCKEY GAME
SUMMARY:Mohawks at Rebels
LOCATION:OLY
DESCRIPTION;ENCODING=QUOTED-PRINTABLE:Easy Street Area=0D=0A2013 Winter=0D=0ADivision 3=0D=0AMohawks at Rebels
DTEND:20131006T180000
DTSTAMP:20260421T121300
DTSTART:20131006T163000
END:VEVENT
BEGIN:VEVENT
CATEGORIES:HOCKEY GAME
SUMMARY:Mohawks at Grizzlies
LOCATION:NHL
DESCRIPTION;ENCODING=QUOTED-PRINTABLE:Easy Street Area=0D=0A2013 Winter=0D=0ADivision 3=0D=0AMohawks at Grizzlies
DTEND:20131013T233000
DTSTAMP:20260421T121300
DTSTART:20131013T220000
END:VEVENT
BEGIN:VEVENT
CATEGORIES:HOCKEY GAME
SUMMARY:Mohawks vs Wolves
LOCATION:NHL
DESCRIPTION;ENCODING=QUOTED-PRINTABLE:Easy Street Area=0D=0A2013 Winter=0D=0ADivision 3=0D=0AMohawks vs Wolves
DTEND:20131020T173000
DTSTAMP:20260421T121300
DTSTART:20131020T160000
END:VEVENT
BEGIN:VEVENT
CATEGORIES:HOCKEY GAME
SUMMARY:Mohawks at Pogue Mahone
LOCATION:NHL
DESCRIPTION;ENCODING=QUOTED-PRINTABLE:Easy Street Area=0D=0A2013 Winter=0D=0ADivision 3=0D=0AMohawks at Pogue Mahone
DTEND:20131027T173000
DTSTAMP:20260421T121300
DTSTART:20131027T160000
END:VEVENT
BEGIN:VEVENT
CATEGORIES:HOCKEY GAME
SUMMARY:Mohawks at Kings
LOCATION:OLY
DESCRIPTION;ENCODING=QUOTED-PRINTABLE:Easy Street Area=0D=0A2013 Winter=0D=0ADivision 3=0D=0AMohawks at Kings
DTEND:20131103T210000
DTSTAMP:20260421T121300
DTSTART:20131103T193000
END:VEVENT
BEGIN:VEVENT
CATEGORIES:HOCKEY GAME
SUMMARY:Mohawks vs Rebels
LOCATION:NHL
DESCRIPTION;ENCODING=QUOTED-PRINTABLE:Easy Street Area=0D=0A2013 Winter=0D=0ADivision 3=0D=0AMohawks vs Rebels
DTEND:20131110T221500
DTSTAMP:20260421T121300
DTSTART:20131110T204500
END:VEVENT
BEGIN:VEVENT
CATEGORIES:HOCKEY GAME
SUMMARY:Mohawks vs Grizzlies
LOCATION:NHL
DESCRIPTION;ENCODING=QUOTED-PRINTABLE:Easy Street Area=0D=0A2013 Winter=0D=0ADivision 3=0D=0AMohawks vs Grizzlies
DTEND:20131117T143000
DTSTAMP:20260421T121300
DTSTART:20131117T130000
END:VEVENT
BEGIN:VEVENT
CATEGORIES:HOCKEY GAME
SUMMARY:Mohawks at Wolves
LOCATION:NHL
DESCRIPTION;ENCODING=QUOTED-PRINTABLE:Easy Street Area=0D=0A2013 Winter=0D=0ADivision 3=0D=0AMohawks at Wolves
DTEND:20131124T160000
DTSTAMP:20260421T121300
DTSTART:20131124T143000
END:VEVENT
BEGIN:VEVENT
CATEGORIES:HOCKEY GAME
SUMMARY:Mohawks vs Pogue Mahone
LOCATION:NHL
DESCRIPTION;ENCODING=QUOTED-PRINTABLE:Easy Street Area=0D=0A2013 Winter=0D=0ADivision 3=0D=0AMohawks vs Pogue Mahone
DTEND:20131201T190000
DTSTAMP:20260421T121300
DTSTART:20131201T173000
END:VEVENT
BEGIN:VEVENT
CATEGORIES:HOCKEY GAME
SUMMARY:Mohawks vs Kings
LOCATION:NHL
DESCRIPTION;ENCODING=QUOTED-PRINTABLE:Easy Street Area=0D=0A2013 Winter=0D=0ADivision 3=0D=0AMohawks vs Kings
DTEND:20131208T220000
DTSTAMP:20260421T121300
DTSTART:20131208T203000
END:VEVENT
BEGIN:VEVENT
CATEGORIES:HOCKEY GAME
SUMMARY:Mohawks at Rebels
LOCATION:NHL
DESCRIPTION;ENCODING=QUOTED-PRINTABLE:Easy Street Area=0D=0A2013 Winter=0D=0ADivision 3=0D=0AMohawks at Rebels
DTEND:20131215T140000
DTSTAMP:20260421T121300
DTSTART:20131215T123000
END:VEVENT
BEGIN:VEVENT
CATEGORIES:HOCKEY GAME
SUMMARY:Mohawks at Grizzlies
LOCATION:NHL
DESCRIPTION;ENCODING=QUOTED-PRINTABLE:Easy Street Area=0D=0A2013 Winter=0D=0ADivision 3=0D=0AMohawks at Grizzlies
DTEND:20131222T160000
DTSTAMP:20260421T121300
DTSTART:20131222T143000
END:VEVENT
BEGIN:VEVENT
CATEGORIES:HOCKEY GAME
SUMMARY:Mohawks vs Wolves
LOCATION:OLY
DESCRIPTION;ENCODING=QUOTED-PRINTABLE:Easy Street Area=0D=0A2013 Winter=0D=0ADivision 3=0D=0AMohawks vs Wolves
DTEND:20140105T193000
DTSTAMP:20260421T121300
DTSTART:20140105T180000
END:VEVENT
BEGIN:VEVENT
CATEGORIES:HOCKEY GAME
SUMMARY:Mohawks at Pogue Mahone
LOCATION:NHL
DESCRIPTION;ENCODING=QUOTED-PRINTABLE:Easy Street Area=0D=0A2013 Winter=0D=0ADivision 3=0D=0AMohawks at Pogue Mahone
DTEND:20140112T203000
DTSTAMP:20260421T121300
DTSTART:20140112T190000
END:VEVENT
BEGIN:VEVENT
CATEGORIES:HOCKEY GAME
SUMMARY:Mohawks vs Kings
LOCATION:NHL
DESCRIPTION;ENCODING=QUOTED-PRINTABLE:Easy Street Area=0D=0A2013 Winter=0D=0ADivision 3=0D=0AMohawks vs Kings
DTEND:20140119T190000
DTSTAMP:20260421T121300
DTSTART:20140119T173000
END:VEVENT
BEGIN:VEVENT
CATEGORIES:HOCKEY GAME
SUMMARY:Mohawks at Rebels
LOCATION:NHL
DESCRIPTION;ENCODING=QUOTED-PRINTABLE:Easy Street Area=0D=0A2013 Winter=0D=0ADivision 3=0D=0AMohawks at Rebels
DTEND:20140126T143000
DTSTAMP:20260421T121300
DTSTART:20140126T130000
END:VEVENT
BEGIN:VEVENT
CATEGORIES:HOCKEY GAME
SUMMARY:Mohawks vs Kings
LOCATION:NHL
DESCRIPTION;ENCODING=QUOTED-PRINTABLE:Easy Street Area=0D=0A2013 Winter=0D=0ADivision 3=0D=0AMohawks vs Kings
DTEND:20140201T170000
DTSTAMP:20260421T121300
DTSTART:20140201T153000
END:VEVENT
END:VCALENDAR
