BEGIN:VCALENDAR
VERSION:2.0
BEGIN:VEVENT
CATEGORIES:HOCKEY GAME
SUMMARY:Kings at Pogue Mahone
LOCATION:NHL
DESCRIPTION;ENCODING=QUOTED-PRINTABLE:Easy Street Area=0D=0A2013 Winter=0D=0ADivision 3=0D=0AKings at Pogue Mahone
DTEND:20130915T233000
DTSTAMP:20260421T105700
DTSTART:20130915T220000
END:VEVENT
BEGIN:VEVENT
CATEGORIES:HOCKEY GAME
SUMMARY:Kings vs Grizzlies
LOCATION:NHL
DESCRIPTION;ENCODING=QUOTED-PRINTABLE:Easy Street Area=0D=0A2013 Winter=0D=0ADivision 3=0D=0AKings vs Grizzlies
DTEND:20130922T220000
DTSTAMP:20260421T105700
DTSTART:20130922T203000
END:VEVENT
BEGIN:VEVENT
CATEGORIES:HOCKEY GAME
SUMMARY:Kings at Wolves
LOCATION:OLY
DESCRIPTION;ENCODING=QUOTED-PRINTABLE:Easy Street Area=0D=0A2013 Winter=0D=0ADivision 3=0D=0AKings at Wolves
DTEND:20131006T193000
DTSTAMP:20260421T105700
DTSTART:20131006T180000
END:VEVENT
BEGIN:VEVENT
CATEGORIES:HOCKEY GAME
SUMMARY:Kings at Rebels
LOCATION:NHL
DESCRIPTION;ENCODING=QUOTED-PRINTABLE:Easy Street Area=0D=0A2013 Winter=0D=0ADivision 3=0D=0AKings at Rebels
DTEND:20131013T203000
DTSTAMP:20260421T105700
DTSTART:20131013T190000
END:VEVENT
BEGIN:VEVENT
CATEGORIES:HOCKEY GAME
SUMMARY:Kings vs Pogue Mahone
LOCATION:NHL
DESCRIPTION;ENCODING=QUOTED-PRINTABLE:Easy Street Area=0D=0A2013 Winter=0D=0ADivision 3=0D=0AKings vs Pogue Mahone
DTEND:20131020T190000
DTSTAMP:20260421T105700
DTSTART:20131020T173000
END:VEVENT
BEGIN:VEVENT
CATEGORIES:HOCKEY GAME
SUMMARY:Kings vs Grizzlies
LOCATION:NHL
DESCRIPTION;ENCODING=QUOTED-PRINTABLE:Easy Street Area=0D=0A2013 Winter=0D=0ADivision 3=0D=0AKings vs Grizzlies
DTEND:20131027T160000
DTSTAMP:20260421T105700
DTSTART:20131027T143000
END:VEVENT
BEGIN:VEVENT
CATEGORIES:HOCKEY GAME
SUMMARY:Kings vs Mohawks
LOCATION:OLY
DESCRIPTION;ENCODING=QUOTED-PRINTABLE:Easy Street Area=0D=0A2013 Winter=0D=0ADivision 3=0D=0AKings vs Mohawks
DTEND:20131103T210000
DTSTAMP:20260421T105700
DTSTART:20131103T193000
END:VEVENT
BEGIN:VEVENT
CATEGORIES:HOCKEY GAME
SUMMARY:Kings vs Wolves
LOCATION:NHL
DESCRIPTION;ENCODING=QUOTED-PRINTABLE:Easy Street Area=0D=0A2013 Winter=0D=0ADivision 3=0D=0AKings vs Wolves
DTEND:20131110T234500
DTSTAMP:20260421T105700
DTSTART:20131110T221500
END:VEVENT
BEGIN:VEVENT
CATEGORIES:HOCKEY GAME
SUMMARY:Kings vs Rebels
LOCATION:NHL
DESCRIPTION;ENCODING=QUOTED-PRINTABLE:Easy Street Area=0D=0A2013 Winter=0D=0ADivision 3=0D=0AKings vs Rebels
DTEND:20131117T191500
DTSTAMP:20260421T105700
DTSTART:20131117T174500
END:VEVENT
BEGIN:VEVENT
CATEGORIES:HOCKEY GAME
SUMMARY:Kings at Pogue Mahone
LOCATION:OLY
DESCRIPTION;ENCODING=QUOTED-PRINTABLE:Easy Street Area=0D=0A2013 Winter=0D=0ADivision 3=0D=0AKings at Pogue Mahone
DTEND:20131124T180000
DTSTAMP:20260421T105700
DTSTART:20131124T163000
END:VEVENT
BEGIN:VEVENT
CATEGORIES:HOCKEY GAME
SUMMARY:Kings vs Grizzlies
LOCATION:OLY
DESCRIPTION;ENCODING=QUOTED-PRINTABLE:Easy Street Area=0D=0A2013 Winter=0D=0ADivision 3=0D=0AKings vs Grizzlies
DTEND:20131201T210000
DTSTAMP:20260421T105700
DTSTART:20131201T193000
END:VEVENT
BEGIN:VEVENT
CATEGORIES:HOCKEY GAME
SUMMARY:Kings at Mohawks
LOCATION:NHL
DESCRIPTION;ENCODING=QUOTED-PRINTABLE:Easy Street Area=0D=0A2013 Winter=0D=0ADivision 3=0D=0AKings at Mohawks
DTEND:20131208T220000
DTSTAMP:20260421T105700
DTSTART:20131208T203000
END:VEVENT
BEGIN:VEVENT
CATEGORIES:HOCKEY GAME
SUMMARY:Kings at Rebels
LOCATION:NHL
DESCRIPTION;ENCODING=QUOTED-PRINTABLE:Easy Street Area=0D=0A2013 Winter=0D=0ADivision 3=0D=0AKings at Rebels
DTEND:20131222T130000
DTSTAMP:20260421T105700
DTSTART:20131222T113000
END:VEVENT
BEGIN:VEVENT
CATEGORIES:HOCKEY GAME
SUMMARY:Kings vs Pogue Mahone
LOCATION:OLY
DESCRIPTION;ENCODING=QUOTED-PRINTABLE:Easy Street Area=0D=0A2013 Winter=0D=0ADivision 3=0D=0AKings vs Pogue Mahone
DTEND:20140105T223000
DTSTAMP:20260421T105700
DTSTART:20140105T210000
END:VEVENT
BEGIN:VEVENT
CATEGORIES:HOCKEY GAME
SUMMARY:Kings at Grizzlies
LOCATION:NHL
DESCRIPTION;ENCODING=QUOTED-PRINTABLE:Easy Street Area=0D=0A2013 Winter=0D=0ADivision 3=0D=0AKings at Grizzlies
DTEND:20140112T220000
DTSTAMP:20260421T105700
DTSTART:20140112T203000
END:VEVENT
BEGIN:VEVENT
CATEGORIES:HOCKEY GAME
SUMMARY:Kings at Mohawks
LOCATION:NHL
DESCRIPTION;ENCODING=QUOTED-PRINTABLE:Easy Street Area=0D=0A2013 Winter=0D=0ADivision 3=0D=0AKings at Mohawks
DTEND:20140119T190000
DTSTAMP:20260421T105700
DTSTART:20140119T173000
END:VEVENT
BEGIN:VEVENT
CATEGORIES:HOCKEY GAME
SUMMARY:Kings at Wolves
LOCATION:NHL
DESCRIPTION;ENCODING=QUOTED-PRINTABLE:Easy Street Area=0D=0A2013 Winter=0D=0ADivision 3=0D=0AKings at Wolves
DTEND:20140126T220000
DTSTAMP:20260421T105700
DTSTART:20140126T203000
END:VEVENT
BEGIN:VEVENT
CATEGORIES:HOCKEY GAME
SUMMARY:Kings at Mohawks
LOCATION:NHL
DESCRIPTION;ENCODING=QUOTED-PRINTABLE:Easy Street Area=0D=0A2013 Winter=0D=0ADivision 3=0D=0AKings at Mohawks
DTEND:20140201T170000
DTSTAMP:20260421T105700
DTSTART:20140201T153000
END:VEVENT
BEGIN:VEVENT
CATEGORIES:HOCKEY GAME
SUMMARY:Kings at Wolves
LOCATION:OLY
DESCRIPTION;ENCODING=QUOTED-PRINTABLE:Easy Street Area=0D=0A2013 Winter=0D=0ADivision 3=0D=0AKings at Wolves
DTEND:20140209T193000
DTSTAMP:20260421T105700
DTSTART:20140209T180000
END:VEVENT
BEGIN:VEVENT
CATEGORIES:HOCKEY GAME
SUMMARY:Kings vs Seals
LOCATION:OLY
DESCRIPTION;ENCODING=QUOTED-PRINTABLE:Easy Street Area=0D=0A2013 Winter=0D=0ADivision 3=0D=0AKings vs Seals
DTEND:20140216T193000
DTSTAMP:20260421T105700
DTSTART:20140216T180000
END:VEVENT
END:VCALENDAR
