BEGIN:VCALENDAR
VERSION:2.0
BEGIN:VEVENT
CATEGORIES:HOCKEY GAME
SUMMARY:Rebels at Renegades
LOCATION:NHL
DESCRIPTION;ENCODING=QUOTED-PRINTABLE:Easy Street Area=0D=0A2013 Winter=0D=0ADivision 2=0D=0ARebels at Renegades
DTEND:20130908T203000
DTSTAMP:20260421T092900
DTSTART:20130908T190000
END:VEVENT
BEGIN:VEVENT
CATEGORIES:HOCKEY GAME
SUMMARY:Rebels at Grizzlies
LOCATION:NHL
DESCRIPTION;ENCODING=QUOTED-PRINTABLE:Easy Street Area=0D=0A2013 Winter=0D=0ADivision 3=0D=0ARebels at Grizzlies
DTEND:20130915T220000
DTSTAMP:20260421T092900
DTSTART:20130915T203000
END:VEVENT
BEGIN:VEVENT
CATEGORIES:HOCKEY GAME
SUMMARY:Rebels vs Wolves
LOCATION:OLY
DESCRIPTION;ENCODING=QUOTED-PRINTABLE:Easy Street Area=0D=0A2013 Winter=0D=0ADivision 3=0D=0ARebels vs Wolves
DTEND:20130922T193000
DTSTAMP:20260421T092900
DTSTART:20130922T180000
END:VEVENT
BEGIN:VEVENT
CATEGORIES:HOCKEY GAME
SUMMARY:Rebels at Pogue Mahone
LOCATION:NHL
DESCRIPTION;ENCODING=QUOTED-PRINTABLE:Easy Street Area=0D=0A2013 Winter=0D=0ADivision 3=0D=0ARebels at Pogue Mahone
DTEND:20130929T173000
DTSTAMP:20260421T092900
DTSTART:20130929T160000
END:VEVENT
BEGIN:VEVENT
CATEGORIES:HOCKEY GAME
SUMMARY:Rebels vs Mohawks
LOCATION:OLY
DESCRIPTION;ENCODING=QUOTED-PRINTABLE:Easy Street Area=0D=0A2013 Winter=0D=0ADivision 3=0D=0ARebels vs Mohawks
DTEND:20131006T180000
DTSTAMP:20260421T092900
DTSTART:20131006T163000
END:VEVENT
BEGIN:VEVENT
CATEGORIES:HOCKEY GAME
SUMMARY:Rebels vs Kings
LOCATION:NHL
DESCRIPTION;ENCODING=QUOTED-PRINTABLE:Easy Street Area=0D=0A2013 Winter=0D=0ADivision 3=0D=0ARebels vs Kings
DTEND:20131013T203000
DTSTAMP:20260421T092900
DTSTART:20131013T190000
END:VEVENT
BEGIN:VEVENT
CATEGORIES:HOCKEY GAME
SUMMARY:Rebels vs Grizzlies
LOCATION:OLY
DESCRIPTION;ENCODING=QUOTED-PRINTABLE:Easy Street Area=0D=0A2013 Winter=0D=0ADivision 3=0D=0ARebels vs Grizzlies
DTEND:20131021T000000
DTSTAMP:20260421T092900
DTSTART:20131020T223000
END:VEVENT
BEGIN:VEVENT
CATEGORIES:HOCKEY GAME
SUMMARY:Rebels at Wolves
LOCATION:NHL
DESCRIPTION;ENCODING=QUOTED-PRINTABLE:Easy Street Area=0D=0A2013 Winter=0D=0ADivision 3=0D=0ARebels at Wolves
DTEND:20131027T143000
DTSTAMP:20260421T092900
DTSTART:20131027T130000
END:VEVENT
BEGIN:VEVENT
CATEGORIES:HOCKEY GAME
SUMMARY:Rebels vs Pogue Mahone
LOCATION:OLY
DESCRIPTION;ENCODING=QUOTED-PRINTABLE:Easy Street Area=0D=0A2013 Winter=0D=0ADivision 3=0D=0ARebels vs Pogue Mahone
DTEND:20131103T223000
DTSTAMP:20260421T092900
DTSTART:20131103T210000
END:VEVENT
BEGIN:VEVENT
CATEGORIES:HOCKEY GAME
SUMMARY:Rebels at Mohawks
LOCATION:NHL
DESCRIPTION;ENCODING=QUOTED-PRINTABLE:Easy Street Area=0D=0A2013 Winter=0D=0ADivision 3=0D=0ARebels at Mohawks
DTEND:20131110T221500
DTSTAMP:20260421T092900
DTSTART:20131110T204500
END:VEVENT
BEGIN:VEVENT
CATEGORIES:HOCKEY GAME
SUMMARY:Rebels at Kings
LOCATION:NHL
DESCRIPTION;ENCODING=QUOTED-PRINTABLE:Easy Street Area=0D=0A2013 Winter=0D=0ADivision 3=0D=0ARebels at Kings
DTEND:20131117T191500
DTSTAMP:20260421T092900
DTSTART:20131117T174500
END:VEVENT
BEGIN:VEVENT
CATEGORIES:HOCKEY GAME
SUMMARY:Rebels at Grizzlies
LOCATION:NHL
DESCRIPTION;ENCODING=QUOTED-PRINTABLE:Easy Street Area=0D=0A2013 Winter=0D=0ADivision 3=0D=0ARebels at Grizzlies
DTEND:20131124T143000
DTSTAMP:20260421T092900
DTSTART:20131124T130000
END:VEVENT
BEGIN:VEVENT
CATEGORIES:HOCKEY GAME
SUMMARY:Rebels vs Wolves
LOCATION:NHL
DESCRIPTION;ENCODING=QUOTED-PRINTABLE:Easy Street Area=0D=0A2013 Winter=0D=0ADivision 3=0D=0ARebels vs Wolves
DTEND:20131201T173000
DTSTAMP:20260421T092900
DTSTART:20131201T160000
END:VEVENT
BEGIN:VEVENT
CATEGORIES:HOCKEY GAME
SUMMARY:Rebels at Pogue Mahone
LOCATION:NHL
DESCRIPTION;ENCODING=QUOTED-PRINTABLE:Easy Street Area=0D=0A2013 Winter=0D=0ADivision 3=0D=0ARebels at Pogue Mahone
DTEND:20131208T203000
DTSTAMP:20260421T092900
DTSTART:20131208T190000
END:VEVENT
BEGIN:VEVENT
CATEGORIES:HOCKEY GAME
SUMMARY:Rebels vs Mohawks
LOCATION:NHL
DESCRIPTION;ENCODING=QUOTED-PRINTABLE:Easy Street Area=0D=0A2013 Winter=0D=0ADivision 3=0D=0ARebels vs Mohawks
DTEND:20131215T140000
DTSTAMP:20260421T092900
DTSTART:20131215T123000
END:VEVENT
BEGIN:VEVENT
CATEGORIES:HOCKEY GAME
SUMMARY:Rebels vs Kings
LOCATION:NHL
DESCRIPTION;ENCODING=QUOTED-PRINTABLE:Easy Street Area=0D=0A2013 Winter=0D=0ADivision 3=0D=0ARebels vs Kings
DTEND:20131222T130000
DTSTAMP:20260421T092900
DTSTART:20131222T113000
END:VEVENT
BEGIN:VEVENT
CATEGORIES:HOCKEY GAME
SUMMARY:Rebels vs Grizzlies
LOCATION:OLY
DESCRIPTION;ENCODING=QUOTED-PRINTABLE:Easy Street Area=0D=0A2013 Winter=0D=0ADivision 3=0D=0ARebels vs Grizzlies
DTEND:20140105T210000
DTSTAMP:20260421T092900
DTSTART:20140105T193000
END:VEVENT
BEGIN:VEVENT
CATEGORIES:HOCKEY GAME
SUMMARY:Rebels at Wolves
LOCATION:NHL
DESCRIPTION;ENCODING=QUOTED-PRINTABLE:Easy Street Area=0D=0A2013 Winter=0D=0ADivision 3=0D=0ARebels at Wolves
DTEND:20140112T233000
DTSTAMP:20260421T092900
DTSTART:20140112T220000
END:VEVENT
BEGIN:VEVENT
CATEGORIES:HOCKEY GAME
SUMMARY:Rebels at Pogue Mahone
LOCATION:NHL
DESCRIPTION;ENCODING=QUOTED-PRINTABLE:Easy Street Area=0D=0A2013 Winter=0D=0ADivision 3=0D=0ARebels at Pogue Mahone
DTEND:20140119T160000
DTSTAMP:20260421T092900
DTSTART:20140119T143000
END:VEVENT
BEGIN:VEVENT
CATEGORIES:HOCKEY GAME
SUMMARY:Rebels vs Mohawks
LOCATION:NHL
DESCRIPTION;ENCODING=QUOTED-PRINTABLE:Easy Street Area=0D=0A2013 Winter=0D=0ADivision 3=0D=0ARebels vs Mohawks
DTEND:20140126T143000
DTSTAMP:20260421T092900
DTSTART:20140126T130000
END:VEVENT
END:VCALENDAR
