BEGIN:VCALENDAR
VERSION:2.0
BEGIN:VEVENT
CATEGORIES:HOCKEY GAME
SUMMARY:Down 2 Puck vs Seals
LOCATION:NHL
DESCRIPTION;ENCODING=QUOTED-PRINTABLE:Easy Street Area=0D=0A2013 Winter=0D=0ADivision 2=0D=0ADown 2 Puck vs Seals
DTEND:20130908T143000
DTSTAMP:20260421T092900
DTSTART:20130908T130000
END:VEVENT
BEGIN:VEVENT
CATEGORIES:HOCKEY GAME
SUMMARY:Down 2 Puck at Renegades
LOCATION:NHL
DESCRIPTION;ENCODING=QUOTED-PRINTABLE:Easy Street Area=0D=0A2013 Winter=0D=0ADivision 2=0D=0ADown 2 Puck at Renegades
DTEND:20130922T233000
DTSTAMP:20260421T092900
DTSTART:20130922T220000
END:VEVENT
BEGIN:VEVENT
CATEGORIES:HOCKEY GAME
SUMMARY:Down 2 Puck at Sharks
LOCATION:OLY
DESCRIPTION;ENCODING=QUOTED-PRINTABLE:Easy Street Area=0D=0A2013 Winter=0D=0ADivision 2=0D=0ADown 2 Puck at Sharks
DTEND:20131006T210000
DTSTAMP:20260421T092900
DTSTART:20131006T193000
END:VEVENT
BEGIN:VEVENT
CATEGORIES:HOCKEY GAME
SUMMARY:Down 2 Puck vs Renegades
LOCATION:NHL
DESCRIPTION;ENCODING=QUOTED-PRINTABLE:Easy Street Area=0D=0A2013 Winter=0D=0ADivision 2=0D=0ADown 2 Puck vs Renegades
DTEND:20131013T173000
DTSTAMP:20260421T092900
DTSTART:20131013T160000
END:VEVENT
BEGIN:VEVENT
CATEGORIES:HOCKEY GAME
SUMMARY:Down 2 Puck vs Seals
LOCATION:NHL
DESCRIPTION;ENCODING=QUOTED-PRINTABLE:Easy Street Area=0D=0A2013 Winter=0D=0ADivision 2=0D=0ADown 2 Puck vs Seals
DTEND:20131019T184500
DTSTAMP:20260421T092900
DTSTART:20131019T171500
END:VEVENT
BEGIN:VEVENT
CATEGORIES:HOCKEY GAME
SUMMARY:Down 2 Puck vs Renegades
LOCATION:NHL
DESCRIPTION;ENCODING=QUOTED-PRINTABLE:Easy Street Area=0D=0A2013 Winter=0D=0ADivision 2=0D=0ADown 2 Puck vs Renegades
DTEND:20131019T201500
DTSTAMP:20260421T092900
DTSTART:20131019T184500
END:VEVENT
BEGIN:VEVENT
CATEGORIES:HOCKEY GAME
SUMMARY:Down 2 Puck vs Meat Curtains
LOCATION:NHL
DESCRIPTION;ENCODING=QUOTED-PRINTABLE:Easy Street Area=0D=0A2013 Winter=0D=0ADivision 2=0D=0ADown 2 Puck vs Meat Curtains
DTEND:20131020T160000
DTSTAMP:20260421T092900
DTSTART:20131020T143000
END:VEVENT
BEGIN:VEVENT
CATEGORIES:HOCKEY GAME
SUMMARY:Down 2 Puck vs Sharks
LOCATION:OLY
DESCRIPTION;ENCODING=QUOTED-PRINTABLE:Easy Street Area=0D=0A2013 Winter=0D=0ADivision 2=0D=0ADown 2 Puck vs Sharks
DTEND:20131027T223000
DTSTAMP:20260421T092900
DTSTART:20131027T210000
END:VEVENT
BEGIN:VEVENT
CATEGORIES:HOCKEY GAME
SUMMARY:Down 2 Puck at Meat Curtains
LOCATION:NHL
DESCRIPTION;ENCODING=QUOTED-PRINTABLE:Easy Street Area=0D=0A2013 Winter=0D=0ADivision 2=0D=0ADown 2 Puck at Meat Curtains
DTEND:20131103T233000
DTSTAMP:20260421T092900
DTSTART:20131103T220000
END:VEVENT
BEGIN:VEVENT
CATEGORIES:HOCKEY GAME
SUMMARY:Down 2 Puck at Renegades
LOCATION:NHL
DESCRIPTION;ENCODING=QUOTED-PRINTABLE:Easy Street Area=0D=0A2013 Winter=0D=0ADivision 2=0D=0ADown 2 Puck at Renegades
DTEND:20131110T191500
DTSTAMP:20260421T092900
DTSTART:20131110T174500
END:VEVENT
BEGIN:VEVENT
CATEGORIES:HOCKEY GAME
SUMMARY:Down 2 Puck at Seals
LOCATION:NHL
DESCRIPTION;ENCODING=QUOTED-PRINTABLE:Easy Street Area=0D=0A2013 Winter=0D=0ADivision 2=0D=0ADown 2 Puck at Seals
DTEND:20131117T130000
DTSTAMP:20260421T092900
DTSTART:20131117T113000
END:VEVENT
BEGIN:VEVENT
CATEGORIES:HOCKEY GAME
SUMMARY:Down 2 Puck vs Meat Curtains
LOCATION:OLY
DESCRIPTION;ENCODING=QUOTED-PRINTABLE:Easy Street Area=0D=0A2013 Winter=0D=0ADivision 2=0D=0ADown 2 Puck vs Meat Curtains
DTEND:20131124T210000
DTSTAMP:20260421T092900
DTSTART:20131124T193000
END:VEVENT
BEGIN:VEVENT
CATEGORIES:HOCKEY GAME
SUMMARY:Down 2 Puck at Seals
LOCATION:NHL
DESCRIPTION;ENCODING=QUOTED-PRINTABLE:Easy Street Area=0D=0A2013 Winter=0D=0ADivision 2=0D=0ADown 2 Puck at Seals
DTEND:20131201T233000
DTSTAMP:20260421T092900
DTSTART:20131201T220000
END:VEVENT
BEGIN:VEVENT
CATEGORIES:HOCKEY GAME
SUMMARY:Down 2 Puck at Sharks
LOCATION:NHL
DESCRIPTION;ENCODING=QUOTED-PRINTABLE:Easy Street Area=0D=0A2013 Winter=0D=0ADivision 2=0D=0ADown 2 Puck at Sharks
DTEND:20131208T173000
DTSTAMP:20260421T092900
DTSTART:20131208T160000
END:VEVENT
BEGIN:VEVENT
CATEGORIES:HOCKEY GAME
SUMMARY:Down 2 Puck vs Meat Curtains
LOCATION:NHL
DESCRIPTION;ENCODING=QUOTED-PRINTABLE:Easy Street Area=0D=0A2013 Winter=0D=0ADivision 2=0D=0ADown 2 Puck vs Meat Curtains
DTEND:20131215T123000
DTSTAMP:20260421T092900
DTSTART:20131215T110000
END:VEVENT
BEGIN:VEVENT
CATEGORIES:HOCKEY GAME
SUMMARY:Down 2 Puck at Renegades
LOCATION:OLY
DESCRIPTION;ENCODING=QUOTED-PRINTABLE:Easy Street Area=0D=0A2013 Winter=0D=0ADivision 2=0D=0ADown 2 Puck at Renegades
DTEND:20131222T223000
DTSTAMP:20260421T092900
DTSTART:20131222T210000
END:VEVENT
BEGIN:VEVENT
CATEGORIES:HOCKEY GAME
SUMMARY:Down 2 Puck vs Sharks
LOCATION:NHL
DESCRIPTION;ENCODING=QUOTED-PRINTABLE:Easy Street Area=0D=0A2013 Winter=0D=0ADivision 2=0D=0ADown 2 Puck vs Sharks
DTEND:20140112T160000
DTSTAMP:20260421T092900
DTSTART:20140112T143000
END:VEVENT
BEGIN:VEVENT
CATEGORIES:HOCKEY GAME
SUMMARY:Down 2 Puck at Seals
LOCATION:NHL
DESCRIPTION;ENCODING=QUOTED-PRINTABLE:Easy Street Area=0D=0A2013 Winter=0D=0ADivision 2=0D=0ADown 2 Puck at Seals
DTEND:20140119T143000
DTSTAMP:20260421T092900
DTSTART:20140119T130000
END:VEVENT
BEGIN:VEVENT
CATEGORIES:HOCKEY GAME
SUMMARY:Down 2 Puck at Meat Curtains
LOCATION:NHL
DESCRIPTION;ENCODING=QUOTED-PRINTABLE:Easy Street Area=0D=0A2013 Winter=0D=0ADivision 2=0D=0ADown 2 Puck at Meat Curtains
DTEND:20140201T200000
DTSTAMP:20260421T092900
DTSTART:20140201T183000
END:VEVENT
BEGIN:VEVENT
CATEGORIES:HOCKEY GAME
SUMMARY:Down 2 Puck vs Seals
LOCATION:OLY
DESCRIPTION;ENCODING=QUOTED-PRINTABLE:Easy Street Area=0D=0A2013 Winter=0D=0ADivision 2=0D=0ADown 2 Puck vs Seals
DTEND:20140209T223000
DTSTAMP:20260421T092900
DTSTART:20140209T210000
END:VEVENT
END:VCALENDAR
