BEGIN:VCALENDAR
VERSION:2.0
BEGIN:VEVENT
CATEGORIES:HOCKEY GAME
SUMMARY:Seals at Down 2 Puck
LOCATION:NHL
DESCRIPTION;ENCODING=QUOTED-PRINTABLE:Easy Street Area=0D=0A2013 Winter=0D=0ADivision 2=0D=0ASeals at Down 2 Puck
DTEND:20130908T143000
DTSTAMP:20260421T092900
DTSTART:20130908T130000
END:VEVENT
BEGIN:VEVENT
CATEGORIES:HOCKEY GAME
SUMMARY:Seals vs Sharks
LOCATION:NHL
DESCRIPTION;ENCODING=QUOTED-PRINTABLE:Easy Street Area=0D=0A2013 Winter=0D=0ADivision 2=0D=0ASeals vs Sharks
DTEND:20130915T190000
DTSTAMP:20260421T092900
DTSTART:20130915T173000
END:VEVENT
BEGIN:VEVENT
CATEGORIES:HOCKEY GAME
SUMMARY:Seals vs Meat Curtains
LOCATION:NHL
DESCRIPTION;ENCODING=QUOTED-PRINTABLE:Easy Street Area=0D=0A2013 Winter=0D=0ADivision 2=0D=0ASeals vs Meat Curtains
DTEND:20130922T143000
DTSTAMP:20260421T092900
DTSTART:20130922T130000
END:VEVENT
BEGIN:VEVENT
CATEGORIES:HOCKEY GAME
SUMMARY:Seals at Sharks
LOCATION:OLY
DESCRIPTION;ENCODING=QUOTED-PRINTABLE:Easy Street Area=0D=0A2013 Winter=0D=0ADivision 2=0D=0ASeals at Sharks
DTEND:20130929T210000
DTSTAMP:20260421T092900
DTSTART:20130929T193000
END:VEVENT
BEGIN:VEVENT
CATEGORIES:HOCKEY GAME
SUMMARY:Seals at Meat Curtains
LOCATION:NHL
DESCRIPTION;ENCODING=QUOTED-PRINTABLE:Easy Street Area=0D=0A2013 Winter=0D=0ADivision 2=0D=0ASeals at Meat Curtains
DTEND:20131006T130000
DTSTAMP:20260421T092900
DTSTART:20131006T113000
END:VEVENT
BEGIN:VEVENT
CATEGORIES:HOCKEY GAME
SUMMARY:Seals at Down 2 Puck
LOCATION:NHL
DESCRIPTION;ENCODING=QUOTED-PRINTABLE:Easy Street Area=0D=0A2013 Winter=0D=0ADivision 2=0D=0ASeals at Down 2 Puck
DTEND:20131019T184500
DTSTAMP:20260421T092900
DTSTART:20131019T171500
END:VEVENT
BEGIN:VEVENT
CATEGORIES:HOCKEY GAME
SUMMARY:Seals vs Sharks
LOCATION:NHL
DESCRIPTION;ENCODING=QUOTED-PRINTABLE:Easy Street Area=0D=0A2013 Winter=0D=0ADivision 2=0D=0ASeals vs Sharks
DTEND:20131020T130000
DTSTAMP:20260421T092900
DTSTART:20131020T113000
END:VEVENT
BEGIN:VEVENT
CATEGORIES:HOCKEY GAME
SUMMARY:Seals vs Renegades
LOCATION:OLY
DESCRIPTION;ENCODING=QUOTED-PRINTABLE:Easy Street Area=0D=0A2013 Winter=0D=0ADivision 2=0D=0ASeals vs Renegades
DTEND:20131027T210000
DTSTAMP:20260421T092900
DTSTART:20131027T193000
END:VEVENT
BEGIN:VEVENT
CATEGORIES:HOCKEY GAME
SUMMARY:Seals vs Down 2 Puck
LOCATION:NHL
DESCRIPTION;ENCODING=QUOTED-PRINTABLE:Easy Street Area=0D=0A2013 Winter=0D=0ADivision 2=0D=0ASeals vs Down 2 Puck
DTEND:20131117T130000
DTSTAMP:20260421T092900
DTSTART:20131117T113000
END:VEVENT
BEGIN:VEVENT
CATEGORIES:HOCKEY GAME
SUMMARY:Seals at Renegades
LOCATION:OLY
DESCRIPTION;ENCODING=QUOTED-PRINTABLE:Easy Street Area=0D=0A2013 Winter=0D=0ADivision 2=0D=0ASeals at Renegades
DTEND:20131124T193000
DTSTAMP:20260421T092900
DTSTART:20131124T180000
END:VEVENT
BEGIN:VEVENT
CATEGORIES:HOCKEY GAME
SUMMARY:Seals at Sharks
LOCATION:OLY
DESCRIPTION;ENCODING=QUOTED-PRINTABLE:Easy Street Area=0D=0A2013 Winter=0D=0ADivision 2=0D=0ASeals at Sharks
DTEND:20131124T223000
DTSTAMP:20260421T092900
DTSTART:20131124T210000
END:VEVENT
BEGIN:VEVENT
CATEGORIES:HOCKEY GAME
SUMMARY:Seals vs Down 2 Puck
LOCATION:NHL
DESCRIPTION;ENCODING=QUOTED-PRINTABLE:Easy Street Area=0D=0A2013 Winter=0D=0ADivision 2=0D=0ASeals vs Down 2 Puck
DTEND:20131201T233000
DTSTAMP:20260421T092900
DTSTART:20131201T220000
END:VEVENT
BEGIN:VEVENT
CATEGORIES:HOCKEY GAME
SUMMARY:Seals at Renegades
LOCATION:NHL
DESCRIPTION;ENCODING=QUOTED-PRINTABLE:Easy Street Area=0D=0A2013 Winter=0D=0ADivision 2=0D=0ASeals at Renegades
DTEND:20131208T190000
DTSTAMP:20260421T092900
DTSTART:20131208T173000
END:VEVENT
BEGIN:VEVENT
CATEGORIES:HOCKEY GAME
SUMMARY:Seals at Meat Curtains
LOCATION:NHL
DESCRIPTION;ENCODING=QUOTED-PRINTABLE:Easy Street Area=0D=0A2013 Winter=0D=0ADivision 2=0D=0ASeals at Meat Curtains
DTEND:20131222T190000
DTSTAMP:20260421T092900
DTSTART:20131222T173000
END:VEVENT
BEGIN:VEVENT
CATEGORIES:HOCKEY GAME
SUMMARY:Seals at Renegades
LOCATION:NHL
DESCRIPTION;ENCODING=QUOTED-PRINTABLE:Easy Street Area=0D=0A2013 Winter=0D=0ADivision 2=0D=0ASeals at Renegades
DTEND:20140105T233000
DTSTAMP:20260421T092900
DTSTART:20140105T220000
END:VEVENT
BEGIN:VEVENT
CATEGORIES:HOCKEY GAME
SUMMARY:Seals at Meat Curtains
LOCATION:NHL
DESCRIPTION;ENCODING=QUOTED-PRINTABLE:Easy Street Area=0D=0A2013 Winter=0D=0ADivision 2=0D=0ASeals at Meat Curtains
DTEND:20140112T190000
DTSTAMP:20260421T092900
DTSTART:20140112T173000
END:VEVENT
BEGIN:VEVENT
CATEGORIES:HOCKEY GAME
SUMMARY:Seals vs Down 2 Puck
LOCATION:NHL
DESCRIPTION;ENCODING=QUOTED-PRINTABLE:Easy Street Area=0D=0A2013 Winter=0D=0ADivision 2=0D=0ASeals vs Down 2 Puck
DTEND:20140119T143000
DTSTAMP:20260421T092900
DTSTART:20140119T130000
END:VEVENT
BEGIN:VEVENT
CATEGORIES:HOCKEY GAME
SUMMARY:Seals vs Sharks
LOCATION:OLY
DESCRIPTION;ENCODING=QUOTED-PRINTABLE:Easy Street Area=0D=0A2013 Winter=0D=0ADivision 2=0D=0ASeals vs Sharks
DTEND:20140126T223000
DTSTAMP:20260421T092900
DTSTART:20140126T210000
END:VEVENT
BEGIN:VEVENT
CATEGORIES:HOCKEY GAME
SUMMARY:Seals at Down 2 Puck
LOCATION:OLY
DESCRIPTION;ENCODING=QUOTED-PRINTABLE:Easy Street Area=0D=0A2013 Winter=0D=0ADivision 2=0D=0ASeals at Down 2 Puck
DTEND:20140209T223000
DTSTAMP:20260421T092900
DTSTART:20140209T210000
END:VEVENT
BEGIN:VEVENT
CATEGORIES:HOCKEY GAME
SUMMARY:Seals at Kings
LOCATION:OLY
DESCRIPTION;ENCODING=QUOTED-PRINTABLE:Easy Street Area=0D=0A2013 Winter=0D=0ADivision 3=0D=0ASeals at Kings
DTEND:20140216T193000
DTSTAMP:20260421T092900
DTSTART:20140216T180000
END:VEVENT
END:VCALENDAR
