BEGIN:VCALENDAR
VERSION:2.0
BEGIN:VEVENT
CATEGORIES:HOCKEY GAME
SUMMARY:Sharks at Seals
LOCATION:NHL
DESCRIPTION;ENCODING=QUOTED-PRINTABLE:Easy Street Area=0D=0A2013 Winter=0D=0ADivision 2=0D=0ASharks at Seals
DTEND:20130915T190000
DTSTAMP:20260421T092900
DTSTART:20130915T173000
END:VEVENT
BEGIN:VEVENT
CATEGORIES:HOCKEY GAME
SUMMARY:Sharks vs Seals
LOCATION:OLY
DESCRIPTION;ENCODING=QUOTED-PRINTABLE:Easy Street Area=0D=0A2013 Winter=0D=0ADivision 2=0D=0ASharks vs Seals
DTEND:20130929T210000
DTSTAMP:20260421T092900
DTSTART:20130929T193000
END:VEVENT
BEGIN:VEVENT
CATEGORIES:HOCKEY GAME
SUMMARY:Sharks vs Down 2 Puck
LOCATION:OLY
DESCRIPTION;ENCODING=QUOTED-PRINTABLE:Easy Street Area=0D=0A2013 Winter=0D=0ADivision 2=0D=0ASharks vs Down 2 Puck
DTEND:20131006T210000
DTSTAMP:20260421T092900
DTSTART:20131006T193000
END:VEVENT
BEGIN:VEVENT
CATEGORIES:HOCKEY GAME
SUMMARY:Sharks vs Renegades
LOCATION:OLY
DESCRIPTION;ENCODING=QUOTED-PRINTABLE:Easy Street Area=0D=0A2013 Winter=0D=0ADivision 2=0D=0ASharks vs Renegades
DTEND:20131006T223000
DTSTAMP:20260421T092900
DTSTART:20131006T210000
END:VEVENT
BEGIN:VEVENT
CATEGORIES:HOCKEY GAME
SUMMARY:Sharks vs Meat Curtains
LOCATION:NHL
DESCRIPTION;ENCODING=QUOTED-PRINTABLE:Easy Street Area=0D=0A2013 Winter=0D=0ADivision 2=0D=0ASharks vs Meat Curtains
DTEND:20131013T190000
DTSTAMP:20260421T092900
DTSTART:20131013T173000
END:VEVENT
BEGIN:VEVENT
CATEGORIES:HOCKEY GAME
SUMMARY:Sharks at Seals
LOCATION:NHL
DESCRIPTION;ENCODING=QUOTED-PRINTABLE:Easy Street Area=0D=0A2013 Winter=0D=0ADivision 2=0D=0ASharks at Seals
DTEND:20131020T130000
DTSTAMP:20260421T092900
DTSTART:20131020T113000
END:VEVENT
BEGIN:VEVENT
CATEGORIES:HOCKEY GAME
SUMMARY:Sharks at Down 2 Puck
LOCATION:OLY
DESCRIPTION;ENCODING=QUOTED-PRINTABLE:Easy Street Area=0D=0A2013 Winter=0D=0ADivision 2=0D=0ASharks at Down 2 Puck
DTEND:20131027T223000
DTSTAMP:20260421T092900
DTSTART:20131027T210000
END:VEVENT
BEGIN:VEVENT
CATEGORIES:HOCKEY GAME
SUMMARY:Sharks vs Renegades
LOCATION:OLY
DESCRIPTION;ENCODING=QUOTED-PRINTABLE:Easy Street Area=0D=0A2013 Winter=0D=0ADivision 2=0D=0ASharks vs Renegades
DTEND:20131103T180000
DTSTAMP:20260421T092900
DTSTART:20131103T163000
END:VEVENT
BEGIN:VEVENT
CATEGORIES:HOCKEY GAME
SUMMARY:Sharks at Meat Curtains
LOCATION:NHL
DESCRIPTION;ENCODING=QUOTED-PRINTABLE:Easy Street Area=0D=0A2013 Winter=0D=0ADivision 2=0D=0ASharks at Meat Curtains
DTEND:20131110T174500
DTSTAMP:20260421T092900
DTSTART:20131110T161500
END:VEVENT
BEGIN:VEVENT
CATEGORIES:HOCKEY GAME
SUMMARY:Sharks vs Seals
LOCATION:OLY
DESCRIPTION;ENCODING=QUOTED-PRINTABLE:Easy Street Area=0D=0A2013 Winter=0D=0ADivision 2=0D=0ASharks vs Seals
DTEND:20131124T223000
DTSTAMP:20260421T092900
DTSTART:20131124T210000
END:VEVENT
BEGIN:VEVENT
CATEGORIES:HOCKEY GAME
SUMMARY:Sharks vs Meat Curtains
LOCATION:OLY
DESCRIPTION;ENCODING=QUOTED-PRINTABLE:Easy Street Area=0D=0A2013 Winter=0D=0ADivision 2=0D=0ASharks vs Meat Curtains
DTEND:20131201T180000
DTSTAMP:20260421T092900
DTSTART:20131201T163000
END:VEVENT
BEGIN:VEVENT
CATEGORIES:HOCKEY GAME
SUMMARY:Sharks vs Meat Curtains
LOCATION:NHL
DESCRIPTION;ENCODING=QUOTED-PRINTABLE:Easy Street Area=0D=0A2013 Winter=0D=0ADivision 2=0D=0ASharks vs Meat Curtains
DTEND:20131208T160000
DTSTAMP:20260421T092900
DTSTART:20131208T143000
END:VEVENT
BEGIN:VEVENT
CATEGORIES:HOCKEY GAME
SUMMARY:Sharks vs Down 2 Puck
LOCATION:NHL
DESCRIPTION;ENCODING=QUOTED-PRINTABLE:Easy Street Area=0D=0A2013 Winter=0D=0ADivision 2=0D=0ASharks vs Down 2 Puck
DTEND:20131208T173000
DTSTAMP:20260421T092900
DTSTART:20131208T160000
END:VEVENT
BEGIN:VEVENT
CATEGORIES:HOCKEY GAME
SUMMARY:Sharks at Renegades
LOCATION:NHL
DESCRIPTION;ENCODING=QUOTED-PRINTABLE:Easy Street Area=0D=0A2013 Winter=0D=0ADivision 2=0D=0ASharks at Renegades
DTEND:20131215T110000
DTSTAMP:20260421T092900
DTSTART:20131215T093000
END:VEVENT
BEGIN:VEVENT
CATEGORIES:HOCKEY GAME
SUMMARY:Sharks vs Meat Curtains
LOCATION:NHL
DESCRIPTION;ENCODING=QUOTED-PRINTABLE:Easy Street Area=0D=0A2013 Winter=0D=0ADivision 2=0D=0ASharks vs Meat Curtains
DTEND:20131222T203000
DTSTAMP:20260421T092900
DTSTART:20131222T190000
END:VEVENT
BEGIN:VEVENT
CATEGORIES:HOCKEY GAME
SUMMARY:Sharks at Meat Curtains
LOCATION:OLY
DESCRIPTION;ENCODING=QUOTED-PRINTABLE:Easy Street Area=0D=0A2013 Winter=0D=0ADivision 2=0D=0ASharks at Meat Curtains
DTEND:20140105T180000
DTSTAMP:20260421T092900
DTSTART:20140105T163000
END:VEVENT
BEGIN:VEVENT
CATEGORIES:HOCKEY GAME
SUMMARY:Sharks at Down 2 Puck
LOCATION:NHL
DESCRIPTION;ENCODING=QUOTED-PRINTABLE:Easy Street Area=0D=0A2013 Winter=0D=0ADivision 2=0D=0ASharks at Down 2 Puck
DTEND:20140112T160000
DTSTAMP:20260421T092900
DTSTART:20140112T143000
END:VEVENT
BEGIN:VEVENT
CATEGORIES:HOCKEY GAME
SUMMARY:Sharks at Renegades
LOCATION:NHL
DESCRIPTION;ENCODING=QUOTED-PRINTABLE:Easy Street Area=0D=0A2013 Winter=0D=0ADivision 2=0D=0ASharks at Renegades
DTEND:20140119T130000
DTSTAMP:20260421T092900
DTSTART:20140119T113000
END:VEVENT
BEGIN:VEVENT
CATEGORIES:HOCKEY GAME
SUMMARY:Sharks at Seals
LOCATION:OLY
DESCRIPTION;ENCODING=QUOTED-PRINTABLE:Easy Street Area=0D=0A2013 Winter=0D=0ADivision 2=0D=0ASharks at Seals
DTEND:20140126T223000
DTSTAMP:20260421T092900
DTSTART:20140126T210000
END:VEVENT
BEGIN:VEVENT
CATEGORIES:HOCKEY GAME
SUMMARY:Sharks at Renegades
LOCATION:NHL
DESCRIPTION;ENCODING=QUOTED-PRINTABLE:Easy Street Area=0D=0A2013 Winter=0D=0ADivision 2=0D=0ASharks at Renegades
DTEND:20140201T183000
DTSTAMP:20260421T092900
DTSTART:20140201T170000
END:VEVENT
END:VCALENDAR
