BEGIN:VCALENDAR
VERSION:2.0
BEGIN:VEVENT
CATEGORIES:HOCKEY GAME
SUMMARY:Renegades vs Rebels
LOCATION:NHL
DESCRIPTION;ENCODING=QUOTED-PRINTABLE:Easy Street Area=0D=0A2013 Winter=0D=0ADivision 2=0D=0ARenegades vs Rebels
DTEND:20130908T203000
DTSTAMP:20260421T075100
DTSTART:20130908T190000
END:VEVENT
BEGIN:VEVENT
CATEGORIES:HOCKEY GAME
SUMMARY:Renegades at Meat Curtains
LOCATION:OLY
DESCRIPTION;ENCODING=QUOTED-PRINTABLE:Easy Street Area=0D=0A2013 Winter=0D=0ADivision 2=0D=0ARenegades at Meat Curtains
DTEND:20130916T000000
DTSTAMP:20260421T075100
DTSTART:20130915T223000
END:VEVENT
BEGIN:VEVENT
CATEGORIES:HOCKEY GAME
SUMMARY:Renegades vs Down 2 Puck
LOCATION:NHL
DESCRIPTION;ENCODING=QUOTED-PRINTABLE:Easy Street Area=0D=0A2013 Winter=0D=0ADivision 2=0D=0ARenegades vs Down 2 Puck
DTEND:20130922T233000
DTSTAMP:20260421T075100
DTSTART:20130922T220000
END:VEVENT
BEGIN:VEVENT
CATEGORIES:HOCKEY GAME
SUMMARY:Renegades at Meat Curtains
LOCATION:OLY
DESCRIPTION;ENCODING=QUOTED-PRINTABLE:Easy Street Area=0D=0A2013 Winter=0D=0ADivision 2=0D=0ARenegades at Meat Curtains
DTEND:20130929T223000
DTSTAMP:20260421T075100
DTSTART:20130929T210000
END:VEVENT
BEGIN:VEVENT
CATEGORIES:HOCKEY GAME
SUMMARY:Renegades at Sharks
LOCATION:OLY
DESCRIPTION;ENCODING=QUOTED-PRINTABLE:Easy Street Area=0D=0A2013 Winter=0D=0ADivision 2=0D=0ARenegades at Sharks
DTEND:20131006T223000
DTSTAMP:20260421T075100
DTSTART:20131006T210000
END:VEVENT
BEGIN:VEVENT
CATEGORIES:HOCKEY GAME
SUMMARY:Renegades at Down 2 Puck
LOCATION:NHL
DESCRIPTION;ENCODING=QUOTED-PRINTABLE:Easy Street Area=0D=0A2013 Winter=0D=0ADivision 2=0D=0ARenegades at Down 2 Puck
DTEND:20131013T173000
DTSTAMP:20260421T075100
DTSTART:20131013T160000
END:VEVENT
BEGIN:VEVENT
CATEGORIES:HOCKEY GAME
SUMMARY:Renegades at Down 2 Puck
LOCATION:NHL
DESCRIPTION;ENCODING=QUOTED-PRINTABLE:Easy Street Area=0D=0A2013 Winter=0D=0ADivision 2=0D=0ARenegades at Down 2 Puck
DTEND:20131019T201500
DTSTAMP:20260421T075100
DTSTART:20131019T184500
END:VEVENT
BEGIN:VEVENT
CATEGORIES:HOCKEY GAME
SUMMARY:Renegades vs Meat Curtains
LOCATION:NHL
DESCRIPTION;ENCODING=QUOTED-PRINTABLE:Easy Street Area=0D=0A2013 Winter=0D=0ADivision 2=0D=0ARenegades vs Meat Curtains
DTEND:20131020T143000
DTSTAMP:20260421T075100
DTSTART:20131020T130000
END:VEVENT
BEGIN:VEVENT
CATEGORIES:HOCKEY GAME
SUMMARY:Renegades at Seals
LOCATION:OLY
DESCRIPTION;ENCODING=QUOTED-PRINTABLE:Easy Street Area=0D=0A2013 Winter=0D=0ADivision 2=0D=0ARenegades at Seals
DTEND:20131027T210000
DTSTAMP:20260421T075100
DTSTART:20131027T193000
END:VEVENT
BEGIN:VEVENT
CATEGORIES:HOCKEY GAME
SUMMARY:Renegades at Sharks
LOCATION:OLY
DESCRIPTION;ENCODING=QUOTED-PRINTABLE:Easy Street Area=0D=0A2013 Winter=0D=0ADivision 2=0D=0ARenegades at Sharks
DTEND:20131103T180000
DTSTAMP:20260421T075100
DTSTART:20131103T163000
END:VEVENT
BEGIN:VEVENT
CATEGORIES:HOCKEY GAME
SUMMARY:Renegades vs Down 2 Puck
LOCATION:NHL
DESCRIPTION;ENCODING=QUOTED-PRINTABLE:Easy Street Area=0D=0A2013 Winter=0D=0ADivision 2=0D=0ARenegades vs Down 2 Puck
DTEND:20131110T191500
DTSTAMP:20260421T075100
DTSTART:20131110T174500
END:VEVENT
BEGIN:VEVENT
CATEGORIES:HOCKEY GAME
SUMMARY:Renegades vs Seals
LOCATION:OLY
DESCRIPTION;ENCODING=QUOTED-PRINTABLE:Easy Street Area=0D=0A2013 Winter=0D=0ADivision 2=0D=0ARenegades vs Seals
DTEND:20131124T193000
DTSTAMP:20260421T075100
DTSTART:20131124T180000
END:VEVENT
BEGIN:VEVENT
CATEGORIES:HOCKEY GAME
SUMMARY:Renegades vs Seals
LOCATION:NHL
DESCRIPTION;ENCODING=QUOTED-PRINTABLE:Easy Street Area=0D=0A2013 Winter=0D=0ADivision 2=0D=0ARenegades vs Seals
DTEND:20131208T190000
DTSTAMP:20260421T075100
DTSTART:20131208T173000
END:VEVENT
BEGIN:VEVENT
CATEGORIES:HOCKEY GAME
SUMMARY:Renegades vs Sharks
LOCATION:NHL
DESCRIPTION;ENCODING=QUOTED-PRINTABLE:Easy Street Area=0D=0A2013 Winter=0D=0ADivision 2=0D=0ARenegades vs Sharks
DTEND:20131215T110000
DTSTAMP:20260421T075100
DTSTART:20131215T093000
END:VEVENT
BEGIN:VEVENT
CATEGORIES:HOCKEY GAME
SUMMARY:Renegades vs Down 2 Puck
LOCATION:OLY
DESCRIPTION;ENCODING=QUOTED-PRINTABLE:Easy Street Area=0D=0A2013 Winter=0D=0ADivision 2=0D=0ARenegades vs Down 2 Puck
DTEND:20131222T223000
DTSTAMP:20260421T075100
DTSTART:20131222T210000
END:VEVENT
BEGIN:VEVENT
CATEGORIES:HOCKEY GAME
SUMMARY:Renegades vs Seals
LOCATION:NHL
DESCRIPTION;ENCODING=QUOTED-PRINTABLE:Easy Street Area=0D=0A2013 Winter=0D=0ADivision 2=0D=0ARenegades vs Seals
DTEND:20140105T233000
DTSTAMP:20260421T075100
DTSTART:20140105T220000
END:VEVENT
BEGIN:VEVENT
CATEGORIES:HOCKEY GAME
SUMMARY:Renegades vs Sharks
LOCATION:NHL
DESCRIPTION;ENCODING=QUOTED-PRINTABLE:Easy Street Area=0D=0A2013 Winter=0D=0ADivision 2=0D=0ARenegades vs Sharks
DTEND:20140119T130000
DTSTAMP:20260421T075100
DTSTART:20140119T113000
END:VEVENT
BEGIN:VEVENT
CATEGORIES:HOCKEY GAME
SUMMARY:Renegades at Meat Curtains
LOCATION:OLY
DESCRIPTION;ENCODING=QUOTED-PRINTABLE:Easy Street Area=0D=0A2013 Winter=0D=0ADivision 2=0D=0ARenegades at Meat Curtains
DTEND:20140126T210000
DTSTAMP:20260421T075100
DTSTART:20140126T193000
END:VEVENT
BEGIN:VEVENT
CATEGORIES:HOCKEY GAME
SUMMARY:Renegades vs Sharks
LOCATION:NHL
DESCRIPTION;ENCODING=QUOTED-PRINTABLE:Easy Street Area=0D=0A2013 Winter=0D=0ADivision 2=0D=0ARenegades vs Sharks
DTEND:20140201T183000
DTSTAMP:20260421T075100
DTSTART:20140201T170000
END:VEVENT
BEGIN:VEVENT
CATEGORIES:HOCKEY GAME
SUMMARY:Renegades at Meat Curtains
LOCATION:OLY
DESCRIPTION;ENCODING=QUOTED-PRINTABLE:Easy Street Area=0D=0A2013 Winter=0D=0ADivision 2=0D=0ARenegades at Meat Curtains
DTEND:20140210T000000
DTSTAMP:20260421T075100
DTSTART:20140209T223000
END:VEVENT
END:VCALENDAR
